Workbook

Sheet DATA INPUT
T1: OFFICIAL RESULTS | AB1: BETFAIR LAY | AD1: RACING ODDS COMPARISON | AK1: SPORTS BEST ODDS AND LINE - EMAIL | AS1: Win
A2: DATE | B2: ANALYST | C2: TIME SENT | D2: EVENT DAY | E2: STATE | F2: LOCATION | G2: SPORT | H2: EVENT | I2: RACE | J2: NO. | K2: SELECTION | L2: UNITS INVESTED | M2: RATED PRICE | N2: BFSP | O2: BET TYPE | Q2: BET TYPE | R2: ODDS | S2: RESULT | T2: UNITS COLLECTED | U2: P/L | V2: CUMULATIVE P/L | W2: CUMULATIVE UNITS INVESTED | X2: POT% | Y2: ROI% | Z2: PROFIT ($100 UNIT) | AA2: BET WIN LOSE | AB2: PRICE | AC2: COMMISION | AD2: EMAIL ODDS | AE2: AVAILABLE ODDS | AF2: BEST FIXED EMAIL SENT | AG2: BEST FIXED CLOSING | AH2: BETFAIR SP | AI2: BOB/BTSP | AJ2: BEST TOTE | AK2: AGENCY | AL2: EMAIL BEST LINE / TOTAL | AM2: EMAIL BEST ODDS | AN2: RESULT | AO2: CLOSING LINE | AP2: CLOSING PINNACLE | AQ2: CLOSING BETFAIR | AR2: BET ADVICE | AS2: EMAIL | AT2: BTSP | AU2: TOP FLUC | AV2: BFSP Converted P&L Less Commission | AW2: BFSP Price Less Commission | AX2: Map | AY2: Resuming | AZ2: Rated Price is higher than BFSP | BA2: PRICE DEDUCTION | BB2: BFSP Profit Before commission | BC2: Race profit before commission | BD2: Race profit after commission | BE2: BFSP Converted P&L Less Commission | BF2: Races | BG2: Wins | BH2: Strike Rate
A3: 46267 | C3: 11.09 | D3: Wed | E3: NSW | H3: Warwick Farm | I3: 2 | J3: 2 | K3: Albert Palais | L3: 0.5 | M3: 11.5 | N3: 11.5 | O3: BFSP | Q3: Win | R3: 10.66 | S3: un | T3: =IF(($AA3="W"),ROUND(($L3*$R3),2),"0.00") -> 0.00 | U3: =BE3 -> -0.5 | V3: =U3 -> -0.5 | W3: =L3 -> 0.5 | X3: =SUM(V3/W3) -> -1 | Y3: =V3/100 -> -0.005 | Z3: =V3*100 -> -50 | AA3: L | AT3: 2.05 | AU3: 2.05 | AV3: =((N3*(L3))-(L3)) -> 5.25 | AW3: =0.92*(N3-1)+1 -> 10.66 | AZ3: =IF(N3>=M3,"Yes","No") -> Yes | BB3: =IF(AA3="W", L3*(N3-1), -L3 ) -> -0.5 | BC3: =SUMIFS( $BB:$BB, $A:$A,$A3, $H:$H,$H3, $I:$I,$I3 ) -> -1.5 | BD3: =IF(BC3>0, BC3*0.92, BC3) -> -1.5 | BE3: =IF( BC3>0, IF( AA3="W", BB3 - (BC3 - BD3), BB3 ), BB3 ) -> -0.5 | BF3: {=SUMPRODUCT((1/COUNTIFS($A$3:$A3,$A$3:$A3,$H$3:$H3,$H$3:$H3,$I$3:$I3,$I$3:$I3)))} -> 1 | BG3: 0 | BH3: =BG3/BF3 -> 0
A4: 46267 | C4: 11.09 | D4: Wed | E4: NSW | H4: Warwick Farm | I4: 2 | J4: 10 | K4: Wonka | L4: 0.5 | M4: 13 | N4: 13 | O4: BFSP | Q4: Win | R4: 12.04 | S4: 3 | T4: =IF(($AA4="W"),ROUND(($L4*$R4),2),"0.00") -> 0.00 | U4: =BE4 -> -0.5 | V4: =V3+U4 -> -1 | W4: =W3+L4 -> 1 | X4: =SUM(V4/W4) -> -1 | Y4: =V4/100 -> -0.01 | Z4: =V4*100 -> -100 | AA4: L | AT4: 6.1 | AU4: 5.5 | AV4: =((N4*(L4))-(L4)) -> 6 | AW4: =0.92*(N4-1)+1 -> 12.04 | AZ4: =IF(N4>=M4,"Yes","No") -> Yes | BB4: =IF(AA4="W", L4*(N4-1), -L4 ) -> -0.5 | BC4: =SUMIFS( $BB:$BB, $A:$A,$A4, $H:$H,$H4, $I:$I,$I4 ) -> -1.5 | BD4: =IF(BC4>0, BC4*0.92, BC4) -> -1.5 | BE4: =IF( BC4>0, IF( AA4="W", BB4 - (BC4 - BD4), BB4 ), BB4 ) -> -0.5 | BF4: {=SUMPRODUCT((1/COUNTIFS($A$3:$A4,$A$3:$A4,$H$3:$H4,$H$3:$H4,$I$3:$I4,$I$3:$I4)))} -> 1 | BG4: 0 | BH4: =BG4/BF4 -> 0
A5: 46267 | C5: 11.09 | D5: Wed | E5: NSW | H5: Warwick Farm | I5: 2 | J5: 16 | K5: Your Colour | L5: 0.5 | M5: 24 | N5: 30.6 | O5: BFSP | Q5: Win | R5: 28.232 | S5: un | T5: =IF(($AA5="W"),ROUND(($L5*$R5),2),"0.00") -> 0.00 | U5: =BE5 -> -0.5 | V5: =V4+U5 -> -1.5 | W5: =W4+L5 -> 1.5 | X5: =SUM(V5/W5) -> -1 | Y5: =V5/100 -> -0.015 | Z5: =V5*100 -> -150 | AA5: L | AT5: 15.4 | AU5: 11 | AV5: =((N5*(L5))-(L5)) -> 14.8 | AW5: =0.92*(N5-1)+1 -> 28.232 | AZ5: =IF(N5>=M5,"Yes","No") -> Yes | BB5: =IF(AA5="W", L5*(N5-1), -L5 ) -> -0.5 | BC5: =SUMIFS( $BB:$BB, $A:$A,$A5, $H:$H,$H5, $I:$I,$I5 ) -> -1.5 | BD5: =IF(BC5>0, BC5*0.92, BC5) -> -1.5 | BE5: =IF( BC5>0, IF( AA5="W", BB5 - (BC5 - BD5), BB5 ), BB5 ) -> -0.5 | BF5: {=SUMPRODUCT((1/COUNTIFS($A$3:$A5,$A$3:$A5,$H$3:$H5,$H$3:$H5,$I$3:$I5,$I$3:$I5)))} -> 1 | BG5: 0 | BH5: =BG5/BF5 -> 0
A6: 46267 | C6: 11.09 | D6: Wed | E6: NSW | H6: Warwick Farm | I6: 3 | J6: 6 | K6: Sunburnt Country | L6: 0.5 | M6: 19.5 | N6: 39 | O6: BFSP | Q6: Win | R6: 35.96 | S6: un | T6: =IF(($AA6="W"),ROUND(($L6*$R6),2),"0.00") -> 0.00 | U6: =BE6 -> -0.5 | V6: =V5+U6 -> -2 | W6: =W5+L6 -> 2 | X6: =SUM(V6/W6) -> -1 | Y6: =V6/100 -> -0.02 | Z6: =V6*100 -> -200 | AA6: L | AT6: 34.8 | AU6: 26 | AV6: =((N6*(L6))-(L6)) -> 19 | AW6: =0.92*(N6-1)+1 -> 35.96 | AZ6: =IF(N6>=M6,"Yes","No") -> Yes | BB6: =IF(AA6="W", L6*(N6-1), -L6 ) -> -0.5 | BC6: =SUMIFS( $BB:$BB, $A:$A,$A6, $H:$H,$H6, $I:$I,$I6 ) -> -1 | BD6: =IF(BC6>0, BC6*0.92, BC6) -> -1 | BE6: =IF( BC6>0, IF( AA6="W", BB6 - (BC6 - BD6), BB6 ), BB6 ) -> -0.5 | BF6: {=SUMPRODUCT((1/COUNTIFS($A$3:$A6,$A$3:$A6,$H$3:$H6,$H$3:$H6,$I$3:$I6,$I$3:$I6)))} -> 2 | BG6: 0 | BH6: =BG6/BF6 -> 0
A7: 46267 | C7: 11.09 | D7: Wed | E7: NSW | H7: Warwick Farm | I7: 3 | J7: 7 | K7: Proxima Centauri | L7: 0.5 | M7: 9.2 | N7: 9.95 | O7: BFSP | Q7: Win | R7: 9.234 | S7: un | T7: =IF(($AA7="W"),ROUND(($L7*$R7),2),"0.00") -> 0.00 | U7: =BE7 -> -0.5 | V7: =V6+U7 -> -2.5 | W7: =W6+L7 -> 2.5 | X7: =SUM(V7/W7) -> -1 | Y7: =V7/100 -> -0.025 | Z7: =V7*100 -> -250 | AA7: L | AT7: 9.9 | AU7: 8.5 | AV7: =((N7*(L7))-(L7)) -> 4.475 | AW7: =0.92*(N7-1)+1 -> 9.234 | AZ7: =IF(N7>=M7,"Yes","No") -> Yes | BB7: =IF(AA7="W", L7*(N7-1), -L7 ) -> -0.5 | BC7: =SUMIFS( $BB:$BB, $A:$A,$A7, $H:$H,$H7, $I:$I,$I7 ) -> -1 | BD7: =IF(BC7>0, BC7*0.92, BC7) -> -1 | BE7: =IF( BC7>0, IF( AA7="W", BB7 - (BC7 - BD7), BB7 ), BB7 ) -> -0.5 | BF7: {=SUMPRODUCT((1/COUNTIFS($A$3:$A7,$A$3:$A7,$H$3:$H7,$H$3:$H7,$I$3:$I7,$I$3:$I7)))} -> 2 | BG7: 0 | BH7: =BG7/BF7 -> 0
A8: 46267 | C8: 11.09 | D8: Wed | E8: NSW | H8: Warwick Farm | I8: 4 | J8: 9 | K8: Motoscafo | L8: 0.5 | M8: 10.5 | N8: 11 | O8: BFSP | Q8: Win | R8: 10.2 | S8: un | T8: =IF(($AA8="W"),ROUND(($L8*$R8),2),"0.00") -> 0.00 | U8: =BE8 -> -0.5 | V8: =V7+U8 -> -3 | W8: =W7+L8 -> 3 | X8: =SUM(V8/W8) -> -1 | Y8: =V8/100 -> -0.03 | Z8: =V8*100 -> -300 | AA8: L | AT8: 11.3 | AU8: 11 | AV8: =((N8*(L8))-(L8)) -> 5 | AW8: =0.92*(N8-1)+1 -> 10.2 | AZ8: =IF(N8>=M8,"Yes","No") -> Yes | BB8: =IF(AA8="W", L8*(N8-1), -L8 ) -> -0.5 | BC8: =SUMIFS( $BB:$BB, $A:$A,$A8, $H:$H,$H8, $I:$I,$I8 ) -> -1 | BD8: =IF(BC8>0, BC8*0.92, BC8) -> -1 | BE8: =IF( BC8>0, IF( AA8="W", BB8 - (BC8 - BD8), BB8 ), BB8 ) -> -0.5 | BF8: {=SUMPRODUCT((1/COUNTIFS($A$3:$A8,$A$3:$A8,$H$3:$H8,$H$3:$H8,$I$3:$I8,$I$3:$I8)))} -> 3 | BG8: 0 | BH8: =BG8/BF8 -> 0
A9: 46267 | C9: 11.09 | D9: Wed | E9: NSW | H9: Warwick Farm | I9: 4 | J9: 11 | K9: Savoonga | L9: 0.5 | M9: 9.4 | N9: 9.4 | O9: BFSP | Q9: Win | R9: 8.728 | S9: un | T9: =IF(($AA9="W"),ROUND(($L9*$R9),2),"0.00") -> 0.00 | U9: =BE9 -> -0.5 | V9: =V8+U9 -> -3.5 | W9: =W8+L9 -> 3.5 | X9: =SUM(V9/W9) -> -1 | Y9: =V9/100 -> -0.035 | Z9: =V9*100 -> -350 | AA9: L | AT9: 8.5 | AU9: 7.5 | AV9: =((N9*(L9))-(L9)) -> 4.2 | AW9: =0.92*(N9-1)+1 -> 8.728 | AZ9: =IF(N9>=M9,"Yes","No") -> Yes | BB9: =IF(AA9="W", L9*(N9-1), -L9 ) -> -0.5 | BC9: =SUMIFS( $BB:$BB, $A:$A,$A9, $H:$H,$H9, $I:$I,$I9 ) -> -1 | BD9: =IF(BC9>0, BC9*0.92, BC9) -> -1 | BE9: =IF( BC9>0, IF( AA9="W", BB9 - (BC9 - BD9), BB9 ), BB9 ) -> -0.5 | BF9: {=SUMPRODUCT((1/COUNTIFS($A$3:$A9,$A$3:$A9,$H$3:$H9,$H$3:$H9,$I$3:$I9,$I$3:$I9)))} -> 3 | BG9: 0 | BH9: =BG9/BF9 -> 0
A10: 46267 | C10: 11.09 | D10: Wed | E10: NSW | H10: Warwick Farm | I10: 5 | J10: 1 | K10: Hellbent On You | L10: 0.5 | M10: 30 | N10: 50.81 | O10: BFSP | Q10: Win | R10: 46.8252 | S10: un | T10: =IF(($AA10="W"),ROUND(($L10*$R10),2),"0.00") -> 0.00 | U10: =BE10 -> -0.5 | V10: =V9+U10 -> -4 | W10: =W9+L10 -> 4 | X10: =SUM(V10/W10) -> -1 | Y10: =V10/100 -> -0.04 | Z10: =V10*100 -> -400 | AA10: L | AT10: 50.5 | AU10: 31 | AV10: =((N10*(L10))-(L10)) -> 24.905 | AW10: =0.92*(N10-1)+1 -> 46.8252 | AZ10: =IF(N10>=M10,"Yes","No") -> Yes | BB10: =IF(AA10="W", L10*(N10-1), -L10 ) -> -0.5 | BC10: =SUMIFS( $BB:$BB, $A:$A,$A10, $H:$H,$H10, $I:$I,$I10 ) -> -1.5 | BD10: =IF(BC10>0, BC10*0.92, BC10) -> -1.5 | BE10: =IF( BC10>0, IF( AA10="W", BB10 - (BC10 - BD10), BB10 ), BB10 ) -> -0.5 | BF10: {=SUMPRODUCT((1/COUNTIFS($A$3:$A10,$A$3:$A10,$H$3:$H10,$H$3:$H10,$I$3:$I10,$I$3:$I10)))} -> 4 | BG10: 0 | BH10: =BG10/BF10 -> 0
A11: 46267 | C11: 11.09 | D11: Wed | E11: NSW | H11: Warwick Farm | I11: 5 | J11: 2 | K11: Burn The Sky | L11: 0.5 | M11: 26 | N11: 26 | O11: BFSP | Q11: Win | R11: 24 | S11: un | T11: =IF(($AA11="W"),ROUND(($L11*$R11),2),"0.00") -> 0.00 | U11: =BE11 -> -0.5 | V11: =V10+U11 -> -4.5 | W11: =W10+L11 -> 4.5 | X11: =SUM(V11/W11) -> -1 | Y11: =V11/100 -> -0.045 | Z11: =V11*100 -> -450 | AA11: L | AT11: 36.7 | AU11: 31 | AV11: =((N11*(L11))-(L11)) -> 12.5 | AW11: =0.92*(N11-1)+1 -> 24 | AZ11: =IF(N11>=M11,"Yes","No") -> Yes | BB11: =IF(AA11="W", L11*(N11-1), -L11 ) -> -0.5 | BC11: =SUMIFS( $BB:$BB, $A:$A,$A11, $H:$H,$H11, $I:$I,$I11 ) -> -1.5 | BD11: =IF(BC11>0, BC11*0.92, BC11) -> -1.5 | BE11: =IF( BC11>0, IF( AA11="W", BB11 - (BC11 - BD11), BB11 ), BB11 ) -> -0.5 | BF11: {=SUMPRODUCT((1/COUNTIFS($A$3:$A11,$A$3:$A11,$H$3:$H11,$H$3:$H11,$I$3:$I11,$I$3:$I11)))} -> 4 | BG11: 0 | BH11: =BG11/BF11 -> 0
A12: 46267 | C12: 11.09 | D12: Wed | E12: NSW | H12: Warwick Farm | I12: 5 | J12: 12 | K12: Thrill Hunter | L12: 0.5 | M12: 14.5 | N12: 27 | O12: BFSP | Q12: Win | R12: 24.92 | S12: un | T12: =IF(($AA12="W"),ROUND(($L12*$R12),2),"0.00") -> 0.00 | U12: =BE12 -> -0.5 | V12: =V11+U12 -> -5 | W12: =W11+L12 -> 5 | X12: =SUM(V12/W12) -> -1 | Y12: =V12/100 -> -0.05 | Z12: =V12*100 -> -500 | AA12: L | AT12: 20.7 | AU12: 18 | AV12: =((N12*(L12))-(L12)) -> 13 | AW12: =0.92*(N12-1)+1 -> 24.92 | AZ12: =IF(N12>=M12,"Yes","No") -> Yes | BB12: =IF(AA12="W", L12*(N12-1), -L12 ) -> -0.5 | BC12: =SUMIFS( $BB:$BB, $A:$A,$A12, $H:$H,$H12, $I:$I,$I12 ) -> -1.5 | BD12: =IF(BC12>0, BC12*0.92, BC12) -> -1.5 | BE12: =IF( BC12>0, IF( AA12="W", BB12 - (BC12 - BD12), BB12 ), BB12 ) -> -0.5 | BF12: {=SUMPRODUCT((1/COUNTIFS($A$3:$A12,$A$3:$A12,$H$3:$H12,$H$3:$H12,$I$3:$I12,$I$3:$I12)))} -> 4 | BG12: 0 | BH12: =BG12/BF12 -> 0
A13: 46267 | C13: 11.09 | D13: Wed | E13: NSW | H13: Warwick Farm | I13: 6 | J13: 3 | K13: Cavalry | L13: 0.5 | M13: 6 | N13: 6.4 | O13: BFSP | Q13: Win | R13: 5.968 | S13: un | T13: =IF(($AA13="W"),ROUND(($L13*$R13),2),"0.00") -> 0.00 | U13: =BE13 -> -0.5 | V13: =V12+U13 -> -5.5 | W13: =W12+L13 -> 5.5 | X13: =SUM(V13/W13) -> -1 | Y13: =V13/100 -> -0.055 | Z13: =V13*100 -> -550 | AA13: L | AT13: 6.6 | AU13: 6 | AV13: =((N13*(L13))-(L13)) -> 2.7 | AW13: =0.92*(N13-1)+1 -> 5.968 | AZ13: =IF(N13>=M13,"Yes","No") -> Yes | BB13: =IF(AA13="W", L13*(N13-1), -L13 ) -> -0.5 | BC13: =SUMIFS( $BB:$BB, $A:$A,$A13, $H:$H,$H13, $I:$I,$I13 ) -> -2 | BD13: =IF(BC13>0, BC13*0.92, BC13) -> -2 | BE13: =IF( BC13>0, IF( AA13="W", BB13 - (BC13 - BD13), BB13 ), BB13 ) -> -0.5 | BF13: {=SUMPRODUCT((1/COUNTIFS($A$3:$A13,$A$3:$A13,$H$3:$H13,$H$3:$H13,$I$3:$I13,$I$3:$I13)))} -> 5 | BG13: 0 | BH13: =BG13/BF13 -> 0
A14: 46267 | C14: 11.09 | D14: Wed | E14: NSW | H14: Warwick Farm | I14: 6 | J14: 4 | K14: Clancy | L14: 0.5 | M14: 9 | N14: 10.5 | O14: BFSP | Q14: Win | R14: 9.74 | S14: un | T14: =IF(($AA14="W"),ROUND(($L14*$R14),2),"0.00") -> 0.00 | U14: =BE14 -> -0.5 | V14: =V13+U14 -> -6 | W14: =W13+L14 -> 6 | X14: =SUM(V14/W14) -> -1 | Y14: =V14/100 -> -0.06 | Z14: =V14*100 -> -600 | AA14: L | AT14: 12.2 | AU14: 9.5 | AV14: =((N14*(L14))-(L14)) -> 4.75 | AW14: =0.92*(N14-1)+1 -> 9.74 | AZ14: =IF(N14>=M14,"Yes","No") -> Yes | BB14: =IF(AA14="W", L14*(N14-1), -L14 ) -> -0.5 | BC14: =SUMIFS( $BB:$BB, $A:$A,$A14, $H:$H,$H14, $I:$I,$I14 ) -> -2 | BD14: =IF(BC14>0, BC14*0.92, BC14) -> -2 | BE14: =IF( BC14>0, IF( AA14="W", BB14 - (BC14 - BD14), BB14 ), BB14 ) -> -0.5 | BF14: {=SUMPRODUCT((1/COUNTIFS($A$3:$A14,$A$3:$A14,$H$3:$H14,$H$3:$H14,$I$3:$I14,$I$3:$I14)))} -> 5 | BG14: 0 | BH14: =BG14/BF14 -> 0
A15: 46267 | C15: 11.09 | D15: Wed | E15: NSW | H15: Warwick Farm | I15: 6 | J15: 10 | K15: Waerea | L15: 0.5 | M15: 10 | N15: 12.61 | O15: BFSP | Q15: Win | R15: 11.6812 | S15: un | T15: =IF(($AA15="W"),ROUND(($L15*$R15),2),"0.00") -> 0.00 | U15: =BE15 -> -0.5 | V15: =V14+U15 -> -6.5 | W15: =W14+L15 -> 6.5 | X15: =SUM(V15/W15) -> -1 | Y15: =V15/100 -> -0.065 | Z15: =V15*100 -> -650 | AA15: L | AT15: 13.9 | AU15: 11 | AV15: =((N15*(L15))-(L15)) -> 5.805 | AW15: =0.92*(N15-1)+1 -> 11.6812 | AZ15: =IF(N15>=M15,"Yes","No") -> Yes | BB15: =IF(AA15="W", L15*(N15-1), -L15 ) -> -0.5 | BC15: =SUMIFS( $BB:$BB, $A:$A,$A15, $H:$H,$H15, $I:$I,$I15 ) -> -2 | BD15: =IF(BC15>0, BC15*0.92, BC15) -> -2 | BE15: =IF( BC15>0, IF( AA15="W", BB15 - (BC15 - BD15), BB15 ), BB15 ) -> -0.5 | BF15: {=SUMPRODUCT((1/COUNTIFS($A$3:$A15,$A$3:$A15,$H$3:$H15,$H$3:$H15,$I$3:$I15,$I$3:$I15)))} -> 5 | BG15: 0 | BH15: =BG15/BF15 -> 0
A16: 46267 | C16: 11.09 | D16: Wed | E16: NSW | H16: Warwick Farm | I16: 6 | J16: 13 | K16: Anthropoid | L16: 0.5 | M16: 9.6 | N16: 10.5 | O16: BFSP | Q16: Win | R16: 9.74 | S16: 3 | T16: =IF(($AA16="W"),ROUND(($L16*$R16),2),"0.00") -> 0.00 | U16: =BE16 -> -0.5 | V16: =V15+U16 -> -7 | W16: =W15+L16 -> 7 | X16: =SUM(V16/W16) -> -1 | Y16: =V16/100 -> -0.07 | Z16: =V16*100 -> -700 | AA16: L | AT16: 10 | AU16: 8.5 | AV16: =((N16*(L16))-(L16)) -> 4.75 | AW16: =0.92*(N16-1)+1 -> 9.74 | AZ16: =IF(N16>=M16,"Yes","No") -> Yes | BB16: =IF(AA16="W", L16*(N16-1), -L16 ) -> -0.5 | BC16: =SUMIFS( $BB:$BB, $A:$A,$A16, $H:$H,$H16, $I:$I,$I16 ) -> -2 | BD16: =IF(BC16>0, BC16*0.92, BC16) -> -2 | BE16: =IF( BC16>0, IF( AA16="W", BB16 - (BC16 - BD16), BB16 ), BB16 ) -> -0.5 | BF16: {=SUMPRODUCT((1/COUNTIFS($A$3:$A16,$A$3:$A16,$H$3:$H16,$H$3:$H16,$I$3:$I16,$I$3:$I16)))} -> 5 | BG16: 0 | BH16: =BG16/BF16 -> 0
A17: 46270 | C17: 11.18 | D17: Sat | E17: QLD | H17: Eagle Farm | I17: 1 | J17: 2 | K17: Mercian | L17: 0.5 | M17: 30 | N17: 46 | O17: BFSP | Q17: Win | R17: 42.4 | S17: un | T17: =IF(($AA17="W"),ROUND(($L17*$R17),2),"0.00") -> 0.00 | U17: =BE17 -> -0.5 | V17: =V16+U17 -> -7.5 | W17: =W16+L17 -> 7.5 | X17: =SUM(V17/W17) -> -1 | Y17: =V17/100 -> -0.075 | Z17: =V17*100 -> -750 | AA17: L | AT17: 31 | AU17: 31 | AV17: =((N17*(L17))-(L17)) -> 22.5 | AW17: =0.92*(N17-1)+1 -> 42.4 | AZ17: =IF(N17>=M17,"Yes","No") -> Yes | BB17: =IF(AA17="W", L17*(N17-1), -L17 ) -> -0.5 | BC17: =SUMIFS( $BB:$BB, $A:$A,$A17, $H:$H,$H17, $I:$I,$I17 ) -> -0.5 | BD17: =IF(BC17>0, BC17*0.92, BC17) -> -0.5 | BE17: =IF( BC17>0, IF( AA17="W", BB17 - (BC17 - BD17), BB17 ), BB17 ) -> -0.5 | BF17: {=SUMPRODUCT((1/COUNTIFS($A$3:$A17,$A$3:$A17,$H$3:$H17,$H$3:$H17,$I$3:$I17,$I$3:$I17)))} -> 6 | BG17: 0 | BH17: =BG17/BF17 -> 0
A18: 46270 | C18: 11.18 | D18: Sat | E18: QLD | H18: Eagle Farm | I18: 2 | J18: 6 | K18: Blakemore Avenue | L18: 0.5 | M18: 15 | N18: 16 | O18: BFSP | Q18: Win | R18: 14.8 | S18: un | T18: =IF(($AA18="W"),ROUND(($L18*$R18),2),"0.00") -> 0.00 | U18: =BE18 -> -0.5 | V18: =V17+U18 -> -8 | W18: =W17+L18 -> 8 | X18: =SUM(V18/W18) -> -1 | Y18: =V18/100 -> -0.08 | Z18: =V18*100 -> -800 | AA18: L | AT18: 13.7 | AU18: 12 | AV18: =((N18*(L18))-(L18)) -> 7.5 | AW18: =0.92*(N18-1)+1 -> 14.8 | AZ18: =IF(N18>=M18,"Yes","No") -> Yes | BB18: =IF(AA18="W", L18*(N18-1), -L18 ) -> -0.5 | BC18: =SUMIFS( $BB:$BB, $A:$A,$A18, $H:$H,$H18, $I:$I,$I18 ) -> -0.5 | BD18: =IF(BC18>0, BC18*0.92, BC18) -> -0.5 | BE18: =IF( BC18>0, IF( AA18="W", BB18 - (BC18 - BD18), BB18 ), BB18 ) -> -0.5 | BF18: {=SUMPRODUCT((1/COUNTIFS($A$3:$A18,$A$3:$A18,$H$3:$H18,$H$3:$H18,$I$3:$I18,$I$3:$I18)))} -> 7 | BG18: 0 | BH18: =BG18/BF18 -> 0
A19: 46270 | C19: 11.18 | D19: Sat | E19: NSW | H19: Randwick | I19: 1 | J19: 11 | K19: Kingston Charm | L19: 0.5 | M19: 36 | N19: 49.37 | O19: BFSP | Q19: Win | R19: 45.5004 | S19: un | T19: =IF(($AA19="W"),ROUND(($L19*$R19),2),"0.00") -> 0.00 | U19: =BE19 -> -0.5 | V19: =V18+U19 -> -8.5 | W19: =W18+L19 -> 8.5 | X19: =SUM(V19/W19) -> -1 | Y19: =V19/100 -> -0.085 | Z19: =V19*100 -> -850 | AA19: L | AT19: 43.1 | AU19: 61 | AV19: =((N19*(L19))-(L19)) -> 24.185 | AW19: =0.92*(N19-1)+1 -> 45.5004 | AZ19: =IF(N19>=M19,"Yes","No") -> Yes | BB19: =IF(AA19="W", L19*(N19-1), -L19 ) -> -0.5 | BC19: =SUMIFS( $BB:$BB, $A:$A,$A19, $H:$H,$H19, $I:$I,$I19 ) -> -0.5 | BD19: =IF(BC19>0, BC19*0.92, BC19) -> -0.5 | BE19: =IF( BC19>0, IF( AA19="W", BB19 - (BC19 - BD19), BB19 ), BB19 ) -> -0.5 | BF19: {=SUMPRODUCT((1/COUNTIFS($A$3:$A19,$A$3:$A19,$H$3:$H19,$H$3:$H19,$I$3:$I19,$I$3:$I19)))} -> 8 | BG19: 0 | BH19: =BG19/BF19 -> 0
A20: 46270 | C20: 11.18 | D20: Sat | E20: NSW | H20: Randwick | I20: 2 | J20: 9 | K20: Royal Exile | L20: 0.5 | M20: 8.2 | N20: 9.54 | O20: BFSP | Q20: Win | R20: 8.8568 | S20: un | T20: =IF(($AA20="W"),ROUND(($L20*$R20),2),"0.00") -> 0.00 | U20: =BE20 -> -0.5 | V20: =V19+U20 -> -9 | W20: =W19+L20 -> 9 | X20: =SUM(V20/W20) -> -1 | Y20: =V20/100 -> -0.09 | Z20: =V20*100 -> -900 | AA20: L | AT20: 9.2 | AU20: 9 | AV20: =((N20*(L20))-(L20)) -> 4.27 | AW20: =0.92*(N20-1)+1 -> 8.8568 | AZ20: =IF(N20>=M20,"Yes","No") -> Yes | BB20: =IF(AA20="W", L20*(N20-1), -L20 ) -> -0.5 | BC20: =SUMIFS( $BB:$BB, $A:$A,$A20, $H:$H,$H20, $I:$I,$I20 ) -> -0.5 | BD20: =IF(BC20>0, BC20*0.92, BC20) -> -0.5 | BE20: =IF( BC20>0, IF( AA20="W", BB20 - (BC20 - BD20), BB20 ), BB20 ) -> -0.5 | BF20: {=SUMPRODUCT((1/COUNTIFS($A$3:$A20,$A$3:$A20,$H$3:$H20,$H$3:$H20,$I$3:$I20,$I$3:$I20)))} -> 9 | BG20: 0 | BH20: =BG20/BF20 -> 0
A21: 46270 | C21: 11.18 | D21: Sat | E21: NSW | H21: Randwick | I21: 3 | J21: 5 | K21: Tequila Baby | L21: 0.5 | M21: 19 | N21: 19.04 | O21: BFSP | Q21: Win | R21: 17.5968 | S21: un | T21: =IF(($AA21="W"),ROUND(($L21*$R21),2),"0.00") -> 0.00 | U21: =BE21 -> -0.5 | V21: =V20+U21 -> -9.5 | W21: =W20+L21 -> 9.5 | X21: =SUM(V21/W21) -> -1 | Y21: =V21/100 -> -0.095 | Z21: =V21*100 -> -950 | AA21: L | AT21: 20.5 | AU21: 18 | AV21: =((N21*(L21))-(L21)) -> 9.02 | AW21: =0.92*(N21-1)+1 -> 17.5968 | AZ21: =IF(N21>=M21,"Yes","No") -> Yes | BB21: =IF(AA21="W", L21*(N21-1), -L21 ) -> -0.5 | BC21: =SUMIFS( $BB:$BB, $A:$A,$A21, $H:$H,$H21, $I:$I,$I21 ) -> -1.5 | BD21: =IF(BC21>0, BC21*0.92, BC21) -> -1.5 | BE21: =IF( BC21>0, IF( AA21="W", BB21 - (BC21 - BD21), BB21 ), BB21 ) -> -0.5 | BF21: {=SUMPRODUCT((1/COUNTIFS($A$3:$A21,$A$3:$A21,$H$3:$H21,$H$3:$H21,$I$3:$I21,$I$3:$I21)))} -> 10 | BG21: 0 | BH21: =BG21/BF21 -> 0
A22: 46270 | C22: 11.18 | D22: Sat | E22: NSW | H22: Randwick | I22: 3 | J22: 6 | K22: Scillato | L22: 0.5 | M22: 8 | N22: 8 | O22: BFSP | Q22: Win | R22: 7.44 | S22: un | T22: =IF(($AA22="W"),ROUND(($L22*$R22),2),"0.00") -> 0.00 | U22: =BE22 -> -0.5 | V22: =V21+U22 -> -10 | W22: =W21+L22 -> 10 | X22: =SUM(V22/W22) -> -1 | Y22: =V22/100 -> -0.1 | Z22: =V22*100 -> -1000 | AA22: L | AT22: 7.9 | AU22: 8 | AV22: =((N22*(L22))-(L22)) -> 3.5 | AW22: =0.92*(N22-1)+1 -> 7.44 | AZ22: =IF(N22>=M22,"Yes","No") -> Yes | BB22: =IF(AA22="W", L22*(N22-1), -L22 ) -> -0.5 | BC22: =SUMIFS( $BB:$BB, $A:$A,$A22, $H:$H,$H22, $I:$I,$I22 ) -> -1.5 | BD22: =IF(BC22>0, BC22*0.92, BC22) -> -1.5 | BE22: =IF( BC22>0, IF( AA22="W", BB22 - (BC22 - BD22), BB22 ), BB22 ) -> -0.5 | BF22: {=SUMPRODUCT((1/COUNTIFS($A$3:$A22,$A$3:$A22,$H$3:$H22,$H$3:$H22,$I$3:$I22,$I$3:$I22)))} -> 10 | BG22: 0 | BH22: =BG22/BF22 -> 0
A23: 46270 | C23: 11.18 | D23: Sat | E23: NSW | H23: Randwick | I23: 3 | J23: 8 | K23: Cosy Corner | L23: 0.5 | M23: 36 | N23: 36 | O23: BFSP | Q23: Win | R23: 33.2 | S23: un | T23: =IF(($AA23="W"),ROUND(($L23*$R23),2),"0.00") -> 0.00 | U23: =BE23 -> -0.5 | V23: =V22+U23 -> -10.5 | W23: =W22+L23 -> 10.5 | X23: =SUM(V23/W23) -> -1 | Y23: =V23/100 -> -0.105 | Z23: =V23*100 -> -1050 | AA23: L | AT23: 38.9 | AU23: 31 | AV23: =((N23*(L23))-(L23)) -> 17.5 | AW23: =0.92*(N23-1)+1 -> 33.2 | AZ23: =IF(N23>=M23,"Yes","No") -> Yes | BB23: =IF(AA23="W", L23*(N23-1), -L23 ) -> -0.5 | BC23: =SUMIFS( $BB:$BB, $A:$A,$A23, $H:$H,$H23, $I:$I,$I23 ) -> -1.5 | BD23: =IF(BC23>0, BC23*0.92, BC23) -> -1.5 | BE23: =IF( BC23>0, IF( AA23="W", BB23 - (BC23 - BD23), BB23 ), BB23 ) -> -0.5 | BF23: {=SUMPRODUCT((1/COUNTIFS($A$3:$A23,$A$3:$A23,$H$3:$H23,$H$3:$H23,$I$3:$I23,$I$3:$I23)))} -> 10 | BG23: 0 | BH23: =BG23/BF23 -> 0
A24: 46270 | C24: 11.18 | D24: Sat | E24: QLD | H24: Eagle Farm | I24: 4 | J24: 6 | K24: Immediate | L24: 0.5 | M24: 12 | N24: 12 | O24: BFSP | Q24: Win | R24: 11.12 | S24: un | T24: =IF(($AA24="W"),ROUND(($L24*$R24),2),"0.00") -> 0.00 | U24: =BE24 -> -0.5 | V24: =V23+U24 -> -11 | W24: =W23+L24 -> 11 | X24: =SUM(V24/W24) -> -1 | Y24: =V24/100 -> -0.11 | Z24: =V24*100 -> -1100 | AA24: L | AT24: 9.7 | AU24: 10 | AV24: =((N24*(L24))-(L24)) -> 5.5 | AW24: =0.92*(N24-1)+1 -> 11.12 | AZ24: =IF(N24>=M24,"Yes","No") -> Yes | BB24: =IF(AA24="W", L24*(N24-1), -L24 ) -> -0.5 | BC24: =SUMIFS( $BB:$BB, $A:$A,$A24, $H:$H,$H24, $I:$I,$I24 ) -> -1.5 | BD24: =IF(BC24>0, BC24*0.92, BC24) -> -1.5 | BE24: =IF( BC24>0, IF( AA24="W", BB24 - (BC24 - BD24), BB24 ), BB24 ) -> -0.5 | BF24: {=SUMPRODUCT((1/COUNTIFS($A$3:$A24,$A$3:$A24,$H$3:$H24,$H$3:$H24,$I$3:$I24,$I$3:$I24)))} -> 11 | BG24: 0 | BH24: =BG24/BF24 -> 0
A25: 46270 | C25: 11.18 | D25: Sat | E25: QLD | H25: Eagle Farm | I25: 4 | J25: 11 | K25: Exuberance | L25: 0.5 | M25: 14.5 | N25: 14.53 | O25: BFSP | Q25: Win | R25: 13.4476 | S25: 4 | T25: =IF(($AA25="W"),ROUND(($L25*$R25),2),"0.00") -> 0.00 | U25: =BE25 -> -0.5 | V25: =V24+U25 -> -11.5 | W25: =W24+L25 -> 11.5 | X25: =SUM(V25/W25) -> -1 | Y25: =V25/100 -> -0.115 | Z25: =V25*100 -> -1150 | AA25: L | AT25: 13.7 | AU25: 13 | AV25: =((N25*(L25))-(L25)) -> 6.765 | AW25: =0.92*(N25-1)+1 -> 13.4476 | AZ25: =IF(N25>=M25,"Yes","No") -> Yes | BB25: =IF(AA25="W", L25*(N25-1), -L25 ) -> -0.5 | BC25: =SUMIFS( $BB:$BB, $A:$A,$A25, $H:$H,$H25, $I:$I,$I25 ) -> -1.5 | BD25: =IF(BC25>0, BC25*0.92, BC25) -> -1.5 | BE25: =IF( BC25>0, IF( AA25="W", BB25 - (BC25 - BD25), BB25 ), BB25 ) -> -0.5 | BF25: {=SUMPRODUCT((1/COUNTIFS($A$3:$A25,$A$3:$A25,$H$3:$H25,$H$3:$H25,$I$3:$I25,$I$3:$I25)))} -> 11 | BG25: 0 | BH25: =BG25/BF25 -> 0
A26: 46270 | C26: 11.18 | D26: Sat | E26: QLD | H26: Eagle Farm | I26: 4 | J26: 14 | K26: She Ours | L26: 0.5 | M26: 10 | N26: 10.52 | O26: BFSP | Q26: Win | R26: 9.7584 | S26: un | T26: =IF(($AA26="W"),ROUND(($L26*$R26),2),"0.00") -> 0.00 | U26: =BE26 -> -0.5 | V26: =V25+U26 -> -12 | W26: =W25+L26 -> 12 | X26: =SUM(V26/W26) -> -1 | Y26: =V26/100 -> -0.12 | Z26: =V26*100 -> -1200 | AA26: L | AT26: 10.4 | AU26: 9.5 | AV26: =((N26*(L26))-(L26)) -> 4.76 | AW26: =0.92*(N26-1)+1 -> 9.7584 | AZ26: =IF(N26>=M26,"Yes","No") -> Yes | BB26: =IF(AA26="W", L26*(N26-1), -L26 ) -> -0.5 | BC26: =SUMIFS( $BB:$BB, $A:$A,$A26, $H:$H,$H26, $I:$I,$I26 ) -> -1.5 | BD26: =IF(BC26>0, BC26*0.92, BC26) -> -1.5 | BE26: =IF( BC26>0, IF( AA26="W", BB26 - (BC26 - BD26), BB26 ), BB26 ) -> -0.5 | BF26: {=SUMPRODUCT((1/COUNTIFS($A$3:$A26,$A$3:$A26,$H$3:$H26,$H$3:$H26,$I$3:$I26,$I$3:$I26)))} -> 11 | BG26: 0 | BH26: =BG26/BF26 -> 0
A27: 46270 | C27: 11.18 | D27: Sat | E27: NSW | H27: Randwick | I27: 4 | J27: 7 | K27: Amplify | L27: 0.5 | M27: 7.2 | N27: 8.72 | O27: BFSP | Q27: Win | R27: 8.1024 | S27: 3 | T27: =IF(($AA27="W"),ROUND(($L27*$R27),2),"0.00") -> 0.00 | U27: =BE27 -> -0.5 | V27: =V26+U27 -> -12.5 | W27: =W26+L27 -> 12.5 | X27: =SUM(V27/W27) -> -1 | Y27: =V27/100 -> -0.125 | Z27: =V27*100 -> -1250 | AA27: L | AT27: 7.5 | AU27: 8.5 | AV27: =((N27*(L27))-(L27)) -> 3.86 | AW27: =0.92*(N27-1)+1 -> 8.1024 | AZ27: =IF(N27>=M27,"Yes","No") -> Yes | BB27: =IF(AA27="W", L27*(N27-1), -L27 ) -> -0.5 | BC27: =SUMIFS( $BB:$BB, $A:$A,$A27, $H:$H,$H27, $I:$I,$I27 ) -> -0.5 | BD27: =IF(BC27>0, BC27*0.92, BC27) -> -0.5 | BE27: =IF( BC27>0, IF( AA27="W", BB27 - (BC27 - BD27), BB27 ), BB27 ) -> -0.5 | BF27: {=SUMPRODUCT((1/COUNTIFS($A$3:$A27,$A$3:$A27,$H$3:$H27,$H$3:$H27,$I$3:$I27,$I$3:$I27)))} -> 12 | BG27: 0 | BH27: =BG27/BF27 -> 0
A28: 46270 | C28: 11.18 | D28: Sat | E28: QLD | H28: Eagle Farm | I28: 5 | J28: 3 | K28: Luton Hoo | L28: 0.5 | M28: 9.2 | N28: 10.5 | O28: BFSP | Q28: Win | R28: 9.74 | S28: un | T28: =IF(($AA28="W"),ROUND(($L28*$R28),2),"0.00") -> 0.00 | U28: =BE28 -> -0.5 | V28: =V27+U28 -> -13 | W28: =W27+L28 -> 13 | X28: =SUM(V28/W28) -> -1 | Y28: =V28/100 -> -0.13 | Z28: =V28*100 -> -1300 | AA28: L | AT28: 9 | AU28: 9 | AV28: =((N28*(L28))-(L28)) -> 4.75 | AW28: =0.92*(N28-1)+1 -> 9.74 | AZ28: =IF(N28>=M28,"Yes","No") -> Yes | BB28: =IF(AA28="W", L28*(N28-1), -L28 ) -> -0.5 | BC28: =SUMIFS( $BB:$BB, $A:$A,$A28, $H:$H,$H28, $I:$I,$I28 ) -> -1 | BD28: =IF(BC28>0, BC28*0.92, BC28) -> -1 | BE28: =IF( BC28>0, IF( AA28="W", BB28 - (BC28 - BD28), BB28 ), BB28 ) -> -0.5 | BF28: {=SUMPRODUCT((1/COUNTIFS($A$3:$A28,$A$3:$A28,$H$3:$H28,$H$3:$H28,$I$3:$I28,$I$3:$I28)))} -> 13 | BG28: 0 | BH28: =BG28/BF28 -> 0
A29: 46270 | C29: 11.18 | D29: Sat | E29: QLD | H29: Eagle Farm | I29: 5 | J29: 12 | K29: Bold Blaze | L29: 0.5 | M29: 30 | N29: 51.07 | O29: BFSP | Q29: Win | R29: 47.0644 | S29: un | T29: =IF(($AA29="W"),ROUND(($L29*$R29),2),"0.00") -> 0.00 | U29: =BE29 -> -0.5 | V29: =V28+U29 -> -13.5 | W29: =W28+L29 -> 13.5 | X29: =SUM(V29/W29) -> -1 | Y29: =V29/100 -> -0.135 | Z29: =V29*100 -> -1350 | AA29: L | AT29: 33.8 | AU29: 31 | AV29: =((N29*(L29))-(L29)) -> 25.035 | AW29: =0.92*(N29-1)+1 -> 47.0644 | AZ29: =IF(N29>=M29,"Yes","No") -> Yes | BB29: =IF(AA29="W", L29*(N29-1), -L29 ) -> -0.5 | BC29: =SUMIFS( $BB:$BB, $A:$A,$A29, $H:$H,$H29, $I:$I,$I29 ) -> -1 | BD29: =IF(BC29>0, BC29*0.92, BC29) -> -1 | BE29: =IF( BC29>0, IF( AA29="W", BB29 - (BC29 - BD29), BB29 ), BB29 ) -> -0.5 | BF29: {=SUMPRODUCT((1/COUNTIFS($A$3:$A29,$A$3:$A29,$H$3:$H29,$H$3:$H29,$I$3:$I29,$I$3:$I29)))} -> 13 | BG29: 0 | BH29: =BG29/BF29 -> 0
A30: 46270 | C30: 11.18 | D30: Sat | E30: NSW | H30: Randwick | I30: 5 | J30: 2 | K30: Bartolf | L30: 0.5 | M30: 15.5 | N30: 16.2 | O30: BFSP | Q30: Win | R30: 14.984 | S30: un | T30: =IF(($AA30="W"),ROUND(($L30*$R30),2),"0.00") -> 0.00 | U30: =BE30 -> -0.5 | V30: =V29+U30 -> -14 | W30: =W29+L30 -> 14 | X30: =SUM(V30/W30) -> -1 | Y30: =V30/100 -> -0.14 | Z30: =V30*100 -> -1400 | AA30: L | AT30: 16 | AU30: 17 | AV30: =((N30*(L30))-(L30)) -> 7.6 | AW30: =0.92*(N30-1)+1 -> 14.984 | AZ30: =IF(N30>=M30,"Yes","No") -> Yes | BB30: =IF(AA30="W", L30*(N30-1), -L30 ) -> -0.5 | BC30: =SUMIFS( $BB:$BB, $A:$A,$A30, $H:$H,$H30, $I:$I,$I30 ) -> -2.5 | BD30: =IF(BC30>0, BC30*0.92, BC30) -> -2.5 | BE30: =IF( BC30>0, IF( AA30="W", BB30 - (BC30 - BD30), BB30 ), BB30 ) -> -0.5 | BF30: {=SUMPRODUCT((1/COUNTIFS($A$3:$A30,$A$3:$A30,$H$3:$H30,$H$3:$H30,$I$3:$I30,$I$3:$I30)))} -> 14 | BG30: 0 | BH30: =BG30/BF30 -> 0
A31: 46270 | C31: 11.18 | D31: Sat | E31: NSW | H31: Randwick | I31: 5 | J31: 9 | K31: Unleeshing | L31: 0.5 | M31: 12 | N31: 18.14 | O31: BFSP | Q31: Win | R31: 16.7688 | S31: 2 | T31: =IF(($AA31="W"),ROUND(($L31*$R31),2),"0.00") -> 0.00 | U31: =BE31 -> -0.5 | V31: =V30+U31 -> -14.5 | W31: =W30+L31 -> 14.5 | X31: =SUM(V31/W31) -> -1 | Y31: =V31/100 -> -0.145 | Z31: =V31*100 -> -1450 | AA31: L | AT31: 17.7 | AU31: 17 | AV31: =((N31*(L31))-(L31)) -> 8.57 | AW31: =0.92*(N31-1)+1 -> 16.7688 | AZ31: =IF(N31>=M31,"Yes","No") -> Yes | BB31: =IF(AA31="W", L31*(N31-1), -L31 ) -> -0.5 | BC31: =SUMIFS( $BB:$BB, $A:$A,$A31, $H:$H,$H31, $I:$I,$I31 ) -> -2.5 | BD31: =IF(BC31>0, BC31*0.92, BC31) -> -2.5 | BE31: =IF( BC31>0, IF( AA31="W", BB31 - (BC31 - BD31), BB31 ), BB31 ) -> -0.5 | BF31: {=SUMPRODUCT((1/COUNTIFS($A$3:$A31,$A$3:$A31,$H$3:$H31,$H$3:$H31,$I$3:$I31,$I$3:$I31)))} -> 14 | BG31: 0 | BH31: =BG31/BF31 -> 0
A32: 46270 | C32: 11.18 | D32: Sat | E32: NSW | H32: Randwick | I32: 5 | J32: 10 | K32: Call Me Gorgeous | L32: 0.5 | M32: 10.5 | N32: 14.84 | O32: BFSP | Q32: Win | R32: 13.7328 | S32: un | T32: =IF(($AA32="W"),ROUND(($L32*$R32),2),"0.00") -> 0.00 | U32: =BE32 -> -0.5 | V32: =V31+U32 -> -15 | W32: =W31+L32 -> 15 | X32: =SUM(V32/W32) -> -1 | Y32: =V32/100 -> -0.15 | Z32: =V32*100 -> -1500 | AA32: L | AT32: 12.7 | AU32: 12 | AV32: =((N32*(L32))-(L32)) -> 6.92 | AW32: =0.92*(N32-1)+1 -> 13.7328 | AZ32: =IF(N32>=M32,"Yes","No") -> Yes | BB32: =IF(AA32="W", L32*(N32-1), -L32 ) -> -0.5 | BC32: =SUMIFS( $BB:$BB, $A:$A,$A32, $H:$H,$H32, $I:$I,$I32 ) -> -2.5 | BD32: =IF(BC32>0, BC32*0.92, BC32) -> -2.5 | BE32: =IF( BC32>0, IF( AA32="W", BB32 - (BC32 - BD32), BB32 ), BB32 ) -> -0.5 | BF32: {=SUMPRODUCT((1/COUNTIFS($A$3:$A32,$A$3:$A32,$H$3:$H32,$H$3:$H32,$I$3:$I32,$I$3:$I32)))} -> 14 | BG32: 0 | BH32: =BG32/BF32 -> 0
A33: 46270 | C33: 11.18 | D33: Sat | E33: NSW | H33: Randwick | I33: 5 | J33: 11 | K33: Burj | L33: 0.5 | M33: 36 | N33: 49.26 | O33: BFSP | Q33: Win | R33: 45.3992 | S33: un | T33: =IF(($AA33="W"),ROUND(($L33*$R33),2),"0.00") -> 0.00 | U33: =BE33 -> -0.5 | V33: =V32+U33 -> -15.5 | W33: =W32+L33 -> 15.5 | X33: =SUM(V33/W33) -> -1 | Y33: =V33/100 -> -0.155 | Z33: =V33*100 -> -1550 | AA33: L | AT33: 47.2 | AU33: 51 | AV33: =((N33*(L33))-(L33)) -> 24.13 | AW33: =0.92*(N33-1)+1 -> 45.3992 | AZ33: =IF(N33>=M33,"Yes","No") -> Yes | BB33: =IF(AA33="W", L33*(N33-1), -L33 ) -> -0.5 | BC33: =SUMIFS( $BB:$BB, $A:$A,$A33, $H:$H,$H33, $I:$I,$I33 ) -> -2.5 | BD33: =IF(BC33>0, BC33*0.92, BC33) -> -2.5 | BE33: =IF( BC33>0, IF( AA33="W", BB33 - (BC33 - BD33), BB33 ), BB33 ) -> -0.5 | BF33: {=SUMPRODUCT((1/COUNTIFS($A$3:$A33,$A$3:$A33,$H$3:$H33,$H$3:$H33,$I$3:$I33,$I$3:$I33)))} -> 14 | BG33: 0 | BH33: =BG33/BF33 -> 0
A34: 46270 | C34: 11.18 | D34: Sat | E34: NSW | H34: Randwick | I34: 5 | J34: 15 | K34: Snack Bar | L34: 0.5 | M34: 29 | N34: 29 | O34: BFSP | Q34: Win | R34: 26.76 | S34: un | T34: =IF(($AA34="W"),ROUND(($L34*$R34),2),"0.00") -> 0.00 | U34: =BE34 -> -0.5 | V34: =V33+U34 -> -16 | W34: =W33+L34 -> 16 | X34: =SUM(V34/W34) -> -1 | Y34: =V34/100 -> -0.16 | Z34: =V34*100 -> -1600 | AA34: L | AT34: 26 | AU34: 26 | AV34: =((N34*(L34))-(L34)) -> 14 | AW34: =0.92*(N34-1)+1 -> 26.76 | AZ34: =IF(N34>=M34,"Yes","No") -> Yes | BB34: =IF(AA34="W", L34*(N34-1), -L34 ) -> -0.5 | BC34: =SUMIFS( $BB:$BB, $A:$A,$A34, $H:$H,$H34, $I:$I,$I34 ) -> -2.5 | BD34: =IF(BC34>0, BC34*0.92, BC34) -> -2.5 | BE34: =IF( BC34>0, IF( AA34="W", BB34 - (BC34 - BD34), BB34 ), BB34 ) -> -0.5 | BF34: {=SUMPRODUCT((1/COUNTIFS($A$3:$A34,$A$3:$A34,$H$3:$H34,$H$3:$H34,$I$3:$I34,$I$3:$I34)))} -> 14 | BG34: 0 | BH34: =BG34/BF34 -> 0
A35: 46270 | C35: 11.18 | D35: Sat | E35: QLD | H35: Eagle Farm | I35: 6 | J35: 9 | K35: Aratiri | L35: 0.5 | M35: 18.5 | N35: 21 | O35: BFSP | Q35: Win | R35: 19.4 | S35: un | T35: =IF(($AA35="W"),ROUND(($L35*$R35),2),"0.00") -> 0.00 | U35: =BE35 -> -0.5 | V35: =V34+U35 -> -16.5 | W35: =W34+L35 -> 16.5 | X35: =SUM(V35/W35) -> -1 | Y35: =V35/100 -> -0.165 | Z35: =V35*100 -> -1650 | AA35: L | AT35: 17 | AU35: 18 | AV35: =((N35*(L35))-(L35)) -> 10 | AW35: =0.92*(N35-1)+1 -> 19.4 | AZ35: =IF(N35>=M35,"Yes","No") -> Yes | BB35: =IF(AA35="W", L35*(N35-1), -L35 ) -> -0.5 | BC35: =SUMIFS( $BB:$BB, $A:$A,$A35, $H:$H,$H35, $I:$I,$I35 ) -> -2 | BD35: =IF(BC35>0, BC35*0.92, BC35) -> -2 | BE35: =IF( BC35>0, IF( AA35="W", BB35 - (BC35 - BD35), BB35 ), BB35 ) -> -0.5 | BF35: {=SUMPRODUCT((1/COUNTIFS($A$3:$A35,$A$3:$A35,$H$3:$H35,$H$3:$H35,$I$3:$I35,$I$3:$I35)))} -> 15 | BG35: 0 | BH35: =BG35/BF35 -> 0
A36: 46270 | C36: 11.18 | D36: Sat | E36: QLD | H36: Eagle Farm | I36: 6 | J36: 10 | K36: Riez Souvent | L36: 0.5 | M36: 9.8 | N36: 13.7 | O36: BFSP | Q36: Win | R36: 12.684 | S36: un | T36: =IF(($AA36="W"),ROUND(($L36*$R36),2),"0.00") -> 0.00 | U36: =BE36 -> -0.5 | V36: =V35+U36 -> -17 | W36: =W35+L36 -> 17 | X36: =SUM(V36/W36) -> -1 | Y36: =V36/100 -> -0.17 | Z36: =V36*100 -> -1700 | AA36: L | AT36: 10.6 | AU36: 10 | AV36: =((N36*(L36))-(L36)) -> 6.35 | AW36: =0.92*(N36-1)+1 -> 12.684 | AZ36: =IF(N36>=M36,"Yes","No") -> Yes | BB36: =IF(AA36="W", L36*(N36-1), -L36 ) -> -0.5 | BC36: =SUMIFS( $BB:$BB, $A:$A,$A36, $H:$H,$H36, $I:$I,$I36 ) -> -2 | BD36: =IF(BC36>0, BC36*0.92, BC36) -> -2 | BE36: =IF( BC36>0, IF( AA36="W", BB36 - (BC36 - BD36), BB36 ), BB36 ) -> -0.5 | BF36: {=SUMPRODUCT((1/COUNTIFS($A$3:$A36,$A$3:$A36,$H$3:$H36,$H$3:$H36,$I$3:$I36,$I$3:$I36)))} -> 15 | BG36: 0 | BH36: =BG36/BF36 -> 0
A37: 46270 | C37: 11.18 | D37: Sat | E37: QLD | H37: Eagle Farm | I37: 6 | J37: 11 | K37: Rochedale Hero | L37: 0.5 | M37: 12.5 | N37: 18 | O37: BFSP | Q37: Win | R37: 16.64 | S37: 3 | T37: =IF(($AA37="W"),ROUND(($L37*$R37),2),"0.00") -> 0.00 | U37: =BE37 -> -0.5 | V37: =V36+U37 -> -17.5 | W37: =W36+L37 -> 17.5 | X37: =SUM(V37/W37) -> -1 | Y37: =V37/100 -> -0.175 | Z37: =V37*100 -> -1750 | AA37: L | AT37: 15.4 | AU37: 13 | AV37: =((N37*(L37))-(L37)) -> 8.5 | AW37: =0.92*(N37-1)+1 -> 16.64 | AZ37: =IF(N37>=M37,"Yes","No") -> Yes | BB37: =IF(AA37="W", L37*(N37-1), -L37 ) -> -0.5 | BC37: =SUMIFS( $BB:$BB, $A:$A,$A37, $H:$H,$H37, $I:$I,$I37 ) -> -2 | BD37: =IF(BC37>0, BC37*0.92, BC37) -> -2 | BE37: =IF( BC37>0, IF( AA37="W", BB37 - (BC37 - BD37), BB37 ), BB37 ) -> -0.5 | BF37: {=SUMPRODUCT((1/COUNTIFS($A$3:$A37,$A$3:$A37,$H$3:$H37,$H$3:$H37,$I$3:$I37,$I$3:$I37)))} -> 15 | BG37: 0 | BH37: =BG37/BF37 -> 0
A38: 46270 | C38: 11.18 | D38: Sat | E38: QLD | H38: Eagle Farm | I38: 6 | J38: 19 | K38: Rosa Kiss | L38: 0.5 | M38: 12 | N38: 13 | O38: BFSP | Q38: Win | R38: 12.04 | S38: un | T38: =IF(($AA38="W"),ROUND(($L38*$R38),2),"0.00") -> 0.00 | U38: =BE38 -> -0.5 | V38: =V37+U38 -> -18 | W38: =W37+L38 -> 18 | X38: =SUM(V38/W38) -> -1 | Y38: =V38/100 -> -0.18 | Z38: =V38*100 -> -1800 | AA38: L | AT38: 10.8 | AU38: 9.5 | AV38: =((N38*(L38))-(L38)) -> 6 | AW38: =0.92*(N38-1)+1 -> 12.04 | AZ38: =IF(N38>=M38,"Yes","No") -> Yes | BB38: =IF(AA38="W", L38*(N38-1), -L38 ) -> -0.5 | BC38: =SUMIFS( $BB:$BB, $A:$A,$A38, $H:$H,$H38, $I:$I,$I38 ) -> -2 | BD38: =IF(BC38>0, BC38*0.92, BC38) -> -2 | BE38: =IF( BC38>0, IF( AA38="W", BB38 - (BC38 - BD38), BB38 ), BB38 ) -> -0.5 | BF38: {=SUMPRODUCT((1/COUNTIFS($A$3:$A38,$A$3:$A38,$H$3:$H38,$H$3:$H38,$I$3:$I38,$I$3:$I38)))} -> 15 | BG38: 0 | BH38: =BG38/BF38 -> 0
A39: 46270 | C39: 11.18 | D39: Sat | E39: NSW | H39: Randwick | I39: 6 | J39: 4 | K39: Cherry Bomshell | L39: 0.5 | M39: 18 | N39: 44.06 | O39: BFSP | Q39: Win | R39: 40.6152 | S39: 4 | T39: =IF(($AA39="W"),ROUND(($L39*$R39),2),"0.00") -> 0.00 | U39: =BE39 -> -0.5 | V39: =V38+U39 -> -18.5 | W39: =W38+L39 -> 18.5 | X39: =SUM(V39/W39) -> -1 | Y39: =V39/100 -> -0.185 | Z39: =V39*100 -> -1850 | AA39: L | AT39: 26 | AU39: 26 | AV39: =((N39*(L39))-(L39)) -> 21.53 | AW39: =0.92*(N39-1)+1 -> 40.6152 | AZ39: =IF(N39>=M39,"Yes","No") -> Yes | BB39: =IF(AA39="W", L39*(N39-1), -L39 ) -> -0.5 | BC39: =SUMIFS( $BB:$BB, $A:$A,$A39, $H:$H,$H39, $I:$I,$I39 ) -> -1 | BD39: =IF(BC39>0, BC39*0.92, BC39) -> -1 | BE39: =IF( BC39>0, IF( AA39="W", BB39 - (BC39 - BD39), BB39 ), BB39 ) -> -0.5 | BF39: {=SUMPRODUCT((1/COUNTIFS($A$3:$A39,$A$3:$A39,$H$3:$H39,$H$3:$H39,$I$3:$I39,$I$3:$I39)))} -> 16 | BG39: 0 | BH39: =BG39/BF39 -> 0
A40: 46270 | C40: 11.18 | D40: Sat | E40: NSW | H40: Randwick | I40: 6 | J40: 7 | K40: Screen Icon | L40: 0.5 | M40: 29 | N40: 44.83 | O40: BFSP | Q40: Win | R40: 41.3236 | S40: un | T40: =IF(($AA40="W"),ROUND(($L40*$R40),2),"0.00") -> 0.00 | U40: =BE40 -> -0.5 | V40: =V39+U40 -> -19 | W40: =W39+L40 -> 19 | X40: =SUM(V40/W40) -> -1 | Y40: =V40/100 -> -0.19 | Z40: =V40*100 -> -1900 | AA40: L | AT40: 41.7 | AU40: 41 | AV40: =((N40*(L40))-(L40)) -> 21.915 | AW40: =0.92*(N40-1)+1 -> 41.3236 | AZ40: =IF(N40>=M40,"Yes","No") -> Yes | BB40: =IF(AA40="W", L40*(N40-1), -L40 ) -> -0.5 | BC40: =SUMIFS( $BB:$BB, $A:$A,$A40, $H:$H,$H40, $I:$I,$I40 ) -> -1 | BD40: =IF(BC40>0, BC40*0.92, BC40) -> -1 | BE40: =IF( BC40>0, IF( AA40="W", BB40 - (BC40 - BD40), BB40 ), BB40 ) -> -0.5 | BF40: {=SUMPRODUCT((1/COUNTIFS($A$3:$A40,$A$3:$A40,$H$3:$H40,$H$3:$H40,$I$3:$I40,$I$3:$I40)))} -> 16 | BG40: 0 | BH40: =BG40/BF40 -> 0
...

Sheet Sheet2
A1: Date | D1: Race No. | E1: Runner | F1: Horse | G1: Rated Price | H1: Units | I1: BFSP | J1: BFSP Higher than Rated Price
A2: 46267 | D2: 1 | E2: 7 | F2: Sequinned | G2: 6 | H2: 0.5 | I2: 4.82 | J2: =IF(I2>=G2,"Yes","No") -> No
A3: 46267 | D3: 2 | E3: 2 | F3: Albert Palais | G3: 11.5 | H3: 0.5 | I3: 11.5 | J3: =IF(I3>=G3,"Yes","No") -> Yes
A4: 46267 | D4: 2 | E4: 10 | F4: Wonka | G4: 13 | H4: 0.5 | I4: 13 | J4: =IF(I4>=G4,"Yes","No") -> Yes
A5: 46267 | D5: 2 | E5: 14 | F5: Sumac | G5: 22 | H5: 0.5 | I5: 14.36 | J5: =IF(I5>=G5,"Yes","No") -> No
A6: 46267 | D6: 2 | E6: 16 | F6: Your Colour | G6: 24 | H6: 0.5 | I6: 30.6 | J6: =IF(I6>=G6,"Yes","No") -> Yes
A7: 46267 | D7: 2 | E7: 17 | F7: Moonlit Wings | G7: 26 | H7: 0.5 | I7: 25 | J7: =IF(I7>=G7,"Yes","No") -> No
A8: 46267 | D8: 3 | E8: 4 | F8: County Kilkenny | G8: 11.5 | H8: 0.5 | I8: 9.2 | J8: =IF(I8>=G8,"Yes","No") -> No
A9: 46267 | D9: 3 | E9: 6 | F9: Sunburnt Country | G9: 19.5 | H9: 0.5 | I9: 39 | J9: =IF(I9>=G9,"Yes","No") -> Yes
A10: 46267 | D10: 3 | E10: 7 | F10: Proxima Centauri | G10: 9.2 | H10: 0.5 | I10: 9.95 | J10: =IF(I10>=G10,"Yes","No") -> Yes
A11: 46267 | D11: 4 | E11: 2 | F11: Natural Ruler | G11: 14 | H11: 0.5 | I11: 11.01 | J11: =IF(I11>=G11,"Yes","No") -> No
A12: 46267 | D12: 4 | E12: 4 | F12: Winston Hills | G12: 22 | H12: 0.5 | I12: 17 | J12: =IF(I12>=G12,"Yes","No") -> No
A13: 46267 | D13: 4 | E13: 5 | F13: Storm Season | G13: 9.4 | H13: 0.5 | I13: 6.38 | J13: =IF(I13>=G13,"Yes","No") -> No
... A30: 46267 | D30: 7 | E30: 14 | F30: Beau Bandit | G30: 10.5 | H30: 0.5 | I30: 5.84 | J30: =IF(I30>=G30,"Yes","No") -> No
A31: 46270 | B31: QLD | C31: Eagle Farm | D31: 1 | E31: 2 | F31: Mercian | G31: 30 | H31: 0.5 | I31: 46 | J31: =IF(I31>=G31,"Yes","No") -> Yes
A32: 46270 | B32: QLD | C32: Eagle Farm | D32: 1 | E32: 4 | F32: Gambler | G32: 24 | H32: 0.5 | I32: 17.38 | J32: =IF(I32>=G32,"Yes","No") -> No
A33: 46270 | B33: QLD | C33: Eagle Farm | D33: 1 | E33: 11 | F33: Get Ready Lass | G33: 11 | H33: 0.5 | I33: 9.03 | J33: =IF(I33>=G33,"Yes","No") -> No
A34: 46270 | B34: NSW | C34: Randwick | D34: 1 | E34: 5 | F34: Barrengarry | G34: 6.6 | H34: 0.5 | I34: 6 | J34: =IF(I34>=G34,"Yes","No") -> No
A35: 46270 | B35: NSW | C35: Randwick | D35: 1 | E35: 11 | F35: Kingston Charm | G35: 36 | H35: 0.5 | I35: 49.37 | J35: =IF(I35>=G35,"Yes","No") -> Yes
A36: 46270 | B36: NSW | C36: Randwick | D36: 1 | E36: 16 | F36: Vexxy | G36: 12.5 | H36: 0.5 | I36: 12.37 | J36: =IF(I36>=G36,"Yes","No") -> No
A37: 46270 | B37: QLD | C37: Eagle Farm | D37: 2 | E37: 6 | F37: Blakemore Avenue | G37: 15 | H37: 0.5 | I37: 16 | J37: =IF(I37>=G37,"Yes","No") -> Yes
A38: 46270 | B38: NSW | C38: Randwick | D38: 2 | E38: 6 | F38: Nimble Star | G38: 32 | H38: 0.5 | I38: 28 | J38: =IF(I38>=G38,"Yes","No") -> No
A39: 46270 | B39: NSW | C39: Randwick | D39: 2 | E39: 9 | F39: Royal Exile | G39: 8.2 | H39: 0.5 | I39: 9.54 | J39: =IF(I39>=G39,"Yes","No") -> Yes
A40: 46270 | B40: NSW | C40: Randwick | D40: 2 | E40: 12 | F40: Ready To Rush | G40: 26 | H40: 0.5 | I40: 18.23 | J40: =IF(I40>=G40,"Yes","No") -> No
A41: 46270 | B41: NSW | C41: Randwick | D41: 2 | E41: 17 | F41: Andrea | G41: 17 | H41: 0.5 | I41: 16 | J41: =IF(I41>=G41,"Yes","No") -> No
A42: 46270 | B42: QLD | C42: Eagle Farm | D42: 3 | E42: 1 | F42: Tapildoodledo | G42: 23 | H42: 0.5 | I42: 18.48 | J42: =IF(I42>=G42,"Yes","No") -> No
... A256: 46291 | B256: NSW | C256: Rosehill | D256: 10 | E256: 17 | F256: Lull | G256: 18.5 | H256: 0.5 | I256: 18.5 | J256: =IF(I256>=G256,"Yes","No") -> Yes
A257: 46295 | B257: QLD | C257: Doomben | D257: 1 | E257: 7 | F257: Dun Darte Cheap | G257: 15 | H257: 0.5 | I257: 15 | J257: =IF(I257>=G257,"Yes","No") -> Yes | K257: Win
A258: 46295 | B258: QLD | C258: Doomben | D258: 1 | E258: 7 | F258: Dun Darte Cheap | G258: 3.95 | H258: 0.2 | I258: 3.55 | J258: =IF(I258>=G258,"Yes","No") -> No | K258: Place
A259: 46295 | B259: QLD | C259: Doomben | D259: 1 | E259: 8 | F259: Network | G259: 10.5 | H259: 0.5 | I259: 11.63 | J259: =IF(I259>=G259,"Yes","No") -> Yes | K259: Win
A260: 46295 | B260: QLD | C260: Doomben | D260: 1 | E260: 8 | F260: Network | G260: 2.82 | H260: 0.2 | I260: 2.82 | J260: =IF(I260>=G260,"Yes","No") -> Yes | K260: Place
A261: 46295 | B261: QLD | C261: Doomben | D261: 2 | E261: 2 | F261: Deemee | G261: 25 | H261: 0.5 | I261: 22.6 | J261: =IF(I261>=G261,"Yes","No") -> No | K261: Win
A262: 46295 | B262: QLD | C262: Doomben | D262: 2 | E262: 6 | F262: Ayasaki | G262: 13 | H262: 0.5 | I262: 13.42 | J262: =IF(I262>=G262,"Yes","No") -> Yes | K262: Win
A263: 46295 | B263: QLD | C263: Doomben | D263: 2 | E263: 6 | F263: Ayasaki | G263: 5.9 | H263: 0.2 | I263: 5.6 | J263: =IF(I263>=G263,"Yes","No") -> No | K263: Place
A264: 46295 | B264: QLD | C264: Doomben | D264: 3 | E264: 2 | F264: Vixenette | G264: 9 | H264: 0.5 | I264: 23 | J264: =IF(I264>=G264,"Yes","No") -> Yes | K264: Win
A265: 46295 | B265: QLD | C265: Doomben | D265: 3 | E265: 2 | F265: Vixenette | G265: 2.06 | H265: 0.2 | I265: 3 | J265: =IF(I265>=G265,"Yes","No") -> Yes | K265: Place
A266: 46295 | B266: QLD | C266: Doomben | D266: 3 | E266: 7 | F266: Sir Beveridge | G266: 15 | H266: 0.5 | I266: 14.5 | J266: =IF(I266>=G266,"Yes","No") -> No | K266: Win
A267: 46295 | B267: QLD | C267: Doomben | D267: 3 | E267: 7 | F267: Sir Beveridge | G267: 3.4 | H267: 0.2 | I267: 2.46 | J267: =IF(I267>=G267,"Yes","No") -> No | K267: Place
A268: 46295 | B268: NSW | C268: Rosehill | D268: 3 | E268: 3 | F268: Oakfield Utah | G268: 14 | H268: 0.5 | I268: 15.46 | J268: =IF(I268>=G268,"Yes","No") -> Yes | K268: Win
... A567: 46326 | B567: QLD | C567: Doomben | D567: 10 | E567: 11 | F567: Chief In Charge | G567: 10 | H567: 0.5 | I567: 18 | J567: =IF(I567>=G567,"Yes","No") -> Yes | K567: Win

Sheet Analysis
A1: Track | B1: Units Invested | C1: Units Collected (Net) | D1: Profit (Net) | E1: POT% | F1: Rated Price | G1: 1-1.99 | H1: 2-2.99 | I1: 3-3.99 | J1: 4-4.99 | K1: 5-5.99 | L1: 6-6.99 | M1: 7-7.99 | N1: 8-8.99 | O1: 9-9.99 | P1: 10-19.99 | Q1: 20-29.99 | R1: 30-39.99 | S1: 40-49.99 | T1: 50+ | U1: Rated Price POT% | V1: 1-1.99 | W1: 2-2.99 | X1: 3-3.99 | Y1: 4-4.99 | Z1: 5-5.99 | AA1: 6-6.99 | AB1: 7-7.99 | AC1: 8-8.99 | AD1: 9-9.99 | AE1: 10-19.99 | AF1: 20-29.99 | AG1: 30-39.99 | AH1: 40-49.99 | AI1: 50+
A2: Canterbury | B2: {=SUMPRODUCT((TRIM('DATA INPUT'!$H$3:$H$8999)=$A2)*'DATA INPUT'!$L$3:$L$8999)} -> 2.5 | C2: =B2+D2 -> 0 | D2: {=SUMPRODUCT((TRIM('DATA INPUT'!$H$3:$H$8999)=$A2)*'DATA INPUT'!$U$3:$U$8999)} -> -2.5 | E2: =IFERROR(D2/B2,0) -> -1 | G2: {=SUMPRODUCT((TRIM('DATA INPUT'!$H$3:$H$8999)=$A2)*('DATA INPUT'!$M$3:$M$8999>=1)*('DATA INPUT'!$M$3:$M$8999<2)*'DATA INPUT'!$U$3:$U$8999)} -> 0 | H2: {=SUMPRODUCT((TRIM('DATA INPUT'!$H$3:$H$8999)=$A2)*('DATA INPUT'!$M$3:$M$8999>=2)*('DATA INPUT'!$M$3:$M$8999<3)*'DATA INPUT'!$U$3:$U$8999)} -> 0 | I2: {=SUMPRODUCT((TRIM('DATA INPUT'!$H$3:$H$8999)=$A2)*('DATA INPUT'!$M$3:$M$8999>=3)*('DATA INPUT'!$M$3:$M$8999<4)*'DATA INPUT'!$U$3:$U$8999)} -> 0 | J2: {=SUMPRODUCT((TRIM('DATA INPUT'!$H$3:$H$8999)=$A2)*('DATA INPUT'!$M$3:$M$8999>=4)*('DATA INPUT'!$M$3:$M$8999<5)*'DATA INPUT'!$U$3:$U$8999)} -> 0 | K2: {=SUMPRODUCT((TRIM('DATA INPUT'!$H$3:$H$8999)=$A2)*('DATA INPUT'!$M$3:$M$8999>=5)*('DATA INPUT'!$M$3:$M$8999<6)*'DATA INPUT'!$U$3:$U$8999)} -> 0 | L2: {=SUMPRODUCT((TRIM('DATA INPUT'!$H$3:$H$8999)=$A2)*('DATA INPUT'!$M$3:$M$8999>=6)*('DATA INPUT'!$M$3:$M$8999<7)*'DATA INPUT'!$U$3:$U$8999)} -> 0 | M2: {=SUMPRODUCT((TRIM('DATA INPUT'!$H$3:$H$8999)=$A2)*('DATA INPUT'!$M$3:$M$8999>=7)*('DATA INPUT'!$M$3:$M$8999<8)*'DATA INPUT'!$U$3:$U$8999)} -> 0 | N2: {=SUMPRODUCT((TRIM('DATA INPUT'!$H$3:$H$8999)=$A2)*('DATA INPUT'!$M$3:$M$8999>=8)*('DATA INPUT'!$M$3:$M$8999<9)*'DATA INPUT'!$U$3:$U$8999)} -> 0 | O2: {=SUMPRODUCT((TRIM('DATA INPUT'!$H$3:$H$8999)=$A2)*('DATA INPUT'!$M$3:$M$8999>=9)*('DATA INPUT'!$M$3:$M$8999<10)*'DATA INPUT'!$U$3:$U$8999)} -> -0.5 | P2: {=SUMPRODUCT((TRIM('DATA INPUT'!$H$3:$H$8999)=$A2)*('DATA INPUT'!$M$3:$M$8999>=10)*('DATA INPUT'!$M$3:$M$8999<20)*'DATA INPUT'!$U$3:$U$8999)} -> -1.5 | Q2: {=SUMPRODUCT((TRIM('DATA INPUT'!$H$3:$H$8999)=$A2)*('DATA INPUT'!$M$3:$M$8999>=20)*('DATA INPUT'!$M$3:$M$8999<30)*'DATA INPUT'!$U$3:$U$8999)} -> -0.5 | R2: {=SUMPRODUCT((TRIM('DATA INPUT'!$H$3:$H$8999)=$A2)*('DATA INPUT'!$M$3:$M$8999>=30)*('DATA INPUT'!$M$3:$M$8999<40)*'DATA INPUT'!$U$3:$U$8999)} -> 0 | S2: {=SUMPRODUCT((TRIM('DATA INPUT'!$H$3:$H$8999)=$A2)*('DATA INPUT'!$M$3:$M$8999>=40)*('DATA INPUT'!$M$3:$M$8999<50)*'DATA INPUT'!$U$3:$U$8999)} -> 0 | T2: {=SUMPRODUCT((TRIM('DATA INPUT'!$H$3:$H$8999)=$A2)*('DATA INPUT'!$M$3:$M$8999>=50)*'DATA INPUT'!$U$3:$U$8999)} -> 0 | V2: {=IFERROR(SUMPRODUCT((TRIM('DATA INPUT'!$H$3:$H$8999)=$A2)*('DATA INPUT'!$M$3:$M$8999>=1)*('DATA INPUT'!$M$3:$M$8999<2)*'DATA INPUT'!$U$3:$U$8999)/SUMPRODUCT((TRIM('DATA INPUT'!$H$3:$H$8999)=$A2)*('DATA INPUT'!$M$3:$M$8999>=1)*('DATA INPUT'!$M$3:$M$8999<2)*'DATA INPUT'!$L$3:$L$8999),0)} -> 0 | W2: {=IFERROR(SUMPRODUCT((TRIM('DATA INPUT'!$H$3:$H$8999)=$A2)*('DATA INPUT'!$M$3:$M$8999>=2)*('DATA INPUT'!$M$3:$M$8999<3)*'DATA INPUT'!$U$3:$U$8999)/SUMPRODUCT((TRIM('DATA INPUT'!$H$3:$H$8999)=$A2)*('DATA INPUT'!$M$3:$M$8999>=2)*('DATA INPUT'!$M$3:$M$8999<3)*'DATA INPUT'!$L$3:$L$8999),0)} -> 0 | X2: {=IFERROR(SUMPRODUCT((TRIM('DATA INPUT'!$H$3:$H$8999)=$A2)*('DATA INPUT'!$M$3:$M$8999>=3)*('DATA INPUT'!$M$3:$M$8999<4)*'DATA INPUT'!$U$3:$U$8999)/SUMPRODUCT((TRIM('DATA INPUT'!$H$3:$H$8999)=$A2)*('DATA INPUT'!$M$3:$M$8999>=3)*('DATA INPUT'!$M$3:$M$8999<4)*'DATA INPUT'!$L$3:$L$8999),0)} -> 0 | Y2: {=IFERROR(SUMPRODUCT((TRIM('DATA INPUT'!$H$3:$H$8999)=$A2)*('DATA INPUT'!$M$3:$M$8999>=4)*('DATA INPUT'!$M$3:$M$8999<5)*'DATA INPUT'!$U$3:$U$8999)/SUMPRODUCT((TRIM('DATA INPUT'!$H$3:$H$8999)=$A2)*('DATA INPUT'!$M$3:$M$8999>=4)*('DATA INPUT'!$M$3:$M$8999<5)*'DATA INPUT'!$L$3:$L$8999),0)} -> 0 | Z2: {=IFERROR(SUMPRODUCT((TRIM('DATA INPUT'!$H$3:$H$8999)=$A2)*('DATA INPUT'!$M$3:$M$8999>=5)*('DATA INPUT'!$M$3:$M$8999<6)*'DATA INPUT'!$U$3:$U$8999)/SUMPRODUCT((TRIM('DATA INPUT'!$H$3:$H$8999)=$A2)*('DATA INPUT'!$M$3:$M$8999>=5)*('DATA INPUT'!$M$3:$M$8999<6)*'DATA INPUT'!$L$3:$L$8999),0)} -> 0 | AA2: {=IFERROR(SUMPRODUCT((TRIM('DATA INPUT'!$H$3:$H$8999)=$A2)*('DATA INPUT'!$M$3:$M$8999>=6)*('DATA INPUT'!$M$3:$M$8999<7)*'DATA INPUT'!$U$3:$U$8999)/SUMPRODUCT((TRIM('DATA INPUT'!$H$3:$H$8999)=$A2)*('DATA INPUT'!$M$3:$M$8999>=6)*('DATA INPUT'!$M$3:$M$8999<7)*'DATA INPUT'!$L$3:$L$8999),0)} -> 0 | AB2: {=IFERROR(SUMPRODUCT((TRIM('DATA INPUT'!$H$3:$H$8999)=$A2)*('DATA INPUT'!$M$3:$M$8999>=7)*('DATA INPUT'!$M$3:$M$8999<8)*'DATA INPUT'!$U$3:$U$8999)/SUMPRODUCT((TRIM('DATA INPUT'!$H$3:$H$8999)=$A2)*('DATA INPUT'!$M$3:$M$8999>=7)*('DATA INPUT'!$M$3:$M$8999<8)*'DATA INPUT'!$L$3:$L$8999),0)} -> 0 | AC2: {=IFERROR(SUMPRODUCT((TRIM('DATA INPUT'!$H$3:$H$8999)=$A2)*('DATA INPUT'!$M$3:$M$8999>=8)*('DATA INPUT'!$M$3:$M$8999<9)*'DATA INPUT'!$U$3:$U$8999)/SUMPRODUCT((TRIM('DATA INPUT'!$H$3:$H$8999)=$A2)*('DATA INPUT'!$M$3:$M$8999>=8)*('DATA INPUT'!$M$3:$M$8999<9)*'DATA INPUT'!$L$3:$L$8999),0)} -> 0 | AD2: {=IFERROR(SUMPRODUCT((TRIM('DATA INPUT'!$H$3:$H$8999)=$A2)*('DATA INPUT'!$M$3:$M$8999>=9)*('DATA INPUT'!$M$3:$M$8999<10)*'DATA INPUT'!$U$3:$U$8999)/SUMPRODUCT((TRIM('DATA INPUT'!$H$3:$H$8999)=$A2)*('DATA INPUT'!$M$3:$M$8999>=9)*('DATA INPUT'!$M$3:$M$8999<10)*'DATA INPUT'!$L$3:$L$8999),0)} -> -1 | AE2: {=IFERROR(SUMPRODUCT((TRIM('DATA INPUT'!$H$3:$H$8999)=$A2)*('DATA INPUT'!$M$3:$M$8999>=10)*('DATA INPUT'!$M$3:$M$8999<20)*'DATA INPUT'!$U$3:$U$8999)/SUMPRODUCT((TRIM('DATA INPUT'!$H$3:$H$8999)=$A2)*('DATA INPUT'!$M$3:$M$8999>=10)*('DATA INPUT'!$M$3:$M$8999<20)*'DATA INPUT'!$L$3:$L$8999),0)} -> -1 | AF2: {=IFERROR(SUMPRODUCT((TRIM('DATA INPUT'!$H$3:$H$8999)=$A2)*('DATA INPUT'!$M$3:$M$8999>=20)*('DATA INPUT'!$M$3:$M$8999<30)*'DATA INPUT'!$U$3:$U$8999)/SUMPRODUCT((TRIM('DATA INPUT'!$H$3:$H$8999)=$A2)*('DATA INPUT'!$M$3:$M$8999>=20)*('DATA INPUT'!$M$3:$M$8999<30)*'DATA INPUT'!$L$3:$L$8999),0)} -> -1 | AG2: {=IFERROR(SUMPRODUCT((TRIM('DATA INPUT'!$H$3:$H$8999)=$A2)*('DATA INPUT'!$M$3:$M$8999>=30)*('DATA INPUT'!$M$3:$M$8999<40)*'DATA INPUT'!$U$3:$U$8999)/SUMPRODUCT((TRIM('DATA INPUT'!$H$3:$H$8999)=$A2)*('DATA INPUT'!$M$3:$M$8999>=30)*('DATA INPUT'!$M$3:$M$8999<40)*'DATA INPUT'!$L$3:$L$8999),0)} -> 0 | AH2: {=IFERROR(SUMPRODUCT((TRIM('DATA INPUT'!$H$3:$H$8999)=$A2)*('DATA INPUT'!$M$3:$M$8999>=40)*('DATA INPUT'!$M$3:$M$8999<50)*'DATA INPUT'!$U$3:$U$8999)/SUMPRODUCT((TRIM('DATA INPUT'!$H$3:$H$8999)=$A2)*('DATA INPUT'!$M$3:$M$8999>=40)*('DATA INPUT'!$M$3:$M$8999<50)*'DATA INPUT'!$L$3:$L$8999),0)} -> 0 | AI2: {=IFERROR(SUMPRODUCT((TRIM('DATA INPUT'!$H$3:$H$8999)=$A2)*('DATA INPUT'!$M$3:$M$8999>=50)*'DATA INPUT'!$U$3:$U$8999)/SUMPRODUCT((TRIM('DATA INPUT'!$H$3:$H$8999)=$A2)*('DATA INPUT'!$M$3:$M$8999>=50)*'DATA INPUT'!$L$3:$L$8999),0)} -> 0
A3: Randwick | B3: {=SUMPRODUCT((TRIM('DATA INPUT'!$H$3:$H$8999)=$A3)*'DATA INPUT'!$L$3:$L$8999)} -> 35.5 | C3: =B3+D3 -> 49.9772 | D3: {=SUMPRODUCT((TRIM('DATA INPUT'!$H$3:$H$8999)=$A3)*'DATA INPUT'!$U$3:$U$8999)} -> 14.4772 | E3: =IFERROR(D3/B3,0) -> 0.40780845 | G3: {=SUMPRODUCT((TRIM('DATA INPUT'!$H$3:$H$8999)=$A3)*('DATA INPUT'!$M$3:$M$8999>=1)*('DATA INPUT'!$M$3:$M$8999<2)*'DATA INPUT'!$U$3:$U$8999)} -> 0 | H3: {=SUMPRODUCT((TRIM('DATA INPUT'!$H$3:$H$8999)=$A3)*('DATA INPUT'!$M$3:$M$8999>=2)*('DATA INPUT'!$M$3:$M$8999<3)*'DATA INPUT'!$U$3:$U$8999)} -> 0 | I3: {=SUMPRODUCT((TRIM('DATA INPUT'!$H$3:$H$8999)=$A3)*('DATA INPUT'!$M$3:$M$8999>=3)*('DATA INPUT'!$M$3:$M$8999<4)*'DATA INPUT'!$U$3:$U$8999)} -> 0 | J3: {=SUMPRODUCT((TRIM('DATA INPUT'!$H$3:$H$8999)=$A3)*('DATA INPUT'!$M$3:$M$8999>=4)*('DATA INPUT'!$M$3:$M$8999<5)*'DATA INPUT'!$U$3:$U$8999)} -> 0 | K3: {=SUMPRODUCT((TRIM('DATA INPUT'!$H$3:$H$8999)=$A3)*('DATA INPUT'!$M$3:$M$8999>=5)*('DATA INPUT'!$M$3:$M$8999<6)*'DATA INPUT'!$U$3:$U$8999)} -> 0 | L3: {=SUMPRODUCT((TRIM('DATA INPUT'!$H$3:$H$8999)=$A3)*('DATA INPUT'!$M$3:$M$8999>=6)*('DATA INPUT'!$M$3:$M$8999<7)*'DATA INPUT'!$U$3:$U$8999)} -> 2.4412 | M3: {=SUMPRODUCT((TRIM('DATA INPUT'!$H$3:$H$8999)=$A3)*('DATA INPUT'!$M$3:$M$8999>=7)*('DATA INPUT'!$M$3:$M$8999<8)*'DATA INPUT'!$U$3:$U$8999)} -> 2.828 | N3: {=SUMPRODUCT((TRIM('DATA INPUT'!$H$3:$H$8999)=$A3)*('DATA INPUT'!$M$3:$M$8999>=8)*('DATA INPUT'!$M$3:$M$8999<9)*'DATA INPUT'!$U$3:$U$8999)} -> -2 | O3: {=SUMPRODUCT((TRIM('DATA INPUT'!$H$3:$H$8999)=$A3)*('DATA INPUT'!$M$3:$M$8999>=9)*('DATA INPUT'!$M$3:$M$8999<10)*'DATA INPUT'!$U$3:$U$8999)} -> -1 | P3: {=SUMPRODUCT((TRIM('DATA INPUT'!$H$3:$H$8999)=$A3)*('DATA INPUT'!$M$3:$M$8999>=10)*('DATA INPUT'!$M$3:$M$8999<20)*'DATA INPUT'!$U$3:$U$8999)} -> 26.208 | Q3: {=SUMPRODUCT((TRIM('DATA INPUT'!$H$3:$H$8999)=$A3)*('DATA INPUT'!$M$3:$M$8999>=20)*('DATA INPUT'!$M$3:$M$8999<30)*'DATA INPUT'!$U$3:$U$8999)} -> -11.5 | R3: {=SUMPRODUCT((TRIM('DATA INPUT'!$H$3:$H$8999)=$A3)*('DATA INPUT'!$M$3:$M$8999>=30)*('DATA INPUT'!$M$3:$M$8999<40)*'DATA INPUT'!$U$3:$U$8999)} -> -2.5 | S3: {=SUMPRODUCT((TRIM('DATA INPUT'!$H$3:$H$8999)=$A3)*('DATA INPUT'!$M$3:$M$8999>=40)*('DATA INPUT'!$M$3:$M$8999<50)*'DATA INPUT'!$U$3:$U$8999)} -> 0 | T3: {=SUMPRODUCT((TRIM('DATA INPUT'!$H$3:$H$8999)=$A3)*('DATA INPUT'!$M$3:$M$8999>=50)*'DATA INPUT'!$U$3:$U$8999)} -> 0 | V3: {=IFERROR(SUMPRODUCT((TRIM('DATA INPUT'!$H$3:$H$8999)=$A3)*('DATA INPUT'!$M$3:$M$8999>=1)*('DATA INPUT'!$M$3:$M$8999<2)*'DATA INPUT'!$U$3:$U$8999)/SUMPRODUCT((TRIM('DATA INPUT'!$H$3:$H$8999)=$A3)*('DATA INPUT'!$M$3:$M$8999>=1)*('DATA INPUT'!$M$3:$M$8999<2)*'DATA INPUT'!$L$3:$L$8999),0)} -> 0 | W3: {=IFERROR(SUMPRODUCT((TRIM('DATA INPUT'!$H$3:$H$8999)=$A3)*('DATA INPUT'!$M$3:$M$8999>=2)*('DATA INPUT'!$M$3:$M$8999<3)*'DATA INPUT'!$U$3:$U$8999)/SUMPRODUCT((TRIM('DATA INPUT'!$H$3:$H$8999)=$A3)*('DATA INPUT'!$M$3:$M$8999>=2)*('DATA INPUT'!$M$3:$M$8999<3)*'DATA INPUT'!$L$3:$L$8999),0)} -> 0 | X3: {=IFERROR(SUMPRODUCT((TRIM('DATA INPUT'!$H$3:$H$8999)=$A3)*('DATA INPUT'!$M$3:$M$8999>=3)*('DATA INPUT'!$M$3:$M$8999<4)*'DATA INPUT'!$U$3:$U$8999)/SUMPRODUCT((TRIM('DATA INPUT'!$H$3:$H$8999)=$A3)*('DATA INPUT'!$M$3:$M$8999>=3)*('DATA INPUT'!$M$3:$M$8999<4)*'DATA INPUT'!$L$3:$L$8999),0)} -> 0 | Y3: {=IFERROR(SUMPRODUCT((TRIM('DATA INPUT'!$H$3:$H$8999)=$A3)*('DATA INPUT'!$M$3:$M$8999>=4)*('DATA INPUT'!$M$3:$M$8999<5)*'DATA INPUT'!$U$3:$U$8999)/SUMPRODUCT((TRIM('DATA INPUT'!$H$3:$H$8999)=$A3)*('DATA INPUT'!$M$3:$M$8999>=4)*('DATA INPUT'!$M$3:$M$8999<5)*'DATA INPUT'!$L$3:$L$8999),0)} -> 0 | Z3: {=IFERROR(SUMPRODUCT((TRIM('DATA INPUT'!$H$3:$H$8999)=$A3)*('DATA INPUT'!$M$3:$M$8999>=5)*('DATA INPUT'!$M$3:$M$8999<6)*'DATA INPUT'!$U$3:$U$8999)/SUMPRODUCT((TRIM('DATA INPUT'!$H$3:$H$8999)=$A3)*('DATA INPUT'!$M$3:$M$8999>=5)*('DATA INPUT'!$M$3:$M$8999<6)*'DATA INPUT'!$L$3:$L$8999),0)} -> 0 | AA3: {=IFERROR(SUMPRODUCT((TRIM('DATA INPUT'!$H$3:$H$8999)=$A3)*('DATA INPUT'!$M$3:$M$8999>=6)*('DATA INPUT'!$M$3:$M$8999<7)*'DATA INPUT'!$U$3:$U$8999)/SUMPRODUCT((TRIM('DATA INPUT'!$H$3:$H$8999)=$A3)*('DATA INPUT'!$M$3:$M$8999>=6)*('DATA INPUT'!$M$3:$M$8999<7)*'DATA INPUT'!$L$3:$L$8999),0)} -> 2.4412 | AB3: {=IFERROR(SUMPRODUCT((TRIM('DATA INPUT'!$H$3:$H$8999)=$A3)*('DATA INPUT'!$M$3:$M$8999>=7)*('DATA INPUT'!$M$3:$M$8999<8)*'DATA INPUT'!$U$3:$U$8999)/SUMPRODUCT((TRIM('DATA INPUT'!$H$3:$H$8999)=$A3)*('DATA INPUT'!$M$3:$M$8999>=7)*('DATA INPUT'!$M$3:$M$8999<8)*'DATA INPUT'!$L$3:$L$8999),0)} -> 2.828 | AC3: {=IFERROR(SUMPRODUCT((TRIM('DATA INPUT'!$H$3:$H$8999)=$A3)*('DATA INPUT'!$M$3:$M$8999>=8)*('DATA INPUT'!$M$3:$M$8999<9)*'DATA INPUT'!$U$3:$U$8999)/SUMPRODUCT((TRIM('DATA INPUT'!$H$3:$H$8999)=$A3)*('DATA INPUT'!$M$3:$M$8999>=8)*('DATA INPUT'!$M$3:$M$8999<9)*'DATA INPUT'!$L$3:$L$8999),0)} -> -1 | AD3: {=IFERROR(SUMPRODUCT((TRIM('DATA INPUT'!$H$3:$H$8999)=$A3)*('DATA INPUT'!$M$3:$M$8999>=9)*('DATA INPUT'!$M$3:$M$8999<10)*'DATA INPUT'!$U$3:$U$8999)/SUMPRODUCT((TRIM('DATA INPUT'!$H$3:$H$8999)=$A3)*('DATA INPUT'!$M$3:$M$8999>=9)*('DATA INPUT'!$M$3:$M$8999<10)*'DATA INPUT'!$L$3:$L$8999),0)} -> -1 | AE3: {=IFERROR(SUMPRODUCT((TRIM('DATA INPUT'!$H$3:$H$8999)=$A3)*('DATA INPUT'!$M$3:$M$8999>=10)*('DATA INPUT'!$M$3:$M$8999<20)*'DATA INPUT'!$U$3:$U$8999)/SUMPRODUCT((TRIM('DATA INPUT'!$H$3:$H$8999)=$A3)*('DATA INPUT'!$M$3:$M$8999>=10)*('DATA INPUT'!$M$3:$M$8999<20)*'DATA INPUT'!$L$3:$L$8999),0)} -> 1.5883636 | AF3: {=IFERROR(SUMPRODUCT((TRIM('DATA INPUT'!$H$3:$H$8999)=$A3)*('DATA INPUT'!$M$3:$M$8999>=20)*('DATA INPUT'!$M$3:$M$8999<30)*'DATA INPUT'!$U$3:$U$8999)/SUMPRODUCT((TRIM('DATA INPUT'!$H$3:$H$8999)=$A3)*('DATA INPUT'!$M$3:$M$8999>=20)*('DATA INPUT'!$M$3:$M$8999<30)*'DATA INPUT'!$L$3:$L$8999),0)} -> -1 | AG3: {=IFERROR(SUMPRODUCT((TRIM('DATA INPUT'!$H$3:$H$8999)=$A3)*('DATA INPUT'!$M$3:$M$8999>=30)*('DATA INPUT'!$M$3:$M$8999<40)*'DATA INPUT'!$U$3:$U$8999)/SUMPRODUCT((TRIM('DATA INPUT'!$H$3:$H$8999)=$A3)*('DATA INPUT'!$M$3:$M$8999>=30)*('DATA INPUT'!$M$3:$M$8999<40)*'DATA INPUT'!$L$3:$L$8999),0)} -> -1 | AH3: {=IFERROR(SUMPRODUCT((TRIM('DATA INPUT'!$H$3:$H$8999)=$A3)*('DATA INPUT'!$M$3:$M$8999>=40)*('DATA INPUT'!$M$3:$M$8999<50)*'DATA INPUT'!$U$3:$U$8999)/SUMPRODUCT((TRIM('DATA INPUT'!$H$3:$H$8999)=$A3)*('DATA INPUT'!$M$3:$M$8999>=40)*('DATA INPUT'!$M$3:$M$8999<50)*'DATA INPUT'!$L$3:$L$8999),0)} -> 0 | AI3: {=IFERROR(SUMPRODUCT((TRIM('DATA INPUT'!$H$3:$H$8999)=$A3)*('DATA INPUT'!$M$3:$M$8999>=50)*'DATA INPUT'!$U$3:$U$8999)/SUMPRODUCT((TRIM('DATA INPUT'!$H$3:$H$8999)=$A3)*('DATA INPUT'!$M$3:$M$8999>=50)*'DATA INPUT'!$L$3:$L$8999),0)} -> 0
