Workbook

Sheet DATA INPUT
T1: OFFICIAL RESULTS | AB1: BETFAIR LAY | AD1: RACING ODDS COMPARISON | AK1: SPORTS BEST ODDS AND LINE - EMAIL | AS1: Win
A2: DATE | B2: ANALYST | C2: TIME SENT | D2: EVENT DAY | E2: STATE | F2: LOCATION | G2: SPORT | H2: EVENT | I2: RACE | J2: NO. | K2: SELECTION | L2: UNITS INVESTED | M2: RATED PRICE | N2: BFSP | O2: BET TYPE | Q2: BET TYPE | R2: ODDS | S2: RESULT | T2: UNITS COLLECTED | U2: P/L | V2: CUMULATIVE P/L | W2: CUMULATIVE UNITS INVESTED | X2: POT% | Y2: ROI% | Z2: PROFIT ($100 UNIT) | AA2: BET WIN LOSE | AB2: PRICE | AC2: COMMISION | AD2: EMAIL ODDS | AE2: AVAILABLE ODDS | AF2: BEST FIXED EMAIL SENT | AG2: BEST FIXED CLOSING | AH2: BETFAIR SP | AI2: BOB/BTSP | AJ2: BEST TOTE | AK2: AGENCY | AL2: EMAIL BEST LINE / TOTAL | AM2: EMAIL BEST ODDS | AN2: RESULT | AO2: CLOSING LINE | AP2: CLOSING PINNACLE | AQ2: CLOSING BETFAIR | AR2: BET ADVICE | AS2: EMAIL | AT2: BTSP | AU2: TOP FLUC | AV2: BFSP Converted P&L Less Commission | AW2: BFSP Price Less Commission | AX2: Map | AY2: Resuming | AZ2: Rated Price is higher than BFSP | BA2: PRICE DEDUCTION | BB2: BFSP Profit Before commission | BC2: Race profit before commission | BD2: Race profit after commission | BE2: BFSP Converted P&L Less Commission | BF2: Races | BG2: Wins | BH2: Strike Rate
A3: 46032 | C3: 11.34 | D3: Sat | E3: VIC | H3: Flemington | I3: 1 | J3: 1 | K3: Jenni Gone Bonkers | L3: 0.5 | M3: 2.34 | N3: 2.4 | O3: BFSP | Q3: Win | R3: 1.99 | S3: 3 | T3: =IF(($AA3="W"),ROUND(($L3*$R3),2),"0.00") -> 0.00 | U3: =BE3 -> -0.5 | V3: =U3 -> -0.5 | W3: =L3 -> 0.5 | X3: =SUM(V3/W3) -> -1 | Y3: =V3/100 -> -0.005 | Z3: =V3*100 -> -50 | AA3: L | AT3: 2.05 | AU3: 2.05 | AV3: =((N3*(L3))-(L3)) -> 0.7 | AW3: =0.92*(N3-1)+1 -> 2.288 | AZ3: =IF(N3>=M3,"Yes","No") -> Yes | BA3: 0.135 | BB3: =IF(AA3="W", L3*(N3-1), -L3 ) -> -0.5 | BC3: =SUMIFS( $BB:$BB, $A:$A,$A3, $H:$H,$H3, $I:$I,$I3 ) -> -0.5 | BD3: =IF(BC3>0, BC3*0.92, BC3) -> -0.5 | BE3: =IF( BC3>0, IF( AA3="W", BB3 - (BC3 - BD3), BB3 ), BB3 ) -> -0.5 | BF3: {=SUMPRODUCT((1/COUNTIFS($A$3:$A3,$A$3:$A3,$H$3:$H3,$H$3:$H3,$I$3:$I3,$I$3:$I3)))} -> 1 | BG3: 0 | BH3: =BG3/BF3 -> 0
A4: 46032 | C4: 11.41 | D4: Sat | E4: VIC | H4: Flemington | I4: 2 | J4: 5 | K4: Stylish Secret | L4: 0.5 | M4: 6 | N4: 6.58 | O4: BFSP | Q4: Win | R4: 6.1894 | S4: un | T4: =IF(($AA4="W"),ROUND(($L4*$R4),2),"0.00") -> 0.00 | U4: =BE4 -> -0.5 | V4: =V3+U4 -> -1 | W4: =W3+L4 -> 1 | X4: =SUM(V4/W4) -> -1 | Y4: =V4/100 -> -0.01 | Z4: =V4*100 -> -100 | AA4: L | AT4: 6.1 | AU4: 5.5 | AV4: =((N4*(L4))-(L4)) -> 2.79 | AW4: =0.92*(N4-1)+1 -> 6.1336 | AZ4: =IF(N4>=M4,"Yes","No") -> Yes | BB4: =IF(AA4="W", L4*(N4-1), -L4 ) -> -0.5 | BC4: =SUMIFS( $BB:$BB, $A:$A,$A4, $H:$H,$H4, $I:$I,$I4 ) -> -4.5 | BD4: =IF(BC4>0, BC4*0.92, BC4) -> -4.5 | BE4: =IF( BC4>0, IF( AA4="W", BB4 - (BC4 - BD4), BB4 ), BB4 ) -> -0.5 | BF4: {=SUMPRODUCT((1/COUNTIFS($A$3:$A4,$A$3:$A4,$H$3:$H4,$H$3:$H4,$I$3:$I4,$I$3:$I4)))} -> 2 | BG4: 0 | BH4: =BG4/BF4 -> 0
A5: 46032 | C5: 11.41 | D5: Sat | E5: VIC | H5: Flemington | I5: 2 | J5: 6 | K5: American Wolf | L5: 1 | M5: 10 | N5: 19.5 | O5: BFSP | Q5: Win | R5: 18.205 | S5: 3 | T5: =IF(($AA5="W"),ROUND(($L5*$R5),2),"0.00") -> 0.00 | U5: =BE5 -> -1 | V5: =V4+U5 -> -2 | W5: =W4+L5 -> 2 | X5: =SUM(V5/W5) -> -1 | Y5: =V5/100 -> -0.02 | Z5: =V5*100 -> -200 | AA5: L | AT5: 15.1 | AU5: 16 | AV5: =((N5*(L5))-(L5)) -> 18.5 | AW5: =0.92*(N5-1)+1 -> 18.02 | AZ5: =IF(N5>=M5,"Yes","No") -> Yes | BB5: =IF(AA5="W", L5*(N5-1), -L5 ) -> -1 | BC5: =SUMIFS( $BB:$BB, $A:$A,$A5, $H:$H,$H5, $I:$I,$I5 ) -> -4.5 | BD5: =IF(BC5>0, BC5*0.92, BC5) -> -4.5 | BE5: =IF( BC5>0, IF( AA5="W", BB5 - (BC5 - BD5), BB5 ), BB5 ) -> -1 | BF5: {=SUMPRODUCT((1/COUNTIFS($A$3:$A5,$A$3:$A5,$H$3:$H5,$H$3:$H5,$I$3:$I5,$I$3:$I5)))} -> 2 | BG5: 0 | BH5: =BG5/BF5 -> 0
A6: 46032 | C6: 11.41 | D6: Sat | E6: VIC | H6: Flemington | I6: 2 | J6: 1 | K6: Prince Eric | L6: 1 | M6: 14.5 | N6: 28 | O6: BFSP | Q6: Win | R6: 26.11 | S6: un | T6: =IF(($AA6="W"),ROUND(($L6*$R6),2),"0.00") -> 0.00 | U6: =BE6 -> -1 | V6: =V5+U6 -> -3 | W6: =W5+L6 -> 3 | X6: =SUM(V6/W6) -> -1 | Y6: =V6/100 -> -0.03 | Z6: =V6*100 -> -300 | AA6: L | AT6: 19.2 | AU6: 17 | AV6: =((N6*(L6))-(L6)) -> 27 | AW6: =0.92*(N6-1)+1 -> 25.84 | AZ6: =IF(N6>=M6,"Yes","No") -> Yes | BB6: =IF(AA6="W", L6*(N6-1), -L6 ) -> -1 | BC6: =SUMIFS( $BB:$BB, $A:$A,$A6, $H:$H,$H6, $I:$I,$I6 ) -> -4.5 | BD6: =IF(BC6>0, BC6*0.92, BC6) -> -4.5 | BE6: =IF( BC6>0, IF( AA6="W", BB6 - (BC6 - BD6), BB6 ), BB6 ) -> -1 | BF6: {=SUMPRODUCT((1/COUNTIFS($A$3:$A6,$A$3:$A6,$H$3:$H6,$H$3:$H6,$I$3:$I6,$I$3:$I6)))} -> 2 | BG6: 0 | BH6: =BG6/BF6 -> 0
A7: 46032 | C7: 11.41 | D7: Sat | E7: VIC | H7: Flemington | I7: 2 | J7: 7 | K7: Politely Dun | L7: 1 | M7: 14.5 | N7: 16 | O7: BFSP | Q7: Win | R7: 14.95 | S7: 4 | T7: =IF(($AA7="W"),ROUND(($L7*$R7),2),"0.00") -> 0.00 | U7: =BE7 -> -1 | V7: =V6+U7 -> -4 | W7: =W6+L7 -> 4 | X7: =SUM(V7/W7) -> -1 | Y7: =V7/100 -> -0.04 | Z7: =V7*100 -> -400 | AA7: L | AT7: 12 | AU7: 12 | AV7: =((N7*(L7))-(L7)) -> 15 | AW7: =0.92*(N7-1)+1 -> 14.8 | AZ7: =IF(N7>=M7,"Yes","No") -> Yes | BB7: =IF(AA7="W", L7*(N7-1), -L7 ) -> -1 | BC7: =SUMIFS( $BB:$BB, $A:$A,$A7, $H:$H,$H7, $I:$I,$I7 ) -> -4.5 | BD7: =IF(BC7>0, BC7*0.92, BC7) -> -4.5 | BE7: =IF( BC7>0, IF( AA7="W", BB7 - (BC7 - BD7), BB7 ), BB7 ) -> -1 | BF7: {=SUMPRODUCT((1/COUNTIFS($A$3:$A7,$A$3:$A7,$H$3:$H7,$H$3:$H7,$I$3:$I7,$I$3:$I7)))} -> 2 | BG7: 0 | BH7: =BG7/BF7 -> 0
A8: 46032 | C8: 11.41 | D8: Sat | E8: VIC | H8: Flemington | I8: 2 | J8: 3 | K8: New York Hurricane | L8: 1 | M8: 42 | N8: 65 | O8: BFSP | Q8: Win | R8: 60.52 | S8: un | T8: =IF(($AA8="W"),ROUND(($L8*$R8),2),"0.00") -> 0.00 | U8: =BE8 -> -1 | V8: =V7+U8 -> -5 | W8: =W7+L8 -> 5 | X8: =SUM(V8/W8) -> -1 | Y8: =V8/100 -> -0.05 | Z8: =V8*100 -> -500 | AA8: L | AT8: 41 | AU8: 41 | AV8: =((N8*(L8))-(L8)) -> 64 | AW8: =0.92*(N8-1)+1 -> 59.88 | AZ8: =IF(N8>=M8,"Yes","No") -> Yes | BB8: =IF(AA8="W", L8*(N8-1), -L8 ) -> -1 | BC8: =SUMIFS( $BB:$BB, $A:$A,$A8, $H:$H,$H8, $I:$I,$I8 ) -> -4.5 | BD8: =IF(BC8>0, BC8*0.92, BC8) -> -4.5 | BE8: =IF( BC8>0, IF( AA8="W", BB8 - (BC8 - BD8), BB8 ), BB8 ) -> -1 | BF8: {=SUMPRODUCT((1/COUNTIFS($A$3:$A8,$A$3:$A8,$H$3:$H8,$H$3:$H8,$I$3:$I8,$I$3:$I8)))} -> 2 | BG8: 0 | BH8: =BG8/BF8 -> 0
A9: 46032 | C9: 11.48 | D9: Sat | E9: VIC | H9: Flemington | I9: 3 | J9: 4 | K9: She’s My Ex | L9: 1 | M9: 9 | N9: 10.5 | O9: BFSP | Q9: Win | R9: 9 | S9: 4 | T9: =IF(($AA9="W"),ROUND(($L9*$R9),2),"0.00") -> 0.00 | U9: =BE9 -> -1 | V9: =V8+U9 -> -6 | W9: =W8+L9 -> 6 | X9: =SUM(V9/W9) -> -1 | Y9: =V9/100 -> -0.06 | Z9: =V9*100 -> -600 | AA9: L | AT9: 9.9 | AU9: 9 | AV9: =((N9*(L9))-(L9)) -> 9.5 | AW9: =0.92*(N9-1)+1 -> 9.74 | AZ9: =IF(N9>=M9,"Yes","No") -> Yes | BB9: =IF(AA9="W", L9*(N9-1), -L9 ) -> -1 | BC9: =SUMIFS( $BB:$BB, $A:$A,$A9, $H:$H,$H9, $I:$I,$I9 ) -> -5 | BD9: =IF(BC9>0, BC9*0.92, BC9) -> -5 | BE9: =IF( BC9>0, IF( AA9="W", BB9 - (BC9 - BD9), BB9 ), BB9 ) -> -1 | BF9: {=SUMPRODUCT((1/COUNTIFS($A$3:$A9,$A$3:$A9,$H$3:$H9,$H$3:$H9,$I$3:$I9,$I$3:$I9)))} -> 3 | BG9: 0 | BH9: =BG9/BF9 -> 0
A10: 46032 | C10: 11.48 | D10: Sat | E10: VIC | H10: Flemington | I10: 3 | J10: 12 | K10: Rosangela | L10: 1 | M10: 9.8 | N10: 12.7 | O10: BFSP | Q10: Win | R10: 10 | S10: un | T10: =IF(($AA10="W"),ROUND(($L10*$R10),2),"0.00") -> 0.00 | U10: =BE10 -> -1 | V10: =V9+U10 -> -7 | W10: =W9+L10 -> 7 | X10: =SUM(V10/W10) -> -1 | Y10: =V10/100 -> -0.07 | Z10: =V10*100 -> -700 | AA10: L | AT10: 11.3 | AU10: 10 | AV10: =((N10*(L10))-(L10)) -> 11.7 | AW10: =0.92*(N10-1)+1 -> 11.764 | AZ10: =IF(N10>=M10,"Yes","No") -> Yes | BB10: =IF(AA10="W", L10*(N10-1), -L10 ) -> -1 | BC10: =SUMIFS( $BB:$BB, $A:$A,$A10, $H:$H,$H10, $I:$I,$I10 ) -> -5 | BD10: =IF(BC10>0, BC10*0.92, BC10) -> -5 | BE10: =IF( BC10>0, IF( AA10="W", BB10 - (BC10 - BD10), BB10 ), BB10 ) -> -1 | BF10: {=SUMPRODUCT((1/COUNTIFS($A$3:$A10,$A$3:$A10,$H$3:$H10,$H$3:$H10,$I$3:$I10,$I$3:$I10)))} -> 3 | BG10: 0 | BH10: =BG10/BF10 -> 0
A11: 46032 | C11: 11.48 | D11: Sat | E11: VIC | H11: Flemington | I11: 3 | J11: 5 | K11: Audio Pop Cam | L11: 1 | M11: 12.5 | N11: 23.07 | O11: BFSP | Q11: Win | R11: 20 | S11: un | T11: =IF(($AA11="W"),ROUND(($L11*$R11),2),"0.00") -> 0.00 | U11: =BE11 -> -1 | V11: =V10+U11 -> -8 | W11: =W10+L11 -> 8 | X11: =SUM(V11/W11) -> -1 | Y11: =V11/100 -> -0.08 | Z11: =V11*100 -> -800 | AA11: L | AT11: 18.1 | AU11: 20 | AV11: =((N11*(L11))-(L11)) -> 22.07 | AW11: =0.92*(N11-1)+1 -> 21.3044 | AZ11: =IF(N11>=M11,"Yes","No") -> Yes | BB11: =IF(AA11="W", L11*(N11-1), -L11 ) -> -1 | BC11: =SUMIFS( $BB:$BB, $A:$A,$A11, $H:$H,$H11, $I:$I,$I11 ) -> -5 | BD11: =IF(BC11>0, BC11*0.92, BC11) -> -5 | BE11: =IF( BC11>0, IF( AA11="W", BB11 - (BC11 - BD11), BB11 ), BB11 ) -> -1 | BF11: {=SUMPRODUCT((1/COUNTIFS($A$3:$A11,$A$3:$A11,$H$3:$H11,$H$3:$H11,$I$3:$I11,$I$3:$I11)))} -> 3 | BG11: 0 | BH11: =BG11/BF11 -> 0
A12: 46032 | C12: 11.48 | D12: Sat | E12: VIC | H12: Flemington | I12: 3 | J12: 11 | K12: Seven Oceans | L12: 1 | M12: 22 | N12: 56.87 | O12: BFSP | Q12: Win | R12: 41 | S12: un | T12: =IF(($AA12="W"),ROUND(($L12*$R12),2),"0.00") -> 0.00 | U12: =BE12 -> -1 | V12: =V11+U12 -> -9 | W12: =W11+L12 -> 9 | X12: =SUM(V12/W12) -> -1 | Y12: =V12/100 -> -0.09 | Z12: =V12*100 -> -900 | AA12: L | AT12: 41 | AU12: 41 | AV12: =((N12*(L12))-(L12)) -> 55.87 | AW12: =0.92*(N12-1)+1 -> 52.4004 | AZ12: =IF(N12>=M12,"Yes","No") -> Yes | BB12: =IF(AA12="W", L12*(N12-1), -L12 ) -> -1 | BC12: =SUMIFS( $BB:$BB, $A:$A,$A12, $H:$H,$H12, $I:$I,$I12 ) -> -5 | BD12: =IF(BC12>0, BC12*0.92, BC12) -> -5 | BE12: =IF( BC12>0, IF( AA12="W", BB12 - (BC12 - BD12), BB12 ), BB12 ) -> -1 | BF12: {=SUMPRODUCT((1/COUNTIFS($A$3:$A12,$A$3:$A12,$H$3:$H12,$H$3:$H12,$I$3:$I12,$I$3:$I12)))} -> 3 | BG12: 0 | BH12: =BG12/BF12 -> 0
A13: 46032 | C13: 11.48 | D13: Sat | E13: VIC | H13: Flemington | I13: 3 | J13: 10 | K13: Pacific Glamour | L13: 1 | M13: 29 | N13: 59.66 | O13: BFSP | Q13: Win | R13: 31 | S13: un | T13: =IF(($AA13="W"),ROUND(($L13*$R13),2),"0.00") -> 0.00 | U13: =BE13 -> -1 | V13: =V12+U13 -> -10 | W13: =W12+L13 -> 10 | X13: =SUM(V13/W13) -> -1 | Y13: =V13/100 -> -0.1 | Z13: =V13*100 -> -1000 | AA13: L | AT13: 35.6 | AU13: 31 | AV13: =((N13*(L13))-(L13)) -> 58.66 | AW13: =0.92*(N13-1)+1 -> 54.9672 | AZ13: =IF(N13>=M13,"Yes","No") -> Yes | BB13: =IF(AA13="W", L13*(N13-1), -L13 ) -> -1 | BC13: =SUMIFS( $BB:$BB, $A:$A,$A13, $H:$H,$H13, $I:$I,$I13 ) -> -5 | BD13: =IF(BC13>0, BC13*0.92, BC13) -> -5 | BE13: =IF( BC13>0, IF( AA13="W", BB13 - (BC13 - BD13), BB13 ), BB13 ) -> -1 | BF13: {=SUMPRODUCT((1/COUNTIFS($A$3:$A13,$A$3:$A13,$H$3:$H13,$H$3:$H13,$I$3:$I13,$I$3:$I13)))} -> 3 | BG13: 0 | BH13: =BG13/BF13 -> 0
A14: 46032 | C14: 12.12 | D14: Sat | E14: VIC | H14: Flemington | I14: 4 | J14: 4 | K14: Miss Playlounge | L14: 1 | M14: 8.2 | N14: 8.45 | O14: BFSP | Q14: Win | R14: 7.9285 | S14: un | T14: =IF(($AA14="W"),ROUND(($L14*$R14),2),"0.00") -> 0.00 | U14: =BE14 -> -1 | V14: =V13+U14 -> -11 | W14: =W13+L14 -> 11 | X14: =SUM(V14/W14) -> -1 | Y14: =V14/100 -> -0.11 | Z14: =V14*100 -> -1100 | AA14: L | AT14: 7.1 | AU14: 6.5 | AV14: =((N14*(L14))-(L14)) -> 7.45 | AW14: =0.92*(N14-1)+1 -> 7.854 | AZ14: =IF(N14>=M14,"Yes","No") -> Yes | BB14: =IF(AA14="W", L14*(N14-1), -L14 ) -> -1 | BC14: =SUMIFS( $BB:$BB, $A:$A,$A14, $H:$H,$H14, $I:$I,$I14 ) -> 9.4 | BD14: =IF(BC14>0, BC14*0.92, BC14) -> 8.648 | BE14: =IF( BC14>0, IF( AA14="W", BB14 - (BC14 - BD14), BB14 ), BB14 ) -> -1 | BF14: {=SUMPRODUCT((1/COUNTIFS($A$3:$A14,$A$3:$A14,$H$3:$H14,$H$3:$H14,$I$3:$I14,$I$3:$I14)))} -> 4 | BG14: 0 | BH14: =BG14/BF14 -> 0
A15: 46032 | C15: 12.12 | D15: Sat | E15: VIC | H15: Flemington | I15: 4 | J15: 8 | K15: Tarvue | L15: 1 | M15: 11 | N15: 14.4 | O15: BFSP | Q15: Win | R15: 13.462 | S15: 1 | T15: =IF(($AA15="W"),ROUND(($L15*$R15),2),"0.00") -> 13.46 | U15: =BE15 -> 12.648 | V15: =V14+U15 -> 1.648 | W15: =W14+L15 -> 12 | X15: =SUM(V15/W15) -> 0.13733333 | Y15: =V15/100 -> 0.01648 | Z15: =V15*100 -> 164.8 | AA15: W | AT15: 13 | AU15: 14 | AV15: =((N15*(L15))-(L15)) -> 13.4 | AW15: =0.92*(N15-1)+1 -> 13.328 | AZ15: =IF(N15>=M15,"Yes","No") -> Yes | BB15: =IF(AA15="W", L15*(N15-1), -L15 ) -> 13.4 | BC15: =SUMIFS( $BB:$BB, $A:$A,$A15, $H:$H,$H15, $I:$I,$I15 ) -> 9.4 | BD15: =IF(BC15>0, BC15*0.92, BC15) -> 8.648 | BE15: =IF( BC15>0, IF( AA15="W", BB15 - (BC15 - BD15), BB15 ), BB15 ) -> 12.648 | BF15: {=SUMPRODUCT((1/COUNTIFS($A$3:$A15,$A$3:$A15,$H$3:$H15,$H$3:$H15,$I$3:$I15,$I$3:$I15)))} -> 4 | BG15: 1 | BH15: =BG15/BF15 -> 0.25
A16: 46032 | C16: 12.12 | D16: Sat | E16: VIC | H16: Flemington | I16: 4 | J16: 6 | K16: Real Alliance | L16: 1 | M16: 12.5 | N16: 37.91 | O16: BFSP | Q16: Win | R16: 35.3263 | S16: un | T16: =IF(($AA16="W"),ROUND(($L16*$R16),2),"0.00") -> 0.00 | U16: =BE16 -> -1 | V16: =V15+U16 -> 0.648 | W16: =W15+L16 -> 13 | X16: =SUM(V16/W16) -> 0.049846154 | Y16: =V16/100 -> 0.00648 | Z16: =V16*100 -> 64.8 | AA16: L | AT16: 28 | AU16: 26 | AV16: =((N16*(L16))-(L16)) -> 36.91 | AW16: =0.92*(N16-1)+1 -> 34.9572 | AZ16: =IF(N16>=M16,"Yes","No") -> Yes | BB16: =IF(AA16="W", L16*(N16-1), -L16 ) -> -1 | BC16: =SUMIFS( $BB:$BB, $A:$A,$A16, $H:$H,$H16, $I:$I,$I16 ) -> 9.4 | BD16: =IF(BC16>0, BC16*0.92, BC16) -> 8.648 | BE16: =IF( BC16>0, IF( AA16="W", BB16 - (BC16 - BD16), BB16 ), BB16 ) -> -1 | BF16: {=SUMPRODUCT((1/COUNTIFS($A$3:$A16,$A$3:$A16,$H$3:$H16,$H$3:$H16,$I$3:$I16,$I$3:$I16)))} -> 4 | BG16: 1 | BH16: =BG16/BF16 -> 0.25
A17: 46032 | C17: 12.12 | D17: Sat | E17: VIC | H17: Flemington | I17: 4 | J17: 5 | K17: Hurry Curry | L17: 1 | M17: 19.5 | N17: 20.61 | O17: BFSP | Q17: Win | R17: 19.2373 | S17: 4 | T17: =IF(($AA17="W"),ROUND(($L17*$R17),2),"0.00") -> 0.00 | U17: =BE17 -> -1 | V17: =V16+U17 -> -0.352 | W17: =W16+L17 -> 14 | X17: =SUM(V17/W17) -> -0.025142857 | Y17: =V17/100 -> -0.00352 | Z17: =V17*100 -> -35.2 | AA17: L | AT17: 14 | AU17: 16 | AV17: =((N17*(L17))-(L17)) -> 19.61 | AW17: =0.92*(N17-1)+1 -> 19.0412 | AZ17: =IF(N17>=M17,"Yes","No") -> Yes | BB17: =IF(AA17="W", L17*(N17-1), -L17 ) -> -1 | BC17: =SUMIFS( $BB:$BB, $A:$A,$A17, $H:$H,$H17, $I:$I,$I17 ) -> 9.4 | BD17: =IF(BC17>0, BC17*0.92, BC17) -> 8.648 | BE17: =IF( BC17>0, IF( AA17="W", BB17 - (BC17 - BD17), BB17 ), BB17 ) -> -1 | BF17: {=SUMPRODUCT((1/COUNTIFS($A$3:$A17,$A$3:$A17,$H$3:$H17,$H$3:$H17,$I$3:$I17,$I$3:$I17)))} -> 4 | BG17: 1 | BH17: =BG17/BF17 -> 0.25
A18: 46032 | C18: 12.12 | D18: Sat | E18: VIC | H18: Flemington | I18: 4 | J18: 9 | K18: Bon Fete | L18: 1 | M18: 22 | N18: 25.4 | O18: BFSP | Q18: Win | R18: 23.692 | S18: un | T18: =IF(($AA18="W"),ROUND(($L18*$R18),2),"0.00") -> 0.00 | U18: =BE18 -> -1 | V18: =V17+U18 -> -1.352 | W18: =W17+L18 -> 15 | X18: =SUM(V18/W18) -> -0.090133333 | Y18: =V18/100 -> -0.01352 | Z18: =V18*100 -> -135.2 | AA18: L | AT18: 21 | AU18: 21 | AV18: =((N18*(L18))-(L18)) -> 24.4 | AW18: =0.92*(N18-1)+1 -> 23.448 | AZ18: =IF(N18>=M18,"Yes","No") -> Yes | BB18: =IF(AA18="W", L18*(N18-1), -L18 ) -> -1 | BC18: =SUMIFS( $BB:$BB, $A:$A,$A18, $H:$H,$H18, $I:$I,$I18 ) -> 9.4 | BD18: =IF(BC18>0, BC18*0.92, BC18) -> 8.648 | BE18: =IF( BC18>0, IF( AA18="W", BB18 - (BC18 - BD18), BB18 ), BB18 ) -> -1 | BF18: {=SUMPRODUCT((1/COUNTIFS($A$3:$A18,$A$3:$A18,$H$3:$H18,$H$3:$H18,$I$3:$I18,$I$3:$I18)))} -> 4 | BG18: 1 | BH18: =BG18/BF18 -> 0.25
A19: 46032 | C19: 12.37 | D19: Sat | E19: VIC | H19: Flemington | I19: 5 | J19: 12 | K19: Watersports | L19: 0.5 | M19: 3.6 | N19: 4.4 | O19: BFSP | Q19: Win | R19: 4.162 | S19: 3 | T19: =IF(($AA19="W"),ROUND(($L19*$R19),2),"0.00") -> 0.00 | U19: =BE19 -> -0.5 | V19: =V18+U19 -> -1.852 | W19: =W18+L19 -> 15.5 | X19: =SUM(V19/W19) -> -0.11948387 | Y19: =V19/100 -> -0.01852 | Z19: =V19*100 -> -185.2 | AA19: L | AT19: 3.7 | AU19: 3.8 | AV19: =((N19*(L19))-(L19)) -> 1.7 | AW19: =0.92*(N19-1)+1 -> 4.128 | AZ19: =IF(N19>=M19,"Yes","No") -> Yes | BB19: =IF(AA19="W", L19*(N19-1), -L19 ) -> -0.5 | BC19: =SUMIFS( $BB:$BB, $A:$A,$A19, $H:$H,$H19, $I:$I,$I19 ) -> -4.5 | BD19: =IF(BC19>0, BC19*0.92, BC19) -> -4.5 | BE19: =IF( BC19>0, IF( AA19="W", BB19 - (BC19 - BD19), BB19 ), BB19 ) -> -0.5 | BF19: {=SUMPRODUCT((1/COUNTIFS($A$3:$A19,$A$3:$A19,$H$3:$H19,$H$3:$H19,$I$3:$I19,$I$3:$I19)))} -> 5 | BG19: 1 | BH19: =BG19/BF19 -> 0.2
A20: 46032 | C20: 12.37 | D20: Sat | E20: VIC | H20: Flemington | I20: 5 | J20: 4 | K20: Otago | L20: 1 | M20: 7.2 | N20: 7.8 | O20: BFSP | Q20: Win | R20: 7.324 | S20: un | T20: =IF(($AA20="W"),ROUND(($L20*$R20),2),"0.00") -> 0.00 | U20: =BE20 -> -1 | V20: =V19+U20 -> -2.852 | W20: =W19+L20 -> 16.5 | X20: =SUM(V20/W20) -> -0.17284848 | Y20: =V20/100 -> -0.02852 | Z20: =V20*100 -> -285.2 | AA20: L | AT20: 6.6 | AU20: 6.5 | AV20: =((N20*(L20))-(L20)) -> 6.8 | AW20: =0.92*(N20-1)+1 -> 7.256 | AZ20: =IF(N20>=M20,"Yes","No") -> Yes | BB20: =IF(AA20="W", L20*(N20-1), -L20 ) -> -1 | BC20: =SUMIFS( $BB:$BB, $A:$A,$A20, $H:$H,$H20, $I:$I,$I20 ) -> -4.5 | BD20: =IF(BC20>0, BC20*0.92, BC20) -> -4.5 | BE20: =IF( BC20>0, IF( AA20="W", BB20 - (BC20 - BD20), BB20 ), BB20 ) -> -1 | BF20: {=SUMPRODUCT((1/COUNTIFS($A$3:$A20,$A$3:$A20,$H$3:$H20,$H$3:$H20,$I$3:$I20,$I$3:$I20)))} -> 5 | BG20: 1 | BH20: =BG20/BF20 -> 0.2
A21: 46032 | C21: 12.37 | D21: Sat | E21: VIC | H21: Flemington | I21: 5 | J21: 11 | K21: His Finest Hour | L21: 1 | M21: 8.4 | N21: 13.79 | O21: BFSP | Q21: Win | R21: 12.8947 | S21: 2 | T21: =IF(($AA21="W"),ROUND(($L21*$R21),2),"0.00") -> 0.00 | U21: =BE21 -> -1 | V21: =V20+U21 -> -3.852 | W21: =W20+L21 -> 17.5 | X21: =SUM(V21/W21) -> -0.22011429 | Y21: =V21/100 -> -0.03852 | Z21: =V21*100 -> -385.2 | AA21: L | AT21: 11 | AU21: 11 | AV21: =((N21*(L21))-(L21)) -> 12.79 | AW21: =0.92*(N21-1)+1 -> 12.7668 | AZ21: =IF(N21>=M21,"Yes","No") -> Yes | BB21: =IF(AA21="W", L21*(N21-1), -L21 ) -> -1 | BC21: =SUMIFS( $BB:$BB, $A:$A,$A21, $H:$H,$H21, $I:$I,$I21 ) -> -4.5 | BD21: =IF(BC21>0, BC21*0.92, BC21) -> -4.5 | BE21: =IF( BC21>0, IF( AA21="W", BB21 - (BC21 - BD21), BB21 ), BB21 ) -> -1 | BF21: {=SUMPRODUCT((1/COUNTIFS($A$3:$A21,$A$3:$A21,$H$3:$H21,$H$3:$H21,$I$3:$I21,$I$3:$I21)))} -> 5 | BG21: 1 | BH21: =BG21/BF21 -> 0.2
A22: 46032 | C22: 12.37 | D22: Sat | E22: VIC | H22: Flemington | I22: 5 | J22: 10 | K22: Mometz | L22: 1 | M22: 8.8 | N22: 16 | O22: BFSP | Q22: Win | R22: 14.95 | S22: un | T22: =IF(($AA22="W"),ROUND(($L22*$R22),2),"0.00") -> 0.00 | U22: =BE22 -> -1 | V22: =V21+U22 -> -4.852 | W22: =W21+L22 -> 18.5 | X22: =SUM(V22/W22) -> -0.26227027 | Y22: =V22/100 -> -0.04852 | Z22: =V22*100 -> -485.2 | AA22: L | AT22: 12 | AU22: 12 | AV22: =((N22*(L22))-(L22)) -> 15 | AW22: =0.92*(N22-1)+1 -> 14.8 | AZ22: =IF(N22>=M22,"Yes","No") -> Yes | BB22: =IF(AA22="W", L22*(N22-1), -L22 ) -> -1 | BC22: =SUMIFS( $BB:$BB, $A:$A,$A22, $H:$H,$H22, $I:$I,$I22 ) -> -4.5 | BD22: =IF(BC22>0, BC22*0.92, BC22) -> -4.5 | BE22: =IF( BC22>0, IF( AA22="W", BB22 - (BC22 - BD22), BB22 ), BB22 ) -> -1 | BF22: {=SUMPRODUCT((1/COUNTIFS($A$3:$A22,$A$3:$A22,$H$3:$H22,$H$3:$H22,$I$3:$I22,$I$3:$I22)))} -> 5 | BG22: 1 | BH22: =BG22/BF22 -> 0.2
A23: 46032 | C23: 12.37 | D23: Sat | E23: VIC | H23: Flemington | I23: 5 | J23: 7 | K23: Midnight Glow | L23: 1 | M23: 22 | N23: 26.56 | O23: BFSP | Q23: Win | R23: 24.7708 | S23: un | T23: =IF(($AA23="W"),ROUND(($L23*$R23),2),"0.00") -> 0.00 | U23: =BE23 -> -1 | V23: =V22+U23 -> -5.852 | W23: =W22+L23 -> 19.5 | X23: =SUM(V23/W23) -> -0.30010256 | Y23: =V23/100 -> -0.05852 | Z23: =V23*100 -> -585.2 | AA23: L | AT23: 20.1 | AU23: 20 | AV23: =((N23*(L23))-(L23)) -> 25.56 | AW23: =0.92*(N23-1)+1 -> 24.5152 | AZ23: =IF(N23>=M23,"Yes","No") -> Yes | BB23: =IF(AA23="W", L23*(N23-1), -L23 ) -> -1 | BC23: =SUMIFS( $BB:$BB, $A:$A,$A23, $H:$H,$H23, $I:$I,$I23 ) -> -4.5 | BD23: =IF(BC23>0, BC23*0.92, BC23) -> -4.5 | BE23: =IF( BC23>0, IF( AA23="W", BB23 - (BC23 - BD23), BB23 ), BB23 ) -> -1 | BF23: {=SUMPRODUCT((1/COUNTIFS($A$3:$A23,$A$3:$A23,$H$3:$H23,$H$3:$H23,$I$3:$I23,$I$3:$I23)))} -> 5 | BG23: 1 | BH23: =BG23/BF23 -> 0.2
A24: 46032 | C24: 12.43 | D24: Sat | E24: VIC | H24: Flemington | I24: 6 | J24: 12 | K24: Pure Bliss | L24: 1 | M24: 19.5 | N24: 42 | O24: BFSP | Q24: Win | R24: 39.13 | S24: un | T24: =IF(($AA24="W"),ROUND(($L24*$R24),2),"0.00") -> 0.00 | U24: =BE24 -> -1 | V24: =V23+U24 -> -6.852 | W24: =W23+L24 -> 20.5 | X24: =SUM(V24/W24) -> -0.3342439 | Y24: =V24/100 -> -0.06852 | Z24: =V24*100 -> -685.2 | AA24: L | AT24: 30.8 | AU24: 31 | AV24: =((N24*(L24))-(L24)) -> 41 | AW24: =0.92*(N24-1)+1 -> 38.72 | AZ24: =IF(N24>=M24,"Yes","No") -> Yes | BB24: =IF(AA24="W", L24*(N24-1), -L24 ) -> -1 | BC24: =SUMIFS( $BB:$BB, $A:$A,$A24, $H:$H,$H24, $I:$I,$I24 ) -> -4 | BD24: =IF(BC24>0, BC24*0.92, BC24) -> -4 | BE24: =IF( BC24>0, IF( AA24="W", BB24 - (BC24 - BD24), BB24 ), BB24 ) -> -1 | BF24: {=SUMPRODUCT((1/COUNTIFS($A$3:$A24,$A$3:$A24,$H$3:$H24,$H$3:$H24,$I$3:$I24,$I$3:$I24)))} -> 6 | BG24: 1 | BH24: =BG24/BF24 -> 0.16666667
A25: 46032 | C25: 12.43 | D25: Sat | E25: VIC | H25: Flemington | I25: 6 | J25: 11 | K25: Mr Magnus | L25: 1 | M25: 29 | N25: 90 | O25: BFSP | Q25: Win | R25: 83.77 | S25: un | T25: =IF(($AA25="W"),ROUND(($L25*$R25),2),"0.00") -> 0.00 | U25: =BE25 -> -1 | V25: =V24+U25 -> -7.852 | W25: =W24+L25 -> 21.5 | X25: =SUM(V25/W25) -> -0.3652093 | Y25: =V25/100 -> -0.07852 | Z25: =V25*100 -> -785.2 | AA25: L | AT25: 61 | AU25: 61 | AV25: =((N25*(L25))-(L25)) -> 89 | AW25: =0.92*(N25-1)+1 -> 82.88 | AZ25: =IF(N25>=M25,"Yes","No") -> Yes | BB25: =IF(AA25="W", L25*(N25-1), -L25 ) -> -1 | BC25: =SUMIFS( $BB:$BB, $A:$A,$A25, $H:$H,$H25, $I:$I,$I25 ) -> -4 | BD25: =IF(BC25>0, BC25*0.92, BC25) -> -4 | BE25: =IF( BC25>0, IF( AA25="W", BB25 - (BC25 - BD25), BB25 ), BB25 ) -> -1 | BF25: {=SUMPRODUCT((1/COUNTIFS($A$3:$A25,$A$3:$A25,$H$3:$H25,$H$3:$H25,$I$3:$I25,$I$3:$I25)))} -> 6 | BG25: 1 | BH25: =BG25/BF25 -> 0.16666667
A26: 46032 | C26: 12.43 | D26: Sat | E26: VIC | H26: Flemington | I26: 6 | J26: 9 | K26: Madame Maserati | L26: 1 | M26: 30 | N26: 90 | O26: BFSP | Q26: Win | R26: 83.77 | S26: un | T26: =IF(($AA26="W"),ROUND(($L26*$R26),2),"0.00") -> 0.00 | U26: =BE26 -> -1 | V26: =V25+U26 -> -8.852 | W26: =W25+L26 -> 22.5 | X26: =SUM(V26/W26) -> -0.39342222 | Y26: =V26/100 -> -0.08852 | Z26: =V26*100 -> -885.2 | AA26: L | AT26: 57.2 | AU26: 61 | AV26: =((N26*(L26))-(L26)) -> 89 | AW26: =0.92*(N26-1)+1 -> 82.88 | AZ26: =IF(N26>=M26,"Yes","No") -> Yes | BB26: =IF(AA26="W", L26*(N26-1), -L26 ) -> -1 | BC26: =SUMIFS( $BB:$BB, $A:$A,$A26, $H:$H,$H26, $I:$I,$I26 ) -> -4 | BD26: =IF(BC26>0, BC26*0.92, BC26) -> -4 | BE26: =IF( BC26>0, IF( AA26="W", BB26 - (BC26 - BD26), BB26 ), BB26 ) -> -1 | BF26: {=SUMPRODUCT((1/COUNTIFS($A$3:$A26,$A$3:$A26,$H$3:$H26,$H$3:$H26,$I$3:$I26,$I$3:$I26)))} -> 6 | BG26: 1 | BH26: =BG26/BF26 -> 0.16666667
A27: 46032 | C27: 12.43 | D27: Sat | E27: VIC | H27: Flemington | I27: 6 | J27: 10 | K27: Blackberry Bomb | L27: 1 | M27: 30 | N27: 62.9 | O27: BFSP | Q27: Win | R27: 58.567 | S27: un | T27: =IF(($AA27="W"),ROUND(($L27*$R27),2),"0.00") -> 0.00 | U27: =BE27 -> -1 | V27: =V26+U27 -> -9.852 | W27: =W26+L27 -> 23.5 | X27: =SUM(V27/W27) -> -0.41923404 | Y27: =V27/100 -> -0.09852 | Z27: =V27*100 -> -985.2 | AA27: L | AT27: 43.9 | AU27: 41 | AV27: =((N27*(L27))-(L27)) -> 61.9 | AW27: =0.92*(N27-1)+1 -> 57.948 | AZ27: =IF(N27>=M27,"Yes","No") -> Yes | BB27: =IF(AA27="W", L27*(N27-1), -L27 ) -> -1 | BC27: =SUMIFS( $BB:$BB, $A:$A,$A27, $H:$H,$H27, $I:$I,$I27 ) -> -4 | BD27: =IF(BC27>0, BC27*0.92, BC27) -> -4 | BE27: =IF( BC27>0, IF( AA27="W", BB27 - (BC27 - BD27), BB27 ), BB27 ) -> -1 | BF27: {=SUMPRODUCT((1/COUNTIFS($A$3:$A27,$A$3:$A27,$H$3:$H27,$H$3:$H27,$I$3:$I27,$I$3:$I27)))} -> 6 | BG27: 1 | BH27: =BG27/BF27 -> 0.16666667
A28: 46032 | C28: 1.06 | D28: Sat | E28: VIC | H28: Flemington | I28: 7 | J28: 11 | K28: Teardrop Rotation | L28: 1 | M28: 9.8 | N28: 21.2 | O28: BFSP | Q28: Win | R28: 19.786 | S28: 3 | T28: =IF(($AA28="W"),ROUND(($L28*$R28),2),"0.00") -> 0.00 | U28: =BE28 -> -1 | V28: =V27+U28 -> -10.852 | W28: =W27+L28 -> 24.5 | X28: =SUM(V28/W28) -> -0.44293878 | Y28: =V28/100 -> -0.10852 | Z28: =V28*100 -> -1085.2 | AA28: L | AT28: 14.7 | AU28: 14 | AV28: =((N28*(L28))-(L28)) -> 20.2 | AW28: =0.92*(N28-1)+1 -> 19.584 | AZ28: =IF(N28>=M28,"Yes","No") -> Yes | BB28: =IF(AA28="W", L28*(N28-1), -L28 ) -> -1 | BC28: =SUMIFS( $BB:$BB, $A:$A,$A28, $H:$H,$H28, $I:$I,$I28 ) -> -4 | BD28: =IF(BC28>0, BC28*0.92, BC28) -> -4 | BE28: =IF( BC28>0, IF( AA28="W", BB28 - (BC28 - BD28), BB28 ), BB28 ) -> -1 | BF28: {=SUMPRODUCT((1/COUNTIFS($A$3:$A28,$A$3:$A28,$H$3:$H28,$H$3:$H28,$I$3:$I28,$I$3:$I28)))} -> 7 | BG28: 1 | BH28: =BG28/BF28 -> 0.14285714
A29: 46032 | C29: 1.06 | D29: Sat | E29: VIC | H29: Flemington | I29: 7 | J29: 5 | K29: Angland | L29: 1 | M29: 10 | N29: 13 | O29: BFSP | Q29: Win | R29: 12.16 | S29: 4 | T29: =IF(($AA29="W"),ROUND(($L29*$R29),2),"0.00") -> 0.00 | U29: =BE29 -> -1 | V29: =V28+U29 -> -11.852 | W29: =W28+L29 -> 25.5 | X29: =SUM(V29/W29) -> -0.46478431 | Y29: =V29/100 -> -0.11852 | Z29: =V29*100 -> -1185.2 | AA29: L | AT29: 12 | AU29: 14 | AV29: =((N29*(L29))-(L29)) -> 12 | AW29: =0.92*(N29-1)+1 -> 12.04 | AZ29: =IF(N29>=M29,"Yes","No") -> Yes | BB29: =IF(AA29="W", L29*(N29-1), -L29 ) -> -1 | BC29: =SUMIFS( $BB:$BB, $A:$A,$A29, $H:$H,$H29, $I:$I,$I29 ) -> -4 | BD29: =IF(BC29>0, BC29*0.92, BC29) -> -4 | BE29: =IF( BC29>0, IF( AA29="W", BB29 - (BC29 - BD29), BB29 ), BB29 ) -> -1 | BF29: {=SUMPRODUCT((1/COUNTIFS($A$3:$A29,$A$3:$A29,$H$3:$H29,$H$3:$H29,$I$3:$I29,$I$3:$I29)))} -> 7 | BG29: 1 | BH29: =BG29/BF29 -> 0.14285714
A30: 46032 | C30: 1.06 | D30: Sat | E30: VIC | H30: Flemington | I30: 7 | J30: 3 | K30: Roadcone | L30: 1 | M30: 11 | N30: 18.45 | O30: BFSP | Q30: Win | R30: 17.2285 | S30: un | T30: =IF(($AA30="W"),ROUND(($L30*$R30),2),"0.00") -> 0.00 | U30: =BE30 -> -1 | V30: =V29+U30 -> -12.852 | W30: =W29+L30 -> 26.5 | X30: =SUM(V30/W30) -> -0.48498113 | Y30: =V30/100 -> -0.12852 | Z30: =V30*100 -> -1285.2 | AA30: L | AT30: 13 | AU30: 13 | AV30: =((N30*(L30))-(L30)) -> 17.45 | AW30: =0.92*(N30-1)+1 -> 17.054 | AZ30: =IF(N30>=M30,"Yes","No") -> Yes | BB30: =IF(AA30="W", L30*(N30-1), -L30 ) -> -1 | BC30: =SUMIFS( $BB:$BB, $A:$A,$A30, $H:$H,$H30, $I:$I,$I30 ) -> -4 | BD30: =IF(BC30>0, BC30*0.92, BC30) -> -4 | BE30: =IF( BC30>0, IF( AA30="W", BB30 - (BC30 - BD30), BB30 ), BB30 ) -> -1 | BF30: {=SUMPRODUCT((1/COUNTIFS($A$3:$A30,$A$3:$A30,$H$3:$H30,$H$3:$H30,$I$3:$I30,$I$3:$I30)))} -> 7 | BG30: 1 | BH30: =BG30/BF30 -> 0.14285714
A31: 46032 | C31: 1.06 | D31: Sat | E31: VIC | H31: Flemington | I31: 7 | J31: 9 | K31: Shiny New Deel | L31: 1 | M31: 20 | N31: 48.75 | O31: BFSP | Q31: Win | R31: 45.41 | S31: un | T31: =IF(($AA31="W"),ROUND(($L31*$R31),2),"0.00") -> 0.00 | U31: =BE31 -> -1 | V31: =V30+U31 -> -13.852 | W31: =W30+L31 -> 27.5 | X31: =SUM(V31/W31) -> -0.50370909 | Y31: =V31/100 -> -0.13852 | Z31: =V31*100 -> -1385.2 | AA31: L | AT31: 31 | AU31: 31 | AV31: =((N31*(L31))-(L31)) -> 47.75 | AW31: =0.92*(N31-1)+1 -> 44.93 | AZ31: =IF(N31>=M31,"Yes","No") -> Yes | BB31: =IF(AA31="W", L31*(N31-1), -L31 ) -> -1 | BC31: =SUMIFS( $BB:$BB, $A:$A,$A31, $H:$H,$H31, $I:$I,$I31 ) -> -4 | BD31: =IF(BC31>0, BC31*0.92, BC31) -> -4 | BE31: =IF( BC31>0, IF( AA31="W", BB31 - (BC31 - BD31), BB31 ), BB31 ) -> -1 | BF31: {=SUMPRODUCT((1/COUNTIFS($A$3:$A31,$A$3:$A31,$H$3:$H31,$H$3:$H31,$I$3:$I31,$I$3:$I31)))} -> 7 | BG31: 1 | BH31: =BG31/BF31 -> 0.14285714
A32: 46032 | C32: 1.4 | D32: Sat | E32: VIC | H32: Flemington | I32: 8 | J32: 4 | K32: Aztec Ruler | L32: 1 | M32: 8.6 | N32: 26.78 | O32: BFSP | Q32: Win | R32: 24.9754 | S32: un | T32: =IF(($AA32="W"),ROUND(($L32*$R32),2),"0.00") -> 0.00 | U32: =BE32 -> -1 | V32: =V31+U32 -> -14.852 | W32: =W31+L32 -> 28.5 | X32: =SUM(V32/W32) -> -0.52112281 | Y32: =V32/100 -> -0.14852 | Z32: =V32*100 -> -1485.2 | AA32: L | AT32: 21 | AU32: 21 | AV32: =((N32*(L32))-(L32)) -> 25.78 | AW32: =0.92*(N32-1)+1 -> 24.7176 | AZ32: =IF(N32>=M32,"Yes","No") -> Yes | BB32: =IF(AA32="W", L32*(N32-1), -L32 ) -> -1 | BC32: =SUMIFS( $BB:$BB, $A:$A,$A32, $H:$H,$H32, $I:$I,$I32 ) -> -4 | BD32: =IF(BC32>0, BC32*0.92, BC32) -> -4 | BE32: =IF( BC32>0, IF( AA32="W", BB32 - (BC32 - BD32), BB32 ), BB32 ) -> -1 | BF32: {=SUMPRODUCT((1/COUNTIFS($A$3:$A32,$A$3:$A32,$H$3:$H32,$H$3:$H32,$I$3:$I32,$I$3:$I32)))} -> 8 | BG32: 1 | BH32: =BG32/BF32 -> 0.125
A33: 46032 | C33: 1.4 | D33: Sat | E33: VIC | H33: Flemington | I33: 8 | J33: 8 | K33: Samangu | L33: 1 | M33: 14.5 | N33: 23.99 | O33: BFSP | Q33: Win | R33: 22.3807 | S33: un | T33: =IF(($AA33="W"),ROUND(($L33*$R33),2),"0.00") -> 0.00 | U33: =BE33 -> -1 | V33: =V32+U33 -> -15.852 | W33: =W32+L33 -> 29.5 | X33: =SUM(V33/W33) -> -0.53735593 | Y33: =V33/100 -> -0.15852 | Z33: =V33*100 -> -1585.2 | AA33: L | AT33: 18.1 | AU33: 18 | AV33: =((N33*(L33))-(L33)) -> 22.99 | AW33: =0.92*(N33-1)+1 -> 22.1508 | AZ33: =IF(N33>=M33,"Yes","No") -> Yes | BB33: =IF(AA33="W", L33*(N33-1), -L33 ) -> -1 | BC33: =SUMIFS( $BB:$BB, $A:$A,$A33, $H:$H,$H33, $I:$I,$I33 ) -> -4 | BD33: =IF(BC33>0, BC33*0.92, BC33) -> -4 | BE33: =IF( BC33>0, IF( AA33="W", BB33 - (BC33 - BD33), BB33 ), BB33 ) -> -1 | BF33: {=SUMPRODUCT((1/COUNTIFS($A$3:$A33,$A$3:$A33,$H$3:$H33,$H$3:$H33,$I$3:$I33,$I$3:$I33)))} -> 8 | BG33: 1 | BH33: =BG33/BF33 -> 0.125
A34: 46032 | C34: 1.4 | D34: Sat | E34: VIC | H34: Flemington | I34: 8 | J34: 10 | K34: Extrawtwo | L34: 1 | M34: 32 | N34: 59.4 | O34: BFSP | Q34: Win | R34: 55.312 | S34: 2 | T34: =IF(($AA34="W"),ROUND(($L34*$R34),2),"0.00") -> 0.00 | U34: =BE34 -> -1 | V34: =V33+U34 -> -16.852 | W34: =W33+L34 -> 30.5 | X34: =SUM(V34/W34) -> -0.55252459 | Y34: =V34/100 -> -0.16852 | Z34: =V34*100 -> -1685.2 | AA34: L | AT34: 41 | AU34: 41 | AV34: =((N34*(L34))-(L34)) -> 58.4 | AW34: =0.92*(N34-1)+1 -> 54.728 | AZ34: =IF(N34>=M34,"Yes","No") -> Yes | BB34: =IF(AA34="W", L34*(N34-1), -L34 ) -> -1 | BC34: =SUMIFS( $BB:$BB, $A:$A,$A34, $H:$H,$H34, $I:$I,$I34 ) -> -4 | BD34: =IF(BC34>0, BC34*0.92, BC34) -> -4 | BE34: =IF( BC34>0, IF( AA34="W", BB34 - (BC34 - BD34), BB34 ), BB34 ) -> -1 | BF34: {=SUMPRODUCT((1/COUNTIFS($A$3:$A34,$A$3:$A34,$H$3:$H34,$H$3:$H34,$I$3:$I34,$I$3:$I34)))} -> 8 | BG34: 1 | BH34: =BG34/BF34 -> 0.125
A35: 46032 | C35: 1.4 | D35: Sat | E35: VIC | H35: Flemington | I35: 8 | J35: 12 | K35: Celsius Star | L35: 1 | M35: 44 | N35: 80 | O35: BFSP | Q35: Win | R35: 74.47 | S35: un | T35: =IF(($AA35="W"),ROUND(($L35*$R35),2),"0.00") -> 0.00 | U35: =BE35 -> -1 | V35: =V34+U35 -> -17.852 | W35: =W34+L35 -> 31.5 | X35: =SUM(V35/W35) -> -0.56673016 | Y35: =V35/100 -> -0.17852 | Z35: =V35*100 -> -1785.2 | AA35: L | AT35: 64 | AU35: 61 | AV35: =((N35*(L35))-(L35)) -> 79 | AW35: =0.92*(N35-1)+1 -> 73.68 | AZ35: =IF(N35>=M35,"Yes","No") -> Yes | BB35: =IF(AA35="W", L35*(N35-1), -L35 ) -> -1 | BC35: =SUMIFS( $BB:$BB, $A:$A,$A35, $H:$H,$H35, $I:$I,$I35 ) -> -4 | BD35: =IF(BC35>0, BC35*0.92, BC35) -> -4 | BE35: =IF( BC35>0, IF( AA35="W", BB35 - (BC35 - BD35), BB35 ), BB35 ) -> -1 | BF35: {=SUMPRODUCT((1/COUNTIFS($A$3:$A35,$A$3:$A35,$H$3:$H35,$H$3:$H35,$I$3:$I35,$I$3:$I35)))} -> 8 | BG35: 1 | BH35: =BG35/BF35 -> 0.125
A36: 46032 | C36: 2.25 | D36: Sat | E36: VIC | H36: Flemington | I36: 9 | J36: 9 | K36: Three Rings | L36: 1 | M36: 16.5 | N36: 38 | O36: BFSP | Q36: Win | R36: 35.41 | S36: un | T36: =IF(($AA36="W"),ROUND(($L36*$R36),2),"0.00") -> 0.00 | U36: =BE36 -> -1 | V36: =V35+U36 -> -18.852 | W36: =W35+L36 -> 32.5 | X36: =SUM(V36/W36) -> -0.58006154 | Y36: =V36/100 -> -0.18852 | Z36: =V36*100 -> -1885.2 | AA36: L | AT36: 32.4 | AU36: 31 | AV36: =((N36*(L36))-(L36)) -> 37 | AW36: =0.92*(N36-1)+1 -> 35.04 | AZ36: =IF(N36>=M36,"Yes","No") -> Yes | BB36: =IF(AA36="W", L36*(N36-1), -L36 ) -> -1 | BC36: =SUMIFS( $BB:$BB, $A:$A,$A36, $H:$H,$H36, $I:$I,$I36 ) -> 37.75 | BD36: =IF(BC36>0, BC36*0.92, BC36) -> 34.73 | BE36: =IF( BC36>0, IF( AA36="W", BB36 - (BC36 - BD36), BB36 ), BB36 ) -> -1 | BF36: {=SUMPRODUCT((1/COUNTIFS($A$3:$A36,$A$3:$A36,$H$3:$H36,$H$3:$H36,$I$3:$I36,$I$3:$I36)))} -> 9 | BG36: 1 | BH36: =BG36/BF36 -> 0.11111111
A37: 46032 | C37: 2.25 | D37: Sat | E37: VIC | H37: Flemington | I37: 9 | J37: 6 | K37: Flying Mikki | L37: 1 | M37: 21 | N37: 71.41 | O37: BFSP | Q37: Win | R37: 66.4813 | S37: 2 | T37: =IF(($AA37="W"),ROUND(($L37*$R37),2),"0.00") -> 0.00 | U37: =BE37 -> -1 | V37: =V36+U37 -> -19.852 | W37: =W36+L37 -> 33.5 | X37: =SUM(V37/W37) -> -0.59259701 | Y37: =V37/100 -> -0.19852 | Z37: =V37*100 -> -1985.2 | AA37: L | AT37: 45.3 | AU37: 41 | AV37: =((N37*(L37))-(L37)) -> 70.41 | AW37: =0.92*(N37-1)+1 -> 65.7772 | AZ37: =IF(N37>=M37,"Yes","No") -> Yes | BB37: =IF(AA37="W", L37*(N37-1), -L37 ) -> -1 | BC37: =SUMIFS( $BB:$BB, $A:$A,$A37, $H:$H,$H37, $I:$I,$I37 ) -> 37.75 | BD37: =IF(BC37>0, BC37*0.92, BC37) -> 34.73 | BE37: =IF( BC37>0, IF( AA37="W", BB37 - (BC37 - BD37), BB37 ), BB37 ) -> -1 | BF37: {=SUMPRODUCT((1/COUNTIFS($A$3:$A37,$A$3:$A37,$H$3:$H37,$H$3:$H37,$I$3:$I37,$I$3:$I37)))} -> 9 | BG37: 1 | BH37: =BG37/BF37 -> 0.11111111
A38: 46032 | C38: 2.25 | D38: Sat | E38: VIC | H38: Flemington | I38: 9 | J38: 5 | K38: Fission | L38: 1 | M38: 28 | N38: 41.75 | O38: BFSP | Q38: Win | R38: 38.8975 | S38: 1 | T38: =IF(($AA38="W"),ROUND(($L38*$R38),2),"0.00") -> 38.9 | U38: =BE38 -> 37.73 | V38: =V37+U38 -> 17.878 | W38: =W37+L38 -> 34.5 | X38: =SUM(V38/W38) -> 0.5182029 | Y38: =V38/100 -> 0.17878 | Z38: =V38*100 -> 1787.8 | AA38: W | AT38: 31 | AU38: 31 | AV38: =((N38*(L38))-(L38)) -> 40.75 | AW38: =0.92*(N38-1)+1 -> 38.49 | AZ38: =IF(N38>=M38,"Yes","No") -> Yes | BB38: =IF(AA38="W", L38*(N38-1), -L38 ) -> 40.75 | BC38: =SUMIFS( $BB:$BB, $A:$A,$A38, $H:$H,$H38, $I:$I,$I38 ) -> 37.75 | BD38: =IF(BC38>0, BC38*0.92, BC38) -> 34.73 | BE38: =IF( BC38>0, IF( AA38="W", BB38 - (BC38 - BD38), BB38 ), BB38 ) -> 37.73 | BF38: {=SUMPRODUCT((1/COUNTIFS($A$3:$A38,$A$3:$A38,$H$3:$H38,$H$3:$H38,$I$3:$I38,$I$3:$I38)))} -> 9 | BG38: 2 | BH38: =BG38/BF38 -> 0.22222222
A39: 46032 | C39: 2.25 | D39: Sat | E39: VIC | H39: Flemington | I39: 9 | J39: 7 | K39: Ikasara | L39: 1 | M39: 29 | N39: 46 | O39: BFSP | Q39: Win | R39: 42.85 | S39: un | T39: =IF(($AA39="W"),ROUND(($L39*$R39),2),"0.00") -> 0.00 | U39: =BE39 -> -1 | V39: =V38+U39 -> 16.878 | W39: =W38+L39 -> 35.5 | X39: =SUM(V39/W39) -> 0.47543662 | Y39: =V39/100 -> 0.16878 | Z39: =V39*100 -> 1687.8 | AA39: L | AT39: 26 | AU39: 26 | AV39: =((N39*(L39))-(L39)) -> 45 | AW39: =0.92*(N39-1)+1 -> 42.4 | AZ39: =IF(N39>=M39,"Yes","No") -> Yes | BB39: =IF(AA39="W", L39*(N39-1), -L39 ) -> -1 | BC39: =SUMIFS( $BB:$BB, $A:$A,$A39, $H:$H,$H39, $I:$I,$I39 ) -> 37.75 | BD39: =IF(BC39>0, BC39*0.92, BC39) -> 34.73 | BE39: =IF( BC39>0, IF( AA39="W", BB39 - (BC39 - BD39), BB39 ), BB39 ) -> -1 | BF39: {=SUMPRODUCT((1/COUNTIFS($A$3:$A39,$A$3:$A39,$H$3:$H39,$H$3:$H39,$I$3:$I39,$I$3:$I39)))} -> 9 | BG39: 2 | BH39: =BG39/BF39 -> 0.22222222
A40: 46032 | C40: 2.53 | D40: Sat | E40: VIC | H40: Flemington | I40: 10 | J40: 13 | K40: Hot Digity Boom | L40: 0.5 | M40: 4.9 | N40: 5.73 | O40: BFSP | Q40: Win | R40: 5.3989 | S40: 4 | T40: =IF(($AA40="W"),ROUND(($L40*$R40),2),"0.00") -> 0.00 | U40: =BE40 -> -0.5 | V40: =V39+U40 -> 16.378 | W40: =W39+L40 -> 36 | X40: =SUM(V40/W40) -> 0.45494444 | Y40: =V40/100 -> 0.16378 | Z40: =V40*100 -> 1637.8 | AA40: L | AT40: 5.2 | AU40: 5 | AV40: =((N40*(L40))-(L40)) -> 2.365 | AW40: =0.92*(N40-1)+1 -> 5.3516 | AZ40: =IF(N40>=M40,"Yes","No") -> Yes | BB40: =IF(AA40="W", L40*(N40-1), -L40 ) -> -0.5 | BC40: =SUMIFS( $BB:$BB, $A:$A,$A40, $H:$H,$H40, $I:$I,$I40 ) -> 0 | BD40: =IF(BC40>0, BC40*0.92, BC40) -> 0 | BE40: =IF( BC40>0, IF( AA40="W", BB40 - (BC40 - BD40), BB40 ), BB40 ) -> -0.5 | BF40: {=SUMPRODUCT((1/COUNTIFS($A$3:$A40,$A$3:$A40,$H$3:$H40,$H$3:$H40,$I$3:$I40,$I$3:$I40)))} -> 10 | BG40: 2 | BH40: =BG40/BF40 -> 0.2
...

Sheet Sheet2
A1: Date | D1: Race No. | E1: Runner | F1: Horse | G1: Rated Price | H1: Units | I1: BFSP | J1: BFSP Higher than Rated Price
A2: 46032 | D2: 1 | E2: 1 | F2: Jenni Gone Bonkers | G2: 2.34 | H2: 0.5 | I2: 2.4 | J2: =IF(I2>=G2,"Yes","No") -> Yes
A3: 46032 | D3: 1 | E3: 6 | F3: Our Chief | G3: 3.7 | H3: 0.5 | I3: 3.16 | J3: =IF(I3>=G3,"Yes","No") -> No
A4: 46032 | D4: 1 | E4: 2 | F4: Flying Done | G4: 10.5 | H4: 1 | I4: 6.49 | J4: =IF(I4>=G4,"Yes","No") -> No
A5: 46032 | D5: 1 | E5: 3 | F5: Maketime | G5: 36 | H5: 1 | I5: 14.5 | J5: =IF(I5>=G5,"Yes","No") -> No
A6: 46032 | D6: 2 | E6: 8 | F6: Trapalanda | G6: 3.15 | H6: 0.5 | I6: 2.66 | J6: =IF(I6>=G6,"Yes","No") -> No
A7: 46032 | D7: 2 | E7: 5 | F7: Stylish Secret | G7: 6 | H7: 0.5 | I7: 6.58 | J7: =IF(I7>=G7,"Yes","No") -> Yes
A8: 46032 | D8: 2 | E8: 9 | F8: Sun Gift | G8: 6 | H8: 0.5 | I8: 4.91 | J8: =IF(I8>=G8,"Yes","No") -> No
A9: 46032 | D9: 2 | E9: 6 | F9: American Wolf | G9: 10 | H9: 1 | I9: 19.5 | J9: =IF(I9>=G9,"Yes","No") -> Yes
A10: 46032 | D10: 2 | E10: 1 | F10: Prince Eric | G10: 14.5 | H10: 1 | I10: 28 | J10: =IF(I10>=G10,"Yes","No") -> Yes
A11: 46032 | D11: 2 | E11: 7 | F11: Politely Dun | G11: 14.5 | H11: 1 | I11: 16 | J11: =IF(I11>=G11,"Yes","No") -> Yes
A12: 46032 | D12: 2 | E12: 10 | F12: Wolfess | G12: 15.5 | H12: 1 | I12: 11.5 | J12: =IF(I12>=G12,"Yes","No") -> No
A13: 46032 | D13: 2 | E13: 3 | F13: New York Hurricane | G13: 42 | H13: 1 | I13: 65 | J13: =IF(I13>=G13,"Yes","No") -> Yes
... A167: 46046 | D167: 7 | E167: 2 | F167: Way To The Stars | G167: 8.8 | H167: 1 | I167: 13.38 | J167: =IF(I167>=G167,"Yes","No") -> Yes
A168: 46046 | D168: 8 | E168: 3 | F168: Romantic Encounter | G168: 5.8422 | H168: 0.5 | I168: 17 | J168: =IF(I168>=G168,"Yes","No") -> Yes | K168: 0.0263
A169: 46046 | D169: 8 | E169: 2 | F169: Job Done | G169: 8.56856 | H169: 1 | I169: 6.4 | J169: =IF(I169>=G169,"Yes","No") -> No | K169: 0.0263
A170: 46046 | D170: 8 | E170: 10 | F170: Conscience | G170: 11.19755 | H170: 1 | I170: 18.44 | J170: =IF(I170>=G170,"Yes","No") -> Yes | K170: 0.0263
A171: 46046 | D171: 8 | E171: 7 | F171: Miss Ole | G171: 12.17125 | H171: 1 | I171: 10.32 | J171: =IF(I171>=G171,"Yes","No") -> No | K171: 0.0263
A172: 46046 | D172: 8 | E172: 8 | F172: Naifah | G172: 12.17125 | H172: 1 | I172: 9.51 | J172: =IF(I172>=G172,"Yes","No") -> No | K172: 0.0263
A173: 46046 | D173: 8 | E173: 4 | F173: Express Class | G173: 19.474 | H173: 1 | I173: 15.64 | J173: =IF(I173>=G173,"Yes","No") -> No | K173: 0.0263
A174: 46046 | D174: 9 | E174: 3 | F174: Regal Zeus | G174: 4.5 | H174: 0.5 | I174: 3.34 | J174: =IF(I174>=G174,"Yes","No") -> No
A175: 46046 | D175: 9 | E175: 8 | F175: Extratwo | G175: 8.4 | H175: 1 | I175: 15.62 | J175: =IF(I175>=G175,"Yes","No") -> Yes
A176: 46046 | D176: 9 | E176: 10 | F176: Hughes | G176: 8.8 | H176: 1 | I176: 10.87 | J176: =IF(I176>=G176,"Yes","No") -> Yes
A177: 46046 | D177: 9 | E177: 9 | F177: Contemporary | G177: 17 | H177: 1 | I177: 30.91 | J177: =IF(I177>=G177,"Yes","No") -> Yes
A178: 46046 | D178: 10 | E178: 5 | F178: Touchdown | G178: 2.02 | H178: 0.5 | I178: 1.96 | J178: =IF(I178>=G178,"Yes","No") -> No
A179: 46046 | D179: 10 | E179: 12 | F179: Yes I Know | G179: 3.15 | H179: 0.5 | I179: 2.49 | J179: =IF(I179>=G179,"Yes","No") -> No
A180: 46046 | D180: 10 | E180: 6 | F180: Narbold | G180: 12.5 | H180: 1 | I180: 28.73 | J180: =IF(I180>=G180,"Yes","No") -> Yes
A181: 46046 | D181: 10 | E181: 1 | F181: Black Storm | G181: 17.5 | H181: 1 | I181: 21.41 | J181: =IF(I181>=G181,"Yes","No") -> Yes
A182: 46046 | D182: 10 | E182: 4 | F182: Sunsets | G182: 44 | H182: 1 | I182: 31.33 | J182: =IF(I182>=G182,"Yes","No") -> No
A183: 46053 | D183: 1 | E183: 6 | F183: Jennis Meadow | G183: 3 | H183: 0.5 | I183: 3 | J183: =IF(I183>=G183,"Yes","No") -> Yes
A184: 46053 | D184: 1 | E184: 3 | F184: Magnaspin | G184: 4.4 | H184: 0.5 | I184: 4.67 | J184: =IF(I184>=G184,"Yes","No") -> Yes
A185: 46053 | D185: 1 | E185: 1 | F185: Bold Soul | G185: 10 | H185: 1 | I185: 11.31 | J185: =IF(I185>=G185,"Yes","No") -> Yes
... A756: 46123 | D756: 6 | E756: 8 | F756: Motorsports | G756: 7.6 | H756: 1 | I756: 5.79 | J756: =IF(I756>=G756,"Yes","No") -> No
A757: 46123 | D757: 7 | E757: 1 | F757: Single Choice | G757: 4.656 | H757: 0.5 | I757: 5.63 | J757: =IF(I757>=G757,"Yes","No") -> Yes | K757: 0.03
A758: 46123 | D758: 7 | E758: 2 | F758: Dad And Dave | G758: 11.64 | H758: 0.5 | I758: 13.27 | J758: =IF(I758>=G758,"Yes","No") -> Yes | K758: 0.03
A759: 46123 | D759: 7 | E759: 3 | F759: Hallowed Halls | G759: 32.98 | H759: 0.5 | I759: 44.64 | J759: =IF(I759>=G759,"Yes","No") -> Yes | K759: 0.03
A760: 46123 | D760: 7 | E760: 4 | F760: Amazake | G760: 3.589 | H760: 0.5 | I760: 3.25 | J760: =IF(I760>=G760,"Yes","No") -> No | K760: 0.03
A761: 46123 | D761: 7 | E761: 5 | F761: Johnich | G761: 17.46 | H761: 0.5 | I761: 25.68 | J761: =IF(I761>=G761,"Yes","No") -> Yes | K761: 0.03
A762: 46123 | D762: 7 | E762: 6 | F762: Arabian Prince | G762: 9.312 | H762: 0.5 | I762: 4 | J762: =IF(I762>=G762,"Yes","No") -> No | K762: 0.03
A763: 46123 | D763: 7 | E763: 10 | F763: Sonic Bender | G763: 29.1 | H763: 0.5 | I763: 29.32 | J763: =IF(I763>=G763,"Yes","No") -> Yes | K763: 0.03
...

Sheet Analysis
A1: Track | B1: Units Invested | C1: Units Collected (Net) | D1: Profit (Net) | E1: POT% | F1: Rated Price | G1: 1-1.99 | H1: 2-2.99 | I1: 3-3.99 | J1: 4-4.99 | K1: 5-5.99 | L1: 6-6.99 | M1: 7-7.99 | N1: 8-8.99 | O1: 9-9.99 | P1: 10-19.99 | Q1: 20-29.99 | R1: 30-39.99 | S1: 40-49.99 | T1: 50+ | U1: Rated Price POT% | V1: 1-1.99 | W1: 2-2.99 | X1: 3-3.99 | Y1: 4-4.99 | Z1: 5-5.99 | AA1: 6-6.99 | AB1: 7-7.99 | AC1: 8-8.99 | AD1: 9-9.99 | AE1: 10-19.99 | AF1: 20-29.99 | AG1: 30-39.99 | AH1: 40-49.99 | AI1: 50+
A2: Bendigo | B2: {=SUMPRODUCT((TRIM('DATA INPUT'!$H$3:$H$2001)=$A2)*'DATA INPUT'!$L$3:$L$2001)} -> 16.5 | C2: =B2+D2 -> 22.548 | D2: {=SUMPRODUCT((TRIM('DATA INPUT'!$H$3:$H$2001)=$A2)*'DATA INPUT'!$U$3:$U$2001)} -> 6.048 | E2: =IFERROR(D2/B2,0) -> 0.36654545 | G2: {=SUMPRODUCT((TRIM('DATA INPUT'!$H$3:$H$2001)=$A2)*('DATA INPUT'!$M$3:$M$2001>=1)*('DATA INPUT'!$M$3:$M$2001<2)*'DATA INPUT'!$U$3:$U$2001)} -> 0 | H2: {=SUMPRODUCT((TRIM('DATA INPUT'!$H$3:$H$2001)=$A2)*('DATA INPUT'!$M$3:$M$2001>=2)*('DATA INPUT'!$M$3:$M$2001<3)*'DATA INPUT'!$U$3:$U$2001)} -> 0 | I2: {=SUMPRODUCT((TRIM('DATA INPUT'!$H$3:$H$2001)=$A2)*('DATA INPUT'!$M$3:$M$2001>=3)*('DATA INPUT'!$M$3:$M$2001<4)*'DATA INPUT'!$U$3:$U$2001)} -> 0.6624 | J2: {=SUMPRODUCT((TRIM('DATA INPUT'!$H$3:$H$2001)=$A2)*('DATA INPUT'!$M$3:$M$2001>=4)*('DATA INPUT'!$M$3:$M$2001<5)*'DATA INPUT'!$U$3:$U$2001)} -> -0.5 | K2: {=SUMPRODUCT((TRIM('DATA INPUT'!$H$3:$H$2001)=$A2)*('DATA INPUT'!$M$3:$M$2001>=5)*('DATA INPUT'!$M$3:$M$2001<6)*'DATA INPUT'!$U$3:$U$2001)} -> -1.5 | L2: {=SUMPRODUCT((TRIM('DATA INPUT'!$H$3:$H$2001)=$A2)*('DATA INPUT'!$M$3:$M$2001>=6)*('DATA INPUT'!$M$3:$M$2001<7)*'DATA INPUT'!$U$3:$U$2001)} -> 2.472 | M2: {=SUMPRODUCT((TRIM('DATA INPUT'!$H$3:$H$2001)=$A2)*('DATA INPUT'!$M$3:$M$2001>=7)*('DATA INPUT'!$M$3:$M$2001<8)*'DATA INPUT'!$U$3:$U$2001)} -> -1.5 | N2: {=SUMPRODUCT((TRIM('DATA INPUT'!$H$3:$H$2001)=$A2)*('DATA INPUT'!$M$3:$M$2001>=8)*('DATA INPUT'!$M$3:$M$2001<9)*'DATA INPUT'!$U$3:$U$2001)} -> 0 | O2: {=SUMPRODUCT((TRIM('DATA INPUT'!$H$3:$H$2001)=$A2)*('DATA INPUT'!$M$3:$M$2001>=9)*('DATA INPUT'!$M$3:$M$2001<10)*'DATA INPUT'!$U$3:$U$2001)} -> -1 | P2: {=SUMPRODUCT((TRIM('DATA INPUT'!$H$3:$H$2001)=$A2)*('DATA INPUT'!$M$3:$M$2001>=10)*('DATA INPUT'!$M$3:$M$2001<20)*'DATA INPUT'!$U$3:$U$2001)} -> 11.9136 | Q2: {=SUMPRODUCT((TRIM('DATA INPUT'!$H$3:$H$2001)=$A2)*('DATA INPUT'!$M$3:$M$2001>=20)*('DATA INPUT'!$M$3:$M$2001<30)*'DATA INPUT'!$U$3:$U$2001)} -> -2.5 | R2: {=SUMPRODUCT((TRIM('DATA INPUT'!$H$3:$H$2001)=$A2)*('DATA INPUT'!$M$3:$M$2001>=30)*('DATA INPUT'!$M$3:$M$2001<40)*'DATA INPUT'!$U$3:$U$2001)} -> -1 | S2: {=SUMPRODUCT((TRIM('DATA INPUT'!$H$3:$H$2001)=$A2)*('DATA INPUT'!$M$3:$M$2001>=40)*('DATA INPUT'!$M$3:$M$2001<50)*'DATA INPUT'!$U$3:$U$2001)} -> -1 | T2: {=SUMPRODUCT((TRIM('DATA INPUT'!$H$3:$H$2001)=$A2)*('DATA INPUT'!$M$3:$M$2001>=50)*'DATA INPUT'!$U$3:$U$2001)} -> 0 | V2: {=IFERROR(SUMPRODUCT((TRIM('DATA INPUT'!$H$3:$H$2001)=$A2)*('DATA INPUT'!$M$3:$M$2001>=1)*('DATA INPUT'!$M$3:$M$2001<2)*'DATA INPUT'!$U$3:$U$2001)/SUMPRODUCT((TRIM('DATA INPUT'!$H$3:$H$2001)=$A2)*('DATA INPUT'!$M$3:$M$2001>=1)*('DATA INPUT'!$M$3:$M$2001<2)*'DATA INPUT'!$L$3:$L$2001),0)} -> 0 | W2: {=IFERROR(SUMPRODUCT((TRIM('DATA INPUT'!$H$3:$H$2001)=$A2)*('DATA INPUT'!$M$3:$M$2001>=2)*('DATA INPUT'!$M$3:$M$2001<3)*'DATA INPUT'!$U$3:$U$2001)/SUMPRODUCT((TRIM('DATA INPUT'!$H$3:$H$2001)=$A2)*('DATA INPUT'!$M$3:$M$2001>=2)*('DATA INPUT'!$M$3:$M$2001<3)*'DATA INPUT'!$L$3:$L$2001),0)} -> 0 | X2: {=IFERROR(SUMPRODUCT((TRIM('DATA INPUT'!$H$3:$H$2001)=$A2)*('DATA INPUT'!$M$3:$M$2001>=3)*('DATA INPUT'!$M$3:$M$2001<4)*'DATA INPUT'!$U$3:$U$2001)/SUMPRODUCT((TRIM('DATA INPUT'!$H$3:$H$2001)=$A2)*('DATA INPUT'!$M$3:$M$2001>=3)*('DATA INPUT'!$M$3:$M$2001<4)*'DATA INPUT'!$L$3:$L$2001),0)} -> 0.4416 | Y2: {=IFERROR(SUMPRODUCT((TRIM('DATA INPUT'!$H$3:$H$2001)=$A2)*('DATA INPUT'!$M$3:$M$2001>=4)*('DATA INPUT'!$M$3:$M$2001<5)*'DATA INPUT'!$U$3:$U$2001)/SUMPRODUCT((TRIM('DATA INPUT'!$H$3:$H$2001)=$A2)*('DATA INPUT'!$M$3:$M$2001>=4)*('DATA INPUT'!$M$3:$M$2001<5)*'DATA INPUT'!$L$3:$L$2001),0)} -> -1 | Z2: {=IFERROR(SUMPRODUCT((TRIM('DATA INPUT'!$H$3:$H$2001)=$A2)*('DATA INPUT'!$M$3:$M$2001>=5)*('DATA INPUT'!$M$3:$M$2001<6)*'DATA INPUT'!$U$3:$U$2001)/SUMPRODUCT((TRIM('DATA INPUT'!$H$3:$H$2001)=$A2)*('DATA INPUT'!$M$3:$M$2001>=5)*('DATA INPUT'!$M$3:$M$2001<6)*'DATA INPUT'!$L$3:$L$2001),0)} -> -1 | AA2: {=IFERROR(SUMPRODUCT((TRIM('DATA INPUT'!$H$3:$H$2001)=$A2)*('DATA INPUT'!$M$3:$M$2001>=6)*('DATA INPUT'!$M$3:$M$2001<7)*'DATA INPUT'!$U$3:$U$2001)/SUMPRODUCT((TRIM('DATA INPUT'!$H$3:$H$2001)=$A2)*('DATA INPUT'!$M$3:$M$2001>=6)*('DATA INPUT'!$M$3:$M$2001<7)*'DATA INPUT'!$L$3:$L$2001),0)} -> 1.236 | AB2: {=IFERROR(SUMPRODUCT((TRIM('DATA INPUT'!$H$3:$H$2001)=$A2)*('DATA INPUT'!$M$3:$M$2001>=7)*('DATA INPUT'!$M$3:$M$2001<8)*'DATA INPUT'!$U$3:$U$2001)/SUMPRODUCT((TRIM('DATA INPUT'!$H$3:$H$2001)=$A2)*('DATA INPUT'!$M$3:$M$2001>=7)*('DATA INPUT'!$M$3:$M$2001<8)*'DATA INPUT'!$L$3:$L$2001),0)} -> -1 | AC2: {=IFERROR(SUMPRODUCT((TRIM('DATA INPUT'!$H$3:$H$2001)=$A2)*('DATA INPUT'!$M$3:$M$2001>=8)*('DATA INPUT'!$M$3:$M$2001<9)*'DATA INPUT'!$U$3:$U$2001)/SUMPRODUCT((TRIM('DATA INPUT'!$H$3:$H$2001)=$A2)*('DATA INPUT'!$M$3:$M$2001>=8)*('DATA INPUT'!$M$3:$M$2001<9)*'DATA INPUT'!$L$3:$L$2001),0)} -> 0 | AD2: {=IFERROR(SUMPRODUCT((TRIM('DATA INPUT'!$H$3:$H$2001)=$A2)*('DATA INPUT'!$M$3:$M$2001>=9)*('DATA INPUT'!$M$3:$M$2001<10)*'DATA INPUT'!$U$3:$U$2001)/SUMPRODUCT((TRIM('DATA INPUT'!$H$3:$H$2001)=$A2)*('DATA INPUT'!$M$3:$M$2001>=9)*('DATA INPUT'!$M$3:$M$2001<10)*'DATA INPUT'!$L$3:$L$2001),0)} -> -1 | AE2: {=IFERROR(SUMPRODUCT((TRIM('DATA INPUT'!$H$3:$H$2001)=$A2)*('DATA INPUT'!$M$3:$M$2001>=10)*('DATA INPUT'!$M$3:$M$2001<20)*'DATA INPUT'!$U$3:$U$2001)/SUMPRODUCT((TRIM('DATA INPUT'!$H$3:$H$2001)=$A2)*('DATA INPUT'!$M$3:$M$2001>=10)*('DATA INPUT'!$M$3:$M$2001<20)*'DATA INPUT'!$L$3:$L$2001),0)} -> 2.9784 | AF2: {=IFERROR(SUMPRODUCT((TRIM('DATA INPUT'!$H$3:$H$2001)=$A2)*('DATA INPUT'!$M$3:$M$2001>=20)*('DATA INPUT'!$M$3:$M$2001<30)*'DATA INPUT'!$U$3:$U$2001)/SUMPRODUCT((TRIM('DATA INPUT'!$H$3:$H$2001)=$A2)*('DATA INPUT'!$M$3:$M$2001>=20)*('DATA INPUT'!$M$3:$M$2001<30)*'DATA INPUT'!$L$3:$L$2001),0)} -> -1 | AG2: {=IFERROR(SUMPRODUCT((TRIM('DATA INPUT'!$H$3:$H$2001)=$A2)*('DATA INPUT'!$M$3:$M$2001>=30)*('DATA INPUT'!$M$3:$M$2001<40)*'DATA INPUT'!$U$3:$U$2001)/SUMPRODUCT((TRIM('DATA INPUT'!$H$3:$H$2001)=$A2)*('DATA INPUT'!$M$3:$M$2001>=30)*('DATA INPUT'!$M$3:$M$2001<40)*'DATA INPUT'!$L$3:$L$2001),0)} -> -1 | AH2: {=IFERROR(SUMPRODUCT((TRIM('DATA INPUT'!$H$3:$H$2001)=$A2)*('DATA INPUT'!$M$3:$M$2001>=40)*('DATA INPUT'!$M$3:$M$2001<50)*'DATA INPUT'!$U$3:$U$2001)/SUMPRODUCT((TRIM('DATA INPUT'!$H$3:$H$2001)=$A2)*('DATA INPUT'!$M$3:$M$2001>=40)*('DATA INPUT'!$M$3:$M$2001<50)*'DATA INPUT'!$L$3:$L$2001),0)} -> -1 | AI2: {=IFERROR(SUMPRODUCT((TRIM('DATA INPUT'!$H$3:$H$2001)=$A2)*('DATA INPUT'!$M$3:$M$2001>=50)*'DATA INPUT'!$U$3:$U$2001)/SUMPRODUCT((TRIM('DATA INPUT'!$H$3:$H$2001)=$A2)*('DATA INPUT'!$M$3:$M$2001>=50)*'DATA INPUT'!$L$3:$L$2001),0)} -> 0
A3: Caulfield | B3: {=SUMPRODUCT((TRIM('DATA INPUT'!$H$3:$H$2001)=$A3)*'DATA INPUT'!$L$3:$L$2001)} -> 402.1 | C3: =B3+D3 -> 295.988 | D3: {=SUMPRODUCT((TRIM('DATA INPUT'!$H$3:$H$2001)=$A3)*'DATA INPUT'!$U$3:$U$2001)} -> -106.112 | E3: =IFERROR(D3/B3,0) -> -0.26389455 | G3: {=SUMPRODUCT((TRIM('DATA INPUT'!$H$3:$H$2001)=$A3)*('DATA INPUT'!$M$3:$M$2001>=1)*('DATA INPUT'!$M$3:$M$2001<2)*'DATA INPUT'!$U$3:$U$2001)} -> -1 | H3: {=SUMPRODUCT((TRIM('DATA INPUT'!$H$3:$H$2001)=$A3)*('DATA INPUT'!$M$3:$M$2001>=2)*('DATA INPUT'!$M$3:$M$2001<3)*'DATA INPUT'!$U$3:$U$2001)} -> -3.154 | I3: {=SUMPRODUCT((TRIM('DATA INPUT'!$H$3:$H$2001)=$A3)*('DATA INPUT'!$M$3:$M$2001>=3)*('DATA INPUT'!$M$3:$M$2001<4)*'DATA INPUT'!$U$3:$U$2001)} -> 7.5014 | J3: {=SUMPRODUCT((TRIM('DATA INPUT'!$H$3:$H$2001)=$A3)*('DATA INPUT'!$M$3:$M$2001>=4)*('DATA INPUT'!$M$3:$M$2001<5)*'DATA INPUT'!$U$3:$U$2001)} -> -0.5814 | K3: {=SUMPRODUCT((TRIM('DATA INPUT'!$H$3:$H$2001)=$A3)*('DATA INPUT'!$M$3:$M$2001>=5)*('DATA INPUT'!$M$3:$M$2001<6)*'DATA INPUT'!$U$3:$U$2001)} -> -8.9452 | L3: {=SUMPRODUCT((TRIM('DATA INPUT'!$H$3:$H$2001)=$A3)*('DATA INPUT'!$M$3:$M$2001>=6)*('DATA INPUT'!$M$3:$M$2001<7)*'DATA INPUT'!$U$3:$U$2001)} -> -9.254 | M3: {=SUMPRODUCT((TRIM('DATA INPUT'!$H$3:$H$2001)=$A3)*('DATA INPUT'!$M$3:$M$2001>=7)*('DATA INPUT'!$M$3:$M$2001<8)*'DATA INPUT'!$U$3:$U$2001)} -> -15.5 | N3: {=SUMPRODUCT((TRIM('DATA INPUT'!$H$3:$H$2001)=$A3)*('DATA INPUT'!$M$3:$M$2001>=8)*('DATA INPUT'!$M$3:$M$2001<9)*'DATA INPUT'!$U$3:$U$2001)} -> 17.6492 | O3: {=SUMPRODUCT((TRIM('DATA INPUT'!$H$3:$H$2001)=$A3)*('DATA INPUT'!$M$3:$M$2001>=9)*('DATA INPUT'!$M$3:$M$2001<10)*'DATA INPUT'!$U$3:$U$2001)} -> -5.5972 | P3: {=SUMPRODUCT((TRIM('DATA INPUT'!$H$3:$H$2001)=$A3)*('DATA INPUT'!$M$3:$M$2001>=10)*('DATA INPUT'!$M$3:$M$2001<20)*'DATA INPUT'!$U$3:$U$2001)} -> -51.9448 | Q3: {=SUMPRODUCT((TRIM('DATA INPUT'!$H$3:$H$2001)=$A3)*('DATA INPUT'!$M$3:$M$2001>=20)*('DATA INPUT'!$M$3:$M$2001<30)*'DATA INPUT'!$U$3:$U$2001)} -> -38.5492 | R3: {=SUMPRODUCT((TRIM('DATA INPUT'!$H$3:$H$2001)=$A3)*('DATA INPUT'!$M$3:$M$2001>=30)*('DATA INPUT'!$M$3:$M$2001<40)*'DATA INPUT'!$U$3:$U$2001)} -> -42 | S3: {=SUMPRODUCT((TRIM('DATA INPUT'!$H$3:$H$2001)=$A3)*('DATA INPUT'!$M$3:$M$2001>=40)*('DATA INPUT'!$M$3:$M$2001<50)*'DATA INPUT'!$U$3:$U$2001)} -> 45.2632 | T3: {=SUMPRODUCT((TRIM('DATA INPUT'!$H$3:$H$2001)=$A3)*('DATA INPUT'!$M$3:$M$2001>=50)*'DATA INPUT'!$U$3:$U$2001)} -> 0 | V3: {=IFERROR(SUMPRODUCT((TRIM('DATA INPUT'!$H$3:$H$2001)=$A3)*('DATA INPUT'!$M$3:$M$2001>=1)*('DATA INPUT'!$M$3:$M$2001<2)*'DATA INPUT'!$U$3:$U$2001)/SUMPRODUCT((TRIM('DATA INPUT'!$H$3:$H$2001)=$A3)*('DATA INPUT'!$M$3:$M$2001>=1)*('DATA INPUT'!$M$3:$M$2001<2)*'DATA INPUT'!$L$3:$L$2001),0)} -> -1 | W3: {=IFERROR(SUMPRODUCT((TRIM('DATA INPUT'!$H$3:$H$2001)=$A3)*('DATA INPUT'!$M$3:$M$2001>=2)*('DATA INPUT'!$M$3:$M$2001<3)*'DATA INPUT'!$U$3:$U$2001)/SUMPRODUCT((TRIM('DATA INPUT'!$H$3:$H$2001)=$A3)*('DATA INPUT'!$M$3:$M$2001>=2)*('DATA INPUT'!$M$3:$M$2001<3)*'DATA INPUT'!$L$3:$L$2001),0)} -> -0.48523077 | X3: {=IFERROR(SUMPRODUCT((TRIM('DATA INPUT'!$H$3:$H$2001)=$A3)*('DATA INPUT'!$M$3:$M$2001>=3)*('DATA INPUT'!$M$3:$M$2001<4)*'DATA INPUT'!$U$3:$U$2001)/SUMPRODUCT((TRIM('DATA INPUT'!$H$3:$H$2001)=$A3)*('DATA INPUT'!$M$3:$M$2001>=3)*('DATA INPUT'!$M$3:$M$2001<4)*'DATA INPUT'!$L$3:$L$2001),0)} -> 0.78962105 | Y3: {=IFERROR(SUMPRODUCT((TRIM('DATA INPUT'!$H$3:$H$2001)=$A3)*('DATA INPUT'!$M$3:$M$2001>=4)*('DATA INPUT'!$M$3:$M$2001<5)*'DATA INPUT'!$U$3:$U$2001)/SUMPRODUCT((TRIM('DATA INPUT'!$H$3:$H$2001)=$A3)*('DATA INPUT'!$M$3:$M$2001>=4)*('DATA INPUT'!$M$3:$M$2001<5)*'DATA INPUT'!$L$3:$L$2001),0)} -> -0.033606936 | Z3: {=IFERROR(SUMPRODUCT((TRIM('DATA INPUT'!$H$3:$H$2001)=$A3)*('DATA INPUT'!$M$3:$M$2001>=5)*('DATA INPUT'!$M$3:$M$2001<6)*'DATA INPUT'!$U$3:$U$2001)/SUMPRODUCT((TRIM('DATA INPUT'!$H$3:$H$2001)=$A3)*('DATA INPUT'!$M$3:$M$2001>=5)*('DATA INPUT'!$M$3:$M$2001<6)*'DATA INPUT'!$L$3:$L$2001),0)} -> -0.63894286 | AA3: {=IFERROR(SUMPRODUCT((TRIM('DATA INPUT'!$H$3:$H$2001)=$A3)*('DATA INPUT'!$M$3:$M$2001>=6)*('DATA INPUT'!$M$3:$M$2001<7)*'DATA INPUT'!$U$3:$U$2001)/SUMPRODUCT((TRIM('DATA INPUT'!$H$3:$H$2001)=$A3)*('DATA INPUT'!$M$3:$M$2001>=6)*('DATA INPUT'!$M$3:$M$2001<7)*'DATA INPUT'!$L$3:$L$2001),0)} -> -0.51411111 | AB3: {=IFERROR(SUMPRODUCT((TRIM('DATA INPUT'!$H$3:$H$2001)=$A3)*('DATA INPUT'!$M$3:$M$2001>=7)*('DATA INPUT'!$M$3:$M$2001<8)*'DATA INPUT'!$U$3:$U$2001)/SUMPRODUCT((TRIM('DATA INPUT'!$H$3:$H$2001)=$A3)*('DATA INPUT'!$M$3:$M$2001>=7)*('DATA INPUT'!$M$3:$M$2001<8)*'DATA INPUT'!$L$3:$L$2001),0)} -> -1 | AC3: {=IFERROR(SUMPRODUCT((TRIM('DATA INPUT'!$H$3:$H$2001)=$A3)*('DATA INPUT'!$M$3:$M$2001>=8)*('DATA INPUT'!$M$3:$M$2001<9)*'DATA INPUT'!$U$3:$U$2001)/SUMPRODUCT((TRIM('DATA INPUT'!$H$3:$H$2001)=$A3)*('DATA INPUT'!$M$3:$M$2001>=8)*('DATA INPUT'!$M$3:$M$2001<9)*'DATA INPUT'!$L$3:$L$2001),0)} -> 0.88689447 | AD3: {=IFERROR(SUMPRODUCT((TRIM('DATA INPUT'!$H$3:$H$2001)=$A3)*('DATA INPUT'!$M$3:$M$2001>=9)*('DATA INPUT'!$M$3:$M$2001<10)*'DATA INPUT'!$U$3:$U$2001)/SUMPRODUCT((TRIM('DATA INPUT'!$H$3:$H$2001)=$A3)*('DATA INPUT'!$M$3:$M$2001>=9)*('DATA INPUT'!$M$3:$M$2001<10)*'DATA INPUT'!$L$3:$L$2001),0)} -> -0.25441818 | AE3: {=IFERROR(SUMPRODUCT((TRIM('DATA INPUT'!$H$3:$H$2001)=$A3)*('DATA INPUT'!$M$3:$M$2001>=10)*('DATA INPUT'!$M$3:$M$2001<20)*'DATA INPUT'!$U$3:$U$2001)/SUMPRODUCT((TRIM('DATA INPUT'!$H$3:$H$2001)=$A3)*('DATA INPUT'!$M$3:$M$2001>=10)*('DATA INPUT'!$M$3:$M$2001<20)*'DATA INPUT'!$L$3:$L$2001),0)} -> -0.32183891 | AF3: {=IFERROR(SUMPRODUCT((TRIM('DATA INPUT'!$H$3:$H$2001)=$A3)*('DATA INPUT'!$M$3:$M$2001>=20)*('DATA INPUT'!$M$3:$M$2001<30)*'DATA INPUT'!$U$3:$U$2001)/SUMPRODUCT((TRIM('DATA INPUT'!$H$3:$H$2001)=$A3)*('DATA INPUT'!$M$3:$M$2001>=20)*('DATA INPUT'!$M$3:$M$2001<30)*'DATA INPUT'!$L$3:$L$2001),0)} -> -0.58407879 | AG3: {=IFERROR(SUMPRODUCT((TRIM('DATA INPUT'!$H$3:$H$2001)=$A3)*('DATA INPUT'!$M$3:$M$2001>=30)*('DATA INPUT'!$M$3:$M$2001<40)*'DATA INPUT'!$U$3:$U$2001)/SUMPRODUCT((TRIM('DATA INPUT'!$H$3:$H$2001)=$A3)*('DATA INPUT'!$M$3:$M$2001>=30)*('DATA INPUT'!$M$3:$M$2001<40)*'DATA INPUT'!$L$3:$L$2001),0)} -> -1 | AH3: {=IFERROR(SUMPRODUCT((TRIM('DATA INPUT'!$H$3:$H$2001)=$A3)*('DATA INPUT'!$M$3:$M$2001>=40)*('DATA INPUT'!$M$3:$M$2001<50)*'DATA INPUT'!$U$3:$U$2001)/SUMPRODUCT((TRIM('DATA INPUT'!$H$3:$H$2001)=$A3)*('DATA INPUT'!$M$3:$M$2001>=40)*('DATA INPUT'!$M$3:$M$2001<50)*'DATA INPUT'!$L$3:$L$2001),0)} -> 5.0292444 | AI3: {=IFERROR(SUMPRODUCT((TRIM('DATA INPUT'!$H$3:$H$2001)=$A3)*('DATA INPUT'!$M$3:$M$2001>=50)*'DATA INPUT'!$U$3:$U$2001)/SUMPRODUCT((TRIM('DATA INPUT'!$H$3:$H$2001)=$A3)*('DATA INPUT'!$M$3:$M$2001>=50)*'DATA INPUT'!$L$3:$L$2001),0)} -> 0
