Workbook

Sheet DATA INPUT
T1: OFFICIAL RESULTS | AB1: BETFAIR LAY | AD1: RACING ODDS COMPARISON | AK1: SPORTS BEST ODDS AND LINE - EMAIL | AO1: SPORTS CLOSING ODDS AND LINE
A2: DATE | B2: ANALYST | C2: TIME SENT | D2: EVENT DAY | E2: EVENT START | F2: LOCATION | G2: SPORT | H2: ROUND | I2: TEAM | J2: NO. | K2: LINE | L2: UNITS INVESTED | M2: MARKET ADVICE | N2: MARKET TYPE | O2: MARKET LINE / TOTAL | P2: BET LINE / TOTAL | Q2: AGENCY | R2: ODDS | S2: RESULT | T2: UNITS COLLECTED | U2: P/L | V2: CUMULATIVE P/L | W2: CUMULATIVE UNITS INVESTED | X2: POT% | Y2: ROI% | Z2: PROFIT ($100 UNIT) | AA2: BET WIN LOSE | AB2: PRICE | AC2: COMMISION | AD2: EMAIL ODDS | AE2: AVAILABLE ODDS | AF2: BEST FIXED EMAIL SENT | AG2: BEST FIXED CLOSING | AH2: BETFAIR SP | AI2: BOB/BTSP | AJ2: BEST TOTE | AK2: AGENCY | AL2: EMAIL BEST LINE / TOTAL | AM2: EMAIL BEST ODDS | AN2: RESULT | AO2: CLOSING LINE | AP2: CLOSING PINNACLE | AQ2: CLOSING BETFAIR | AR2: RESULT
A3: 42822 | B3: David Barrett | D3: =TEXT(A3,"ddd") -> Tue | F3: Australia | G3: NRL | H3: 5 | I3: Bulldogs | K3: 6 | L3: 8.03 | R3: 1.87 | S3: W | T3: =IF(($AA3="W"),ROUND(($L3*$R3),2),"0.00") -> 15.02 | U3: =-$L3+T3 -> 6.99 | V3: =U3 -> 6.99 | W3: =L3 -> 8.03 | X3: =SUM(V3/W3) -> 0.87048568 | Y3: =V3/100 -> 0.0699 | Z3: =V3*100 -> 699 | AA3: W
A4: 42822 | B4: David Barrett | D4: =TEXT(A4,"ddd") -> Tue | F4: Australia | G4: NRL | H4: 5 | I4: Sea Eagles | K4: 8.5 | L4: 10.74 | R4: =R3 -> 1.87 | S4: W | T4: =IF(($AA4="W"),ROUND(($L4*$R4),2),"0.00") -> 20.08 | U4: =-$L4+T4 -> 9.34 | V4: =V3+U4 -> 16.33 | W4: =W3+L4 -> 18.77 | X4: =SUM(V4/W4) -> 0.87000533 | Y4: =V4/100 -> 0.1633 | Z4: =V4*100 -> 1633 | AA4: W
A5: 42822 | B5: David Barrett | D5: =TEXT(A5,"ddd") -> Tue | F5: Australia | G5: NRL | H5: 5 | I5: Eels | K5: 6 | L5: 2.89 | R5: =R4 -> 1.87 | S5: L | T5: =IF(($AA5="W"),ROUND(($L5*$R5),2),"0.00") -> 0.00 | U5: =-$L5+T5 -> -2.89 | V5: =V4+U5 -> 13.44 | W5: =W4+L5 -> 21.66 | X5: =SUM(V5/W5) -> 0.62049861 | Y5: =V5/100 -> 0.1344 | Z5: =V5*100 -> 1344 | AA5: L
A6: 42822 | B6: David Barrett | D6: =TEXT(A6,"ddd") -> Tue | F6: Australia | G6: NRL | H6: 5 | I6: Tigers | K6: 4.5 | L6: 4.22 | R6: =R5 -> 1.87 | S6: L | T6: =IF(($AA6="W"),ROUND(($L6*$R6),2),"0.00") -> 0.00 | U6: =-$L6+T6 -> -4.22 | V6: =V5+U6 -> 9.22 | W6: =W5+L6 -> 25.88 | X6: =SUM(V6/W6) -> 0.35625966 | Y6: =V6/100 -> 0.0922 | Z6: =V6*100 -> 922 | AA6: L
A7: 42829 | B7: David Barrett | D7: =TEXT(A7,"ddd") -> Tue | F7: Australia | G7: NRL | H7: 6 | I7: Broncos | K7: -2.5 | L7: 2.45 | R7: =R6 -> 1.87 | S7: W | T7: =IF(($AA7="W"),ROUND(($L7*$R7),2),"0.00") -> 4.58 | U7: =-$L7+T7 -> 2.13 | V7: =V6+U7 -> 11.35 | W7: =W6+L7 -> 28.33 | X7: =SUM(V7/W7) -> 0.40063537 | Y7: =V7/100 -> 0.1135 | Z7: =V7*100 -> 1135 | AA7: W
A8: 42829 | B8: David Barrett | D8: =TEXT(A8,"ddd") -> Tue | F8: Australia | G8: NRL | H8: 6 | I8: Knights | K8: 4.5 | L8: 5.87 | R8: =R7 -> 1.87 | S8: L | T8: =IF(($AA8="W"),ROUND(($L8*$R8),2),"0.00") -> 0.00 | U8: =-$L8+T8 -> -5.87 | V8: =V7+U8 -> 5.48 | W8: =W7+L8 -> 34.2 | X8: =SUM(V8/W8) -> 0.16023392 | Y8: =V8/100 -> 0.0548 | Z8: =V8*100 -> 548 | AA8: L
A9: 42829 | B9: David Barrett | D9: =TEXT(A9,"ddd") -> Tue | F9: Australia | G9: NRL | H9: 6 | I9: Panthers | K9: -3.5 | L9: 2.97 | R9: =R8 -> 1.87 | S9: L | T9: =IF(($AA9="W"),ROUND(($L9*$R9),2),"0.00") -> 0.00 | U9: =-$L9+T9 -> -2.97 | V9: =V8+U9 -> 2.51 | W9: =W8+L9 -> 37.17 | X9: =SUM(V9/W9) -> 0.067527576 | Y9: =V9/100 -> 0.0251 | Z9: =V9*100 -> 251 | AA9: L
A10: 42836 | B10: David Barrett | D10: =TEXT(A10,"ddd") -> Tue | F10: Australia | G10: NRL | H10: 7 | I10: Bulldogs | K10: 2.5 | L10: 6.66 | R10: =R9 -> 1.87 | S10: W | T10: =IF(($AA10="W"),ROUND(($L10*$R10),2),"0.00") -> 12.45 | U10: =-$L10+T10 -> 5.79 | V10: =V9+U10 -> 8.3 | W10: =W9+L10 -> 43.83 | X10: =SUM(V10/W10) -> 0.18936801 | Y10: =V10/100 -> 0.083 | Z10: =V10*100 -> 830 | AA10: W
A11: 42836 | B11: David Barrett | D11: =TEXT(A11,"ddd") -> Tue | F11: Australia | G11: NRL | H11: 7 | I11: Sea Eagles | K11: 5.5 | L11: 8.41 | R11: =R10 -> 1.87 | S11: W | T11: =IF(($AA11="W"),ROUND(($L11*$R11),2),"0.00") -> 15.73 | U11: =-$L11+T11 -> 7.32 | V11: =V10+U11 -> 15.62 | W11: =W10+L11 -> 52.24 | X11: =SUM(V11/W11) -> 0.29900459 | Y11: =V11/100 -> 0.1562 | Z11: =V11*100 -> 1562 | AA11: W
A12: 42836 | B12: David Barrett | D12: =TEXT(A12,"ddd") -> Tue | F12: Australia | G12: NRL | H12: 7 | I12: Cowboys | K12: 8.5 | L12: 5.96 | R12: =R11 -> 1.87 | S12: W | T12: =IF(($AA12="W"),ROUND(($L12*$R12),2),"0.00") -> 11.15 | U12: =-$L12+T12 -> 5.19 | V12: =V11+U12 -> 20.81 | W12: =W11+L12 -> 58.2 | X12: =SUM(V12/W12) -> 0.35756014 | Y12: =V12/100 -> 0.2081 | Z12: =V12*100 -> 2081 | AA12: W
A13: 42843 | B13: David Barrett | D13: =TEXT(A13,"ddd") -> Tue | F13: Australia | G13: NRL | H13: 8 | I13: Rabbitohs | K13: 8 | L13: 7.39 | R13: =R12 -> 1.87 | S13: W | T13: =IF(($AA13="W"),ROUND(($L13*$R13),2),"0.00") -> 13.82 | U13: =-$L13+T13 -> 6.43 | V13: =V12+U13 -> 27.24 | W13: =W12+L13 -> 65.59 | X13: =SUM(V13/W13) -> 0.41530721 | Y13: =V13/100 -> 0.2724 | Z13: =V13*100 -> 2724 | AA13: W
A14: 42843 | B14: David Barrett | D14: =TEXT(A14,"ddd") -> Tue | F14: Australia | G14: NRL | H14: 8 | I14: Eels | K14: 2.5 | L14: 3.03 | R14: =R13 -> 1.87 | S14: W | T14: =IF(($AA14="W"),ROUND(($L14*$R14),2),"0.00") -> 5.67 | U14: =-$L14+T14 -> 2.64 | V14: =V13+U14 -> 29.88 | W14: =W13+L14 -> 68.62 | X14: =SUM(V14/W14) -> 0.43544156 | Y14: =V14/100 -> 0.2988 | Z14: =V14*100 -> 2988 | AA14: W
A15: 42843 | B15: David Barrett | D15: =TEXT(A15,"ddd") -> Tue | F15: Australia | G15: NRL | H15: 8 | I15: Tigers | K15: 6 | L15: 7.61 | R15: =R14 -> 1.87 | S15: W | T15: =IF(($AA15="W"),ROUND(($L15*$R15),2),"0.00") -> 14.23 | U15: =-$L15+T15 -> 6.62 | V15: =V14+U15 -> 36.5 | W15: =W14+L15 -> 76.23 | X15: =SUM(V15/W15) -> 0.47881412 | Y15: =V15/100 -> 0.365 | Z15: =V15*100 -> 3650 | AA15: W
... A285: 43739 | B285: David Barrett | D285: =TEXT(A285,"ddd") -> Tue | F285: Australia | G285: NRL | H285: 29 | I285: Raiders | K285: 7.5 | L285: 4.5 | R285: =R284 -> 1.87 | S285: W | T285: =IF(($AA285="W"),ROUND(($L285*$R285),2),"0.00") -> 8.42 | U285: =-$L285+T285 -> 3.92 | V285: =V284+U285 -> 195.78955 | W285: =W284+L285 -> 1600.7404 | X285: =SUM(V285/W285) -> 0.12231187 | Y285: =V285/100 -> 1.9578955 | Z285: =V285*100 -> 19578.955 | AA285: W
A286: 43994 | B286: David Barrett | D286: =TEXT(A286,"ddd") -> Fri | F286: Australia | G286: NRL | H286: 5 | I286: Warriors | K286: 6.5 | L286: 7.733 | R286: 1.9 | S286: W | T286: =IF(($AA286="W"),ROUND(($L286*$R286),2),"0.00") -> 14.69 | U286: =-$L286+T286 -> 6.957 | V286: =V285+U286 -> 202.74655 | W286: =W285+L286 -> 1608.4734 | X286: =SUM(V286/W286) -> 0.12604905 | Y286: =V286/100 -> 2.0274655 | Z286: =V286*100 -> 20274.655 | AA286: W
A287: 43994 | B287: David Barrett | D287: =TEXT(A287,"ddd") -> Fri | F287: Australia | G287: NRL | H287: 5 | I287: Panthers | K287: 6.5 | L287: 3.344 | R287: 1.9 | S287: W | T287: =IF(($AA287="W"),ROUND(($L287*$R287),2),"0.00") -> 6.35 | U287: =-$L287+T287 -> 3.006 | V287: =V286+U287 -> 205.75255 | W287: =W286+L287 -> 1611.8174 | X287: =SUM(V287/W287) -> 0.12765252 | Y287: =V287/100 -> 2.0575255 | Z287: =V287*100 -> 20575.255 | AA287: W
A288: 43995 | B288: David Barrett | D288: =TEXT(A288,"ddd") -> Sat | F288: Australia | G288: NRL | H288: 5 | I288: Knights | K288: 4.5 | L288: 4.52 | R288: 1.9 | S288: L | T288: =IF(($AA288="W"),ROUND(($L288*$R288),2),"0.00") -> 0.00 | U288: =-$L288+T288 -> -4.52 | V288: =V287+U288 -> 201.23255 | W288: =W287+L288 -> 1616.3374 | X288: =SUM(V288/W288) -> 0.1244991 | Y288: =V288/100 -> 2.0123255 | Z288: =V288*100 -> 20123.255 | AA288: L
A289: 43995 | B289: David Barrett | D289: =TEXT(A289,"ddd") -> Sat | F289: Australia | G289: NRL | H289: 5 | I289: West Tigers | K289: 8.5 | L289: 11.266 | R289: 1.9 | S289: W | T289: =IF(($AA289="W"),ROUND(($L289*$R289),2),"0.00") -> 21.41 | U289: =-$L289+T289 -> 10.144 | V289: =V288+U289 -> 211.37655 | W289: =W288+L289 -> 1627.6034 | X289: =SUM(V289/W289) -> 0.12986981 | Y289: =V289/100 -> 2.1137655 | Z289: =V289*100 -> 21137.655 | AA289: W
A290: 43996 | B290: David Barrett | D290: =TEXT(A290,"ddd") -> Sun | F290: Australia | G290: NRL | H290: 5 | I290: Dragons | K290: 6.5 | L290: 7.142 | R290: 1.91 | S290: W | T290: =IF(($AA290="W"),ROUND(($L290*$R290),2),"0.00") -> 13.64 | U290: =-$L290+T290 -> 6.498 | V290: =V289+U290 -> 217.87455 | W290: =W289+L290 -> 1634.7454 | X290: =SUM(V290/W290) -> 0.13327736 | Y290: =V290/100 -> 2.1787455 | Z290: =V290*100 -> 21787.455 | AA290: W
A291: 44001 | B291: David Barrett | D291: =TEXT(A291,"ddd") -> Fri | F291: Australia | G291: NRL | H291: 6 | I291: Warriors | K291: 6.5 | L291: 4.01 | R291: 1.93 | S291: L | T291: =IF(($AA291="W"),ROUND(($L291*$R291),2),"0.00") -> 0.00 | U291: =-$L291+T291 -> -4.01 | V291: =V290+U291 -> 213.86455 | W291: =W290+L291 -> 1638.7554 | X291: =SUM(V291/W291) -> 0.13050425 | Y291: =V291/100 -> 2.1386455 | Z291: =V291*100 -> 21386.455 | AA291: L
A292: 44001 | B292: David Barrett | D292: =TEXT(A292,"ddd") -> Fri | F292: Australia | G292: NRL | H292: 6 | I292: Panthers | K292: 5.5 | L292: 10.05 | R292: 1.96 | S292: W | T292: =IF(($AA292="W"),ROUND(($L292*$R292),2),"0.00") -> 19.7 | U292: =-$L292+T292 -> 9.65 | V292: =V291+U292 -> 223.51455 | W292: =W291+L292 -> 1648.8054 | X292: =SUM(V292/W292) -> 0.13556151 | Y292: =V292/100 -> 2.2351455 | Z292: =V292*100 -> 22351.455 | AA292: W
A293: 44002 | B293: David Barrett | D293: =TEXT(A293,"ddd") -> Sat | F293: Australia | G293: NRL | H293: 6 | I293: Titans | K293: 4 | L293: 2.96 | R293: 1.91 | S293: L | T293: =IF(($AA293="W"),ROUND(($L293*$R293),2),"0.00") -> 0.00 | U293: =-$L293+T293 -> -2.96 | V293: =V292+U293 -> 220.55455 | W293: =W292+L293 -> 1651.7654 | X293: =SUM(V293/W293) -> 0.13352656 | Y293: =V293/100 -> 2.2055455 | Z293: =V293*100 -> 22055.455 | AA293: L
A294: 44002 | B294: David Barrett | D294: =TEXT(A294,"ddd") -> Sat | F294: Australia | G294: NRL | H294: 6 | I294: West Tigers | K294: -1.5 | L294: 5.02 | R294: 1.95 | S294: W | T294: =IF(($AA294="W"),ROUND(($L294*$R294),2),"0.00") -> 9.79 | U294: =-$L294+T294 -> 4.77 | V294: =V293+U294 -> 225.32455 | W294: =W293+L294 -> 1656.7854 | X294: =SUM(V294/W294) -> 0.13600105 | Y294: =V294/100 -> 2.2532455 | Z294: =V294*100 -> 22532.455 | AA294: W
A295: 44003 | B295: David Barrett | D295: =TEXT(A295,"ddd") -> Sun | F295: Australia | G295: NRL | H295: 6 | I295: Raiders | K295: -4 | L295: 2.13 | R295: 1.95 | S295: L | T295: =IF(($AA295="W"),ROUND(($L295*$R295),2),"0.00") -> 0.00 | U295: =-$L295+T295 -> -2.13 | V295: =V294+U295 -> 223.19455 | W295: =W294+L295 -> 1658.9154 | X295: =SUM(V295/W295) -> 0.13454245 | Y295: =V295/100 -> 2.2319455 | Z295: =V295*100 -> 22319.455 | AA295: L
A296: 44007 | B296: David Barrett | D296: =TEXT(A296,"ddd") -> Thu | F296: Australia | G296: NRL | H296: 7 | I296: Panthers | K296: -2 | L296: 2.84 | R296: 1.91 | S296: W | T296: =IF(($AA296="W"),ROUND(($L296*$R296),2),"0.00") -> 5.42 | U296: =-$L296+T296 -> 2.58 | V296: =V295+U296 -> 225.77455 | W296: =W295+L296 -> 1661.7554 | X296: =SUM(V296/W296) -> 0.13586509 | Y296: =V296/100 -> 2.2577455 | Z296: =V296*100 -> 22577.455 | AA296: W
A297: 44009 | B297: David Barrett | D297: =TEXT(A297,"ddd") -> Sat | F297: Australia | G297: NRL | H297: 7 | I297: Cowboys | K297: 8.5 | L297: 7.51 | R297: 1.9 | S297: W | T297: =IF(($AA297="W"),ROUND(($L297*$R297),2),"0.00") -> 14.27 | U297: =-$L297+T297 -> 6.76 | V297: =V296+U297 -> 232.53455 | W297: =W296+L297 -> 1669.2654 | X297: =SUM(V297/W297) -> 0.13930352 | Y297: =V297/100 -> 2.3253455 | Z297: =V297*100 -> 23253.455 | AA297: W
... A312: 44037 | B312: David Barrett | D312: =TEXT(A312,"ddd") -> Sat | F312: Australia | G312: NRL | H312: 11 | I312: Dragons | K312: 1.5 | L312: 2 | R312: 1.95 | S312: L | T312: =IF(($AA312="W"),ROUND(($L312*$R312),2),"0.00") -> 0.00 | U312: =-$L312+T312 -> -2 | V312: =V311+U312 -> 197.21455 | W312: =W311+L312 -> 1768.2154 | X312: =SUM(V312/W312) -> 0.1115331 | Y312: =V312/100 -> 1.9721455 | Z312: =V312*100 -> 19721.455 | AA312: L
A313: 44037 | B313: David Barrett | D313: =TEXT(A313,"ddd") -> Sat | F313: Australia | G313: NRL | H313: 11 | I313: Rabbitohs | K313: 6 | L313: 10.13 | R313: 1.9 | S313: P | T313: 10.13 | U313: =-$L313+T313 -> 0 | V313: =V312+U313 -> 197.21455 | W313: =W312+L313 -> 1778.3454 | X313: =SUM(V313/W313) -> 0.11089778 | Y313: =V313/100 -> 1.9721455 | Z313: =V313*100 -> 19721.455 | AA313: P
A314: 44042 | B314: David Barrett | D314: =TEXT(A314,"ddd") -> Thu | F314: Australia | G314: NRL | H314: 12 | I314: Dragons | K314: 4.5 | L314: 8.13 | R314: 1.9 | S314: L | T314: =IF(($AA314="W"),ROUND(($L314*$R314),2),"0.00") -> 0.00 | U314: =-$L314+T314 -> -8.13 | V314: =V313+U314 -> 189.08455 | W314: =W313+L314 -> 1786.4754 | X314: =SUM(V314/W314) -> 0.10584224 | Y314: =V314/100 -> 1.8908455 | Z314: =V314*100 -> 18908.455 | AA314: L
A315: 44043 | B315: David Barrett | D315: =TEXT(A315,"ddd") -> Fri | F315: Australia | G315: NRL | H315: 12 | I315: Broncos | K315: 3.5 | L315: 5.98 | R315: 1.9 | S315: L | T315: =IF(($AA315="W"),ROUND(($L315*$R315),2),"0.00") -> 0.00 | U315: =-$L315+T315 -> -5.98 | V315: =V314+U315 -> 183.10455 | W315: =W314+L315 -> 1792.4554 | X315: =SUM(V315/W315) -> 0.10215292 | Y315: =V315/100 -> 1.8310455 | Z315: =V315*100 -> 18310.455 | AA315: L
A316: 44044 | B316: David Barrett | D316: =TEXT(A316,"ddd") -> Sat | F316: Australia | G316: NRL | H316: 12 | I316: Cowboys | K316: 8.5 | L316: 14.54 | R316: 1.9 | S316: W | T316: =IF(($AA316="W"),ROUND(($L316*$R316),2),"0.00") -> 27.63 | U316: =-$L316+T316 -> 13.09 | V316: =V315+U316 -> 196.19455 | W316: =W315+L316 -> 1806.9954 | X316: =SUM(V316/W316) -> 0.10857501 | Y316: =V316/100 -> 1.9619455 | Z316: =V316*100 -> 19619.455 | AA316: W
A317: 44044 | B317: David Barrett | D317: =TEXT(A317,"ddd") -> Sat | F317: Australia | G317: NRL | H317: 12 | I317: Panthers | K317: -4.5 | L317: 2.22 | R317: 1.95 | S317: W | T317: =IF(($AA317="W"),ROUND(($L317*$R317),2),"0.00") -> 4.33 | U317: =-$L317+T317 -> 2.11 | V317: =V316+U317 -> 198.30455 | W317: =W316+L317 -> 1809.2154 | X317: =SUM(V317/W317) -> 0.10960804 | Y317: =V317/100 -> 1.9830455 | Z317: =V317*100 -> 19830.455 | AA317: W
A318: 44050 | B318: David Barrett | D318: =TEXT(A318,"ddd") -> Fri | F318: Australia | G318: NRL | H318: 13 | I318: Broncos | K318: 9.5 | L318: 2.34 | R318: 1.9 | S318: L | T318: =IF(($AA318="W"),ROUND(($L318*$R318),2),"0.00") -> 0.00 | U318: =-$L318+T318 -> -2.34 | V318: =V317+U318 -> 195.96455 | W318: =W317+L318 -> 1811.5554 | X318: =SUM(V318/W318) -> 0.10817475 | Y318: =V318/100 -> 1.9596455 | Z318: =V318*100 -> 19596.455 | AA318: L
A319: 44051 | B319: David Barrett | D319: =TEXT(A319,"ddd") -> Sat | F319: Australia | G319: NRL | H319: 13 | I319: Panthers | K319: -4.5 | L319: 6.56 | R319: 1.9 | S319: W | T319: =IF(($AA319="W"),ROUND(($L319*$R319),2),"0.00") -> 12.46 | U319: =-$L319+T319 -> 5.9 | V319: =V318+U319 -> 201.86455 | W319: =W318+L319 -> 1818.1154 | X319: =SUM(V319/W319) -> 0.11102956 | Y319: =V319/100 -> 2.0186455 | Z319: =V319*100 -> 20186.455 | AA319: W
A320: 44052 | B320: David Barrett | D320: =TEXT(A320,"ddd") -> Sun | F320: Australia | G320: NRL | H320: 13 | I320: Sharks | K320: 7.5 | L320: 6.23 | R320: 1.9 | S320: W | T320: =IF(($AA320="W"),ROUND(($L320*$R320),2),"0.00") -> 11.84 | U320: =-$L320+T320 -> 5.61 | V320: =V319+U320 -> 207.47455 | W320: =W319+L320 -> 1824.3454 | X320: =SUM(V320/W320) -> 0.11372548 | Y320: =V320/100 -> 2.0747455 | Z320: =V320*100 -> 20747.455 | AA320: W
A321: 44056 | B321: David Barrett | D321: =TEXT(A321,"ddd") -> Thu | F321: Australia | G321: NRL | H321: 14 | I321: Storm | K321: 8 | L321: 10.93 | R321: 1.91 | S321: W | T321: =IF(($AA321="W"),ROUND(($L321*$R321),2),"0.00") -> 20.88 | U321: =-$L321+T321 -> 9.95 | V321: =V320+U321 -> 217.42455 | W321: =W320+L321 -> 1835.2754 | X321: =SUM(V321/W321) -> 0.11846971 | Y321: =V321/100 -> 2.1742455 | Z321: =V321*100 -> 21742.455 | AA321: W
A322: 44058 | B322: David Barrett | D322: =TEXT(A322,"ddd") -> Sat | F322: Australia | G322: NRL | H322: 14 | I322: Cowboys | K322: 8 | L322: 10 | R322: 1.95 | S322: W | T322: =IF(($AA322="W"),ROUND(($L322*$R322),2),"0.00") -> 19.5 | U322: =-$L322+T322 -> 9.5 | V322: =V321+U322 -> 226.92455 | W322: =W321+L322 -> 1845.2754 | X322: =SUM(V322/W322) -> 0.12297598 | Y322: =V322/100 -> 2.2692455 | Z322: =V322*100 -> 22692.455 | AA322: W
A323: 44059 | B323: David Barrett | D323: =TEXT(A323,"ddd") -> Sun | F323: Australia | G323: NRL | H323: 14 | I323: Bulldogs | K323: 6.5 | L323: 2.24 | R323: 1.9 | S323: W | T323: =IF(($AA323="W"),ROUND(($L323*$R323),2),"0.00") -> 4.26 | U323: =-$L323+T323 -> 2.02 | V323: =V322+U323 -> 228.94455 | W323: =W322+L323 -> 1847.5154 | X323: =SUM(V323/W323) -> 0.12392024 | Y323: =V323/100 -> 2.2894455 | Z323: =V323*100 -> 22894.455 | AA323: W
A324: 44059 | B324: David Barrett | D324: =TEXT(A324,"ddd") -> Sun | F324: Australia | G324: NRL | H324: 14 | I324: Knights | K324: -7.5 | L324: 4.19 | R324: 1.9 | S324: L | T324: =IF(($AA324="W"),ROUND(($L324*$R324),2),"0.00") -> 0.00 | U324: =-$L324+T324 -> -4.19 | V324: =V323+U324 -> 224.75455 | W324: =W323+L324 -> 1851.7054 | X324: =SUM(V324/W324) -> 0.12137706 | Y324: =V324/100 -> 2.2475455 | Z324: =V324*100 -> 22475.455 | AA324: L
A325: 44063 | B325: David Barrett | D325: =TEXT(A325,"ddd") -> Thu | F325: Australia | G325: NRL | H325: 15 | I325: Storm | K325: 4.5 | L325: 6.35 | R325: 1.85 | S325: L | T325: =IF(($AA325="W"),ROUND(($L325*$R325),2),"0.00") -> 0.00 | U325: =-$L325+T325 -> -6.35 | V325: =V324+U325 -> 218.40455 | W325: =W324+L325 -> 1858.0554 | X325: =SUM(V325/W325) -> 0.11754469 | Y325: =V325/100 -> 2.1840455 | Z325: =V325*100 -> 21840.455 | AA325: L
... A367: 44339 | B367: David Barrett | D367: =TEXT(A367,"ddd") -> Sun | F367: Australia | G367: NRL | H367: 11 | I367: Sea Eagles | K367: 5.5 | L367: 5.28 | R367: 1.9 | S367: W | T367: =IF(($AA367="W"),ROUND(($L367*$R367),2),"0.00") -> 10.03 | U367: =-$L367+T367 -> 4.75 | V367: =V366+U367 -> 283.93455 | W367: =W366+L367 -> 2099.4654 | X367: =SUM(V367/W367) -> 0.13524136 | Y367: =V367/100 -> 2.8393455 | Z367: =V367*100 -> 28393.455 | AA367: W
A368: 44344 | B368: David Barrett | D368: =TEXT(A368,"ddd") -> Fri | F368: Australia | G368: NRL | H368: 12 | I368: Cowboys | K368: H2H | L368: 8.2 | R368: 1.95 | S368: W | T368: =IF(($AA368="W"),ROUND(($L368*$R368),2),"0.00") -> 15.99 | U368: =-$L368+T368 -> 7.79 | V368: =V367+U368 -> 291.72455 | W368: =W367+L368 -> 2107.6654 | X368: =SUM(V368/W368) -> 0.13841122 | Y368: =V368/100 -> 2.9172455 | Z368: =V368*100 -> 29172.455 | AA368: W
A369: 44344 | B369: David Barrett | D369: =TEXT(A369,"ddd") -> Fri | F369: Australia | G369: NRL | H369: 12 | I369: Dragons | K369: 5.5 | L369: 2.82 | R369: 2 | S369: L | T369: =IF(($AA369="W"),ROUND(($L369*$R369),2),"0.00") -> 0.00 | U369: =-$L369+T369 -> -2.82 | V369: =V368+U369 -> 288.90455 | W369: =W368+L369 -> 2110.4854 | X369: =SUM(V369/W369) -> 0.1368901 | Y369: =V369/100 -> 2.8890455 | Z369: =V369*100 -> 28890.455 | AA369: L
A370: 44345 | B370: David Barrett | D370: =TEXT(A370,"ddd") -> Sat | F370: Australia | G370: NRL | H370: 12 | I370: Eels | K370: 2.5 | L370: 7.98 | R370: 1.9 | S370: L | T370: =IF(($AA370="W"),ROUND(($L370*$R370),2),"0.00") -> 0.00 | U370: =-$L370+T370 -> -7.98 | V370: =V369+U370 -> 280.92455 | W370: =W369+L370 -> 2118.4654 | X370: =SUM(V370/W370) -> 0.13260757 | Y370: =V370/100 -> 2.8092455 | Z370: =V370*100 -> 28092.455 | AA370: L
A371: 44346 | B371: David Barrett | D371: =TEXT(A371,"ddd") -> Sun | F371: Australia | G371: NRL | H371: 12 | I371: Sharks | K371: 3.5 | L371: 4.08 | R371: 1.95 | S371: W | T371: =IF(($AA371="W"),ROUND(($L371*$R371),2),"0.00") -> 7.96 | U371: =-$L371+T371 -> 3.88 | V371: =V370+U371 -> 284.80455 | W371: =W370+L371 -> 2122.5454 | X371: =SUM(V371/W371) -> 0.13418066 | Y371: =V371/100 -> 2.8480455 | Z371: =V371*100 -> 28480.455 | AA371: W
A372: 44358 | B372: David Barrett | D372: =TEXT(A372,"ddd") -> Fri | F372: Australia | G372: NRL | H372: 14 | I372: Cowboys | K372: 9.5 | L372: 3.1 | R372: 1.9 | S372: L | T372: =IF(($AA372="W"),ROUND(($L372*$R372),2),"0.00") -> 0.00 | U372: =-$L372+T372 -> -3.1 | V372: =V371+U372 -> 281.70455 | W372: =W371+L372 -> 2125.6454 | X372: =SUM(V372/W372) -> 0.1325266 | Y372: =V372/100 -> 2.8170455 | Z372: =V372*100 -> 28170.455 | AA372: L
A373: 44358 | B373: David Barrett | D373: =TEXT(A373,"ddd") -> Fri | F373: Australia | G373: NRL | H373: 14 | I373: Sharks | K373: 9.5 | L373: 4.25 | R373: 1.9 | S373: W | T373: =IF(($AA373="W"),ROUND(($L373*$R373),2),"0.00") -> 8.08 | U373: =-$L373+T373 -> 3.83 | V373: =V372+U373 -> 285.53455 | W373: =W372+L373 -> 2129.8954 | X373: =SUM(V373/W373) -> 0.13406036 | Y373: =V373/100 -> 2.8553455 | Z373: =V373*100 -> 28553.455 | AA373: W
A374: 44380 | B374: David Barrett | D374: =TEXT(A374,"ddd") -> Sat | F374: Australia | G374: NRL | H374: 16 | I374: Raiders | K374: -6.5 | L374: 5.59 | R374: 1.9 | S374: L | T374: =IF(($AA374="W"),ROUND(($L374*$R374),2),"0.00") -> 0.00 | U374: =-$L374+T374 -> -5.59 | V374: =V373+U374 -> 279.94455 | W374: =W373+L374 -> 2135.4854 | X374: =SUM(V374/W374) -> 0.13109176 | Y374: =V374/100 -> 2.7994455 | Z374: =V374*100 -> 27994.455 | AA374: L
A375: 44380 | B375: David Barrett | D375: =TEXT(A375,"ddd") -> Sat | F375: Australia | G375: NRL | H375: 16 | I375: Cowboys | K375: H2H | L375: 2.1 | R375: 2.35 | S375: L | T375: =IF(($AA375="W"),ROUND(($L375*$R375),2),"0.00") -> 0.00 | U375: =-$L375+T375 -> -2.1 | V375: =V374+U375 -> 277.84455 | W375: =W374+L375 -> 2137.5854 | X375: =SUM(V375/W375) -> 0.12998056 | Y375: =V375/100 -> 2.7784455 | Z375: =V375*100 -> 27784.455 | AA375: L
A376: 44388 | B376: David Barrett | D376: =TEXT(A376,"ddd") -> Sun | F376: Australia | G376: NRL | H376: 17 | I376: Warriors | K376: 7.5 | L376: 4.3 | R376: 2 | S376: L | T376: =IF(($AA376="W"),ROUND(($L376*$R376),2),"0.00") -> 0.00 | U376: =-$L376+T376 -> -4.3 | V376: =V375+U376 -> 273.54455 | W376: =W375+L376 -> 2141.8854 | X376: =SUM(V376/W376) -> 0.12771204 | Y376: =V376/100 -> 2.7354455 | Z376: =V376*100 -> 27354.455 | AA376: L
A377: 44394 | B377: David Barrett | D377: =TEXT(A377,"ddd") -> Sat | F377: Australia | G377: NRL | H377: 18 | I377: Raiders | K377: 5.5 | L377: 5.7 | R377: 1.9 | S377: W | T377: =IF(($AA377="W"),ROUND(($L377*$R377),2),"0.00") -> 10.83 | U377: =-$L377+T377 -> 5.13 | V377: =V376+U377 -> 278.67455 | W377: =W376+L377 -> 2147.5854 | X377: =SUM(V377/W377) -> 0.1297618 | Y377: =V377/100 -> 2.7867455 | Z377: =V377*100 -> 27867.455 | AA377: W
A378: 44395 | B378: David Barrett | D378: =TEXT(A378,"ddd") -> Sun | F378: Australia | G378: NRL | H378: 18 | I378: Warriors | K378: 11.5 | L378: 2.2 | R378: 1.9 | S378: L | T378: =IF(($AA378="W"),ROUND(($L378*$R378),2),"0.00") -> 0.00 | U378: =-$L378+T378 -> -2.2 | V378: =V377+U378 -> 276.47455 | W378: =W377+L378 -> 2149.7854 | X378: =SUM(V378/W378) -> 0.12860565 | Y378: =V378/100 -> 2.7647455 | Z378: =V378*100 -> 27647.455 | AA378: L
A379: 44395 | B379: David Barrett | D379: =TEXT(A379,"ddd") -> Sun | F379: Australia | G379: NRL | H379: 18 | I379: West Tigers | K379: 4 | L379: 2.1 | R379: 1.9 | S379: W | T379: =IF(($AA379="W"),ROUND(($L379*$R379),2),"0.00") -> 3.99 | U379: =-$L379+T379 -> 1.89 | V379: =V378+U379 -> 278.36455 | W379: =W378+L379 -> 2151.8854 | X379: =SUM(V379/W379) -> 0.12935844 | Y379: =V379/100 -> 2.7836455 | Z379: =V379*100 -> 27836.455 | AA379: W
A380: 44402 | B380: David Barrett | D380: =TEXT(A380,"ddd") -> Sun | F380: Australia | G380: NRL | H380: 19 | I380: Dragons | K380: 6.5 | L380: 5.2 | R380: 1.9 | S380: L | T380: =IF(($AA380="W"),ROUND(($L380*$R380),2),"0.00") -> 0.00 | U380: =-$L380+T380 -> -5.2 | V380: =V379+U380 -> 273.16455 | W380: =W379+L380 -> 2157.0854 | X380: =SUM(V380/W380) -> 0.12663595 | Y380: =V380/100 -> 2.7316455 | Z380: =V380*100 -> 27316.455 | AA380: L
A381: 44407 | B381: David Barrett | D381: =TEXT(A381,"ddd") -> Fri | F381: Australia | G381: NRL | H381: 20 | I381: Broncos | K381: -1.5 | L381: 3.44 | R381: 1.95 | S381: W | T381: =IF(($AA381="W"),ROUND(($L381*$R381),2),"0.00") -> 6.71 | U381: =-$L381+T381 -> 3.27 | V381: =V380+U381 -> 276.43455 | W381: =W380+L381 -> 2160.5254 | X381: =SUM(V381/W381) -> 0.12794784 | Y381: =V381/100 -> 2.7643455 | Z381: =V381*100 -> 27643.455 | AA381: W
A382: 44413 | B382: David Barrett | D382: =TEXT(A382,"ddd") -> Thu | F382: Australia | G382: NRL | H382: 21 | I382: Broncos | K382: 9.5 | L382: 5.5 | R382: 1.9 | S382: W | T382: =IF(($AA382="W"),ROUND(($L382*$R382),2),"0.00") -> 10.45 | U382: =-$L382+T382 -> 4.95 | V382: =V381+U382 -> 281.38455 | W382: =W381+L382 -> 2166.0254 | X382: =SUM(V382/W382) -> 0.12990824 | Y382: =V382/100 -> 2.8138455 | Z382: =V382*100 -> 28138.455 | AA382: W
A383: 44416 | B383: David Barrett | D383: =TEXT(A383,"ddd") -> Sun | F383: Australia | G383: NRL | H383: 21 | I383: Bulldogs | K383: 6.5 | L383: 6.9 | R383: 1.9 | S383: L | T383: =IF(($AA383="W"),ROUND(($L383*$R383),2),"0.00") -> 0.00 | U383: =-$L383+T383 -> -6.9 | V383: =V382+U383 -> 274.48455 | W383: =W382+L383 -> 2172.9254 | X383: =SUM(V383/W383) -> 0.12632028 | Y383: =V383/100 -> 2.7448455 | Z383: =V383*100 -> 27448.455 | AA383: L
A384: 44422 | B384: David Barrett | D384: =TEXT(A384,"ddd") -> Sat | F384: Australia | G384: NRL | H384: 22 | I384: Cowboys | K384: 2.5 | L384: 5.9 | R384: 1.8 | S384: L | T384: =IF(($AA384="W"),ROUND(($L384*$R384),2),"0.00") -> 0.00 | U384: =-$L384+T384 -> -5.9 | V384: =V383+U384 -> 268.58455 | W384: =W383+L384 -> 2178.8254 | X384: =SUM(V384/W384) -> 0.12327034 | Y384: =V384/100 -> 2.6858455 | Z384: =V384*100 -> 26858.455 | AA384: L
A385: 44423 | B385: David Barrett | D385: =TEXT(A385,"ddd") -> Sun | F385: Australia | G385: NRL | H385: 22 | I385: Sharks | K385: 6.5 | L385: 5.3 | R385: 1.9 | S385: W | T385: =IF(($AA385="W"),ROUND(($L385*$R385),2),"0.00") -> 10.07 | U385: =-$L385+T385 -> 4.77 | V385: =V384+U385 -> 273.35455 | W385: =W384+L385 -> 2184.1254 | X385: =SUM(V385/W385) -> 0.12515515 | Y385: =V385/100 -> 2.7335455 | Z385: =V385*100 -> 27335.455 | AA385: W
A386: 44430 | B386: David Barrett | D386: =TEXT(A386,"ddd") -> Sun | F386: Australia | G386: NRL | H386: 23 | I386: Broncos | K386: H2H | L386: 4.4 | R386: 2.05 | S386: W | T386: =IF(($AA386="W"),ROUND(($L386*$R386),2),"0.00") -> 9.02 | U386: =-$L386+T386 -> 4.62 | V386: =V385+U386 -> 277.97455 | W386: =W385+L386 -> 2188.5254 | X386: =SUM(V386/W386) -> 0.12701454 | Y386: =V386/100 -> 2.7797455 | Z386: =V386*100 -> 27797.455 | AA386: W
A387: 44434 | B387: David Barrett | D387: =TEXT(A387,"ddd") -> Thu | F387: Australia | G387: NRL | H387: 24 | I387: Knights | K387: H2H | L387: 3.8 | R387: 1.87 | S387: W | T387: =IF(($AA387="W"),ROUND(($L387*$R387),2),"0.00") -> 7.11 | U387: =-$L387+T387 -> 3.31 | V387: =V386+U387 -> 281.28455 | W387: =W386+L387 -> 2192.3254 | X387: =SUM(V387/W387) -> 0.1283042 | Y387: =V387/100 -> 2.8128455 | Z387: =V387*100 -> 28128.455 | AA387: W
A388: 44435 | B388: David Barrett | D388: =TEXT(A388,"ddd") -> Fri | F388: Australia | G388: NRL | H388: 24 | I388: Warriors | K388: 6.5 | L388: 4 | R388: 1.91 | S388: L | T388: =IF(($AA388="W"),ROUND(($L388*$R388),2),"0.00") -> 0.00 | U388: =-$L388+T388 -> -4 | V388: =V387+U388 -> 277.28455 | W388: =W387+L388 -> 2196.3254 | X388: =SUM(V388/W388) -> 0.1262493 | Y388: =V388/100 -> 2.7728455 | Z388: =V388*100 -> 27728.455 | AA388: L
A389: 44436 | B389: David Barrett | D389: =TEXT(A389,"ddd") -> Sat | F389: Australia | G389: NRL | H389: 24 | I389: Broncos | K389: 6.5 | L389: 2 | R389: 1.87 | S389: L | T389: =IF(($AA389="W"),ROUND(($L389*$R389),2),"0.00") -> 0.00 | U389: =-$L389+T389 -> -2 | V389: =V388+U389 -> 275.28455 | W389: =W388+L389 -> 2198.3254 | X389: =SUM(V389/W389) -> 0.12522466 | Y389: =V389/100 -> 2.7528455 | Z389: =V389*100 -> 27528.455 | AA389: L
A390: 44441 | B390: David Barrett | D390: =TEXT(A390,"ddd") -> Thu | F390: Australia | G390: NRL | H390: 25 | I390: Raiders | K390: -1.5 | L390: 3.9 | R390: 1.9 | S390: L | T390: =IF(($AA390="W"),ROUND(($L390*$R390),2),"0.00") -> 0.00 | U390: =-$L390+T390 -> -3.9 | V390: =V389+U390 -> 271.38455 | W390: =W389+L390 -> 2202.2254 | X390: =SUM(V390/W390) -> 0.12323196 | Y390: =V390/100 -> 2.7138455 | Z390: =V390*100 -> 27138.455 | AA390: L
A391: 44443 | B391: David Barrett | D391: =TEXT(A391,"ddd") -> Sat | F391: Australia | G391: NRL | H391: 25 | I391: Broncos | K391: H2H | L391: 5.5 | R391: 2 | S391: W | T391: =IF(($AA391="W"),ROUND(($L391*$R391),2),"0.00") -> 11 | U391: =-$L391+T391 -> 5.5 | V391: =V390+U391 -> 276.88455 | W391: =W390+L391 -> 2207.7254 | X391: =SUM(V391/W391) -> 0.12541621 | Y391: =V391/100 -> 2.7688455 | Z391: =V391*100 -> 27688.455 | AA391: W
A392: 44444 | B392: David Barrett | D392: =TEXT(A392,"ddd") -> Sun | F392: Australia | G392: NRL | H392: 25 | I392: Bulldogs | K392: 7.5 | L392: 7 | R392: 1.9 | S392: W | T392: =IF(($AA392="W"),ROUND(($L392*$R392),2),"0.00") -> 13.3 | U392: =-$L392+T392 -> 6.3 | V392: =V391+U392 -> 283.18455 | W392: =W391+L392 -> 2214.7254 | X392: =SUM(V392/W392) -> 0.12786441 | Y392: =V392/100 -> 2.8318455 | Z392: =V392*100 -> 28318.455 | AA392: W
A393: 44449 | B393: David Barrett | D393: =TEXT(A393,"ddd") -> Fri | F393: Australia | G393: NRL | H393: 26 | I393: Sea Eagles | K393: 8.5 | L393: 4.8 | R393: 1.85 | S393: L | T393: =IF(($AA393="W"),ROUND(($L393*$R393),2),"0.00") -> 0.00 | U393: =-$L393+T393 -> -4.8 | V393: =V392+U393 -> 278.38455 | W393: =W392+L393 -> 2219.5254 | X393: =SUM(V393/W393) -> 0.12542526 | Y393: =V393/100 -> 2.7838455 | Z393: =V393*100 -> 27838.455 | AA393: L
A394: 44451 | B394: David Barrett | D394: =TEXT(A394,"ddd") -> Sun | F394: Australia | G394: NRL | H394: 26 | I394: Knights | K394: 8.5 | L394: 2 | R394: 1.85 | S394: W | T394: =IF(($AA394="W"),ROUND(($L394*$R394),2),"0.00") -> 3.7 | U394: =-$L394+T394 -> 1.7 | V394: =V393+U394 -> 280.08455 | W394: =W393+L394 -> 2221.5254 | X394: =SUM(V394/W394) -> 0.12607758 | Y394: =V394/100 -> 2.8008455 | Z394: =V394*100 -> 28008.455 | AA394: W
A395: 44472 | B395: David Barrett | D395: =TEXT(A395,"ddd") -> Sun | F395: Australia | G395: NRL | H395: 29 | I395: Panthers | K395: -3.5 | L395: 3 | R395: 1.9 | S395: L | T395: =IF(($AA395="W"),ROUND(($L395*$R395),2),"0.00") -> 0.00 | U395: =-$L395+T395 -> -3 | V395: =V394+U395 -> 277.08455 | W395: =W394+L395 -> 2224.5254 | X395: =SUM(V395/W395) -> 0.12455895 | Y395: =V395/100 -> 2.7708455 | Z395: =V395*100 -> 27708.455 | AA395: L
A396: 44652 | B396: David Barrett | D396: =TEXT(A396,"ddd") -> Fri | F396: Australia | G396: NRL | H396: 4 | I396: Panthers | K396: -7.5 | L396: 5.5 | R396: 1.9 | S396: W | T396: =IF(($AA396="W"),ROUND(($L396*$R396),2),"0.00") -> 10.45 | U396: =-$L396+T396 -> 4.95 | V396: =V395+U396 -> 282.03455 | W396: =W395+L396 -> 2230.0254 | X396: =SUM(V396/W396) -> 0.12647145 | Y396: =V396/100 -> 2.8203455 | Z396: =V396*100 -> 28203.455 | AA396: W
A397: 44653 | B397: David Barrett | D397: =TEXT(A397,"ddd") -> Sat | F397: Australia | G397: NRL | H397: 4 | I397: Warriors | K397: 4.5 | L397: 4 | R397: 1.9 | S397: W | T397: =IF(($AA397="W"),ROUND(($L397*$R397),2),"0.00") -> 7.6 | U397: =-$L397+T397 -> 3.6 | V397: =V396+U397 -> 285.63455 | W397: =W396+L397 -> 2234.0254 | X397: =SUM(V397/W397) -> 0.12785645 | Y397: =V397/100 -> 2.8563455 | Z397: =V397*100 -> 28563.455 | AA397: W
A398: 44653 | B398: David Barrett | D398: =TEXT(A398,"ddd") -> Sat | F398: Australia | G398: NRL | H398: 4 | I398: Raiders | K398: 6.5 | L398: 4.9 | R398: 1.9 | S398: L | T398: =IF(($AA398="W"),ROUND(($L398*$R398),2),"0.00") -> 0.00 | U398: =-$L398+T398 -> -4.9 | V398: =V397+U398 -> 280.73455 | W398: =W397+L398 -> 2238.9254 | X398: =SUM(V398/W398) -> 0.12538808 | Y398: =V398/100 -> 2.8073455 | Z398: =V398*100 -> 28073.455 | AA398: L
A399: 44653 | B399: David Barrett | D399: =TEXT(A399,"ddd") -> Sat | F399: Australia | G399: NRL | H399: 4 | I399: Cowboys | K399: 6.5 | L399: 3.7 | R399: 1.9 | S399: L | T399: =IF(($AA399="W"),ROUND(($L399*$R399),2),"0.00") -> 0.00 | U399: =-$L399+T399 -> -3.7 | V399: =V398+U399 -> 277.03455 | W399: =W398+L399 -> 2242.6254 | X399: =SUM(V399/W399) -> 0.12353135 | Y399: =V399/100 -> 2.7703455 | Z399: =V399*100 -> 27703.455 | AA399: L
A400: 44658 | B400: David Barrett | D400: =TEXT(A400,"ddd") -> Thu | F400: Australia | G400: NRL | H400: 5 | I400: Knights | K400: H2H | L400: 5.2 | R400: 2 | S400: L | T400: =IF(($AA400="W"),ROUND(($L400*$R400),2),"0.00") -> 0.00 | U400: =-$L400+T400 -> -5.2 | V400: =V399+U400 -> 271.83455 | W400: =W399+L400 -> 2247.8254 | X400: =SUM(V400/W400) -> 0.12093223 | Y400: =V400/100 -> 2.7183455 | Z400: =V400*100 -> 27183.455 | AA400: L
A401: 44659 | B401: David Barrett | D401: =TEXT(A401,"ddd") -> Fri | F401: Australia | G401: NRL | H401: 5 | I401: Warriors | K401: H2H | L401: 2.6 | R401: 1.96 | S401: W | T401: =IF(($AA401="W"),ROUND(($L401*$R401),2),"0.00") -> 5.1 | U401: =-$L401+T401 -> 2.5 | V401: =V400+U401 -> 274.33455 | W401: =W400+L401 -> 2250.4254 | X401: =SUM(V401/W401) -> 0.12190342 | Y401: =V401/100 -> 2.7433455 | Z401: =V401*100 -> 27433.455 | AA401: W
A402: 44665 | B402: David Barrett | D402: =TEXT(A402,"ddd") -> Thu | F402: Australia | G402: NRL | H402: 6 | I402: Cowboys | K402: 3.5 | L402: 4.4 | R402: 2 | S402: W | T402: =IF(($AA402="W"),ROUND(($L402*$R402),2),"0.00") -> 8.8 | U402: =-$L402+T402 -> 4.4 | V402: =V401+U402 -> 278.73455 | W402: =W401+L402 -> 2254.8254 | X402: =SUM(V402/W402) -> 0.12361691 | Y402: =V402/100 -> 2.7873455 | Z402: =V402*100 -> 27873.455 | AA402: W
A403: 44667 | B403: David Barrett | D403: =TEXT(A403,"ddd") -> Sat | F403: Australia | G403: NRL | H403: 6 | I403: Sharks | K403: 7.5 | L403: 4.8 | R403: 1.95 | S403: L | T403: =IF(($AA403="W"),ROUND(($L403*$R403),2),"0.00") -> 0.00 | U403: =-$L403+T403 -> -4.8 | V403: =V402+U403 -> 273.93455 | W403: =W402+L403 -> 2259.6254 | X403: =SUM(V403/W403) -> 0.12123007 | Y403: =V403/100 -> 2.7393455 | Z403: =V403*100 -> 27393.455 | AA403: L
A404: 44668 | B404: David Barrett | D404: =TEXT(A404,"ddd") -> Sun | F404: Australia | G404: NRL | H404: 6 | I404: Knights | K404: 5.5 | L404: 2.9 | R404: 1.9 | S404: W | T404: =IF(($AA404="W"),ROUND(($L404*$R404),2),"0.00") -> 5.51 | U404: =-$L404+T404 -> 2.61 | V404: =V403+U404 -> 276.54455 | W404: =W403+L404 -> 2262.5254 | X404: =SUM(V404/W404) -> 0.12222826 | Y404: =V404/100 -> 2.7654455 | Z404: =V404*100 -> 27654.455 | AA404: W
A405: 44672 | B405: David Barrett | D405: =TEXT(A405,"ddd") -> Thu | F405: Australia | G405: NRL | H405: 7 | I405: Sea Eagles | K405: 7.5 | L405: 4.5 | R405: 1.91 | S405: L | T405: =IF(($AA405="W"),ROUND(($L405*$R405),2),"0.00") -> 0.00 | U405: =-$L405+T405 -> -4.5 | V405: =V404+U405 -> 272.04455 | W405: =W404+L405 -> 2267.0254 | X405: =SUM(V405/W405) -> 0.12000066 | Y405: =V405/100 -> 2.7204455 | Z405: =V405*100 -> 27204.455 | AA405: L
A406: 44673 | B406: David Barrett | D406: =TEXT(A406,"ddd") -> Fri | F406: Australia | G406: NRL | H406: 7 | I406: Broncos | K406: -3.5 | L406: 2.8 | R406: 1.9 | S406: W | T406: =IF(($AA406="W"),ROUND(($L406*$R406),2),"0.00") -> 5.32 | U406: =-$L406+T406 -> 2.52 | V406: =V405+U406 -> 274.56455 | W406: =W405+L406 -> 2269.8254 | X406: =SUM(V406/W406) -> 0.12096285 | Y406: =V406/100 -> 2.7456455 | Z406: =V406*100 -> 27456.455 | AA406: W
A407: 44674 | B407: David Barrett | D407: =TEXT(A407,"ddd") -> Sat | F407: Australia | G407: NRL | H407: 7 | I407: Cowboys | K407: H2H | L407: 4.4 | R407: 1.91 | S407: W | T407: =IF(($AA407="W"),ROUND(($L407*$R407),2),"0.00") -> 8.4 | U407: =-$L407+T407 -> 4 | V407: =V406+U407 -> 278.56455 | W407: =W406+L407 -> 2274.2254 | X407: =SUM(V407/W407) -> 0.12248766 | Y407: =V407/100 -> 2.7856455 | Z407: =V407*100 -> 27856.455 | AA407: W
A408: 44680 | B408: David Barrett | D408: =TEXT(A408,"ddd") -> Fri | F408: Australia | G408: NRL | H408: 8 | I408: Rabbitohs | K408: -3.5 | L408: 2.3 | R408: 1.91 | S408: W | T408: =IF(($AA408="W"),ROUND(($L408*$R408),2),"0.00") -> 4.39 | U408: =-$L408+T408 -> 2.09 | V408: =V407+U408 -> 280.65455 | W408: =W407+L408 -> 2276.5254 | X408: =SUM(V408/W408) -> 0.12328198 | Y408: =V408/100 -> 2.8065455 | Z408: =V408*100 -> 28065.455 | AA408: W
A409: 44681 | B409: David Barrett | D409: =TEXT(A409,"ddd") -> Sat | F409: Australia | G409: NRL | H409: 8 | I409: Raiders | K409: H2H | L409: 2 | R409: 2.11 | S409: L | T409: =IF(($AA409="W"),ROUND(($L409*$R409),2),"0.00") -> 0.00 | U409: =-$L409+T409 -> -2 | V409: =V408+U409 -> 278.65455 | W409: =W408+L409 -> 2278.5254 | X409: =SUM(V409/W409) -> 0.122296 | Y409: =V409/100 -> 2.7865455 | Z409: =V409*100 -> 27865.455 | AA409: L
A410: 44682 | B410: David Barrett | D410: =TEXT(A410,"ddd") -> Sun | F410: Australia | G410: NRL | H410: 8 | I410: Dragons | K410: -4.5 | L410: 3.7 | R410: 1.93 | S410: W | T410: =IF(($AA410="W"),ROUND(($L410*$R410),2),"0.00") -> 7.14 | U410: =-$L410+T410 -> 3.44 | V410: =V409+U410 -> 282.09455 | W410: =W409+L410 -> 2282.2254 | X410: =SUM(V410/W410) -> 0.12360503 | Y410: =V410/100 -> 2.8209455 | Z410: =V410*100 -> 28209.455 | AA410: W
A411: 44694 | B411: David Barrett | D411: =TEXT(A411,"ddd") -> Fri | F411: Australia | G411: NRL | H411: 10 | I411: Broncos | K411: 3.5 | L411: 2.1 | R411: 1.91 | S411: W | T411: =IF(($AA411="W"),ROUND(($L411*$R411),2),"0.00") -> 4.01 | U411: =-$L411+T411 -> 1.91 | V411: =V410+U411 -> 284.00455 | W411: =W410+L411 -> 2284.3254 | X411: =SUM(V411/W411) -> 0.12432754 | Y411: =V411/100 -> 2.8400455 | Z411: =V411*100 -> 28400.455 | AA411: W
A412: 44695 | B412: David Barrett | D412: =TEXT(A412,"ddd") -> Sat | F412: Australia | G412: NRL | H412: 10 | I412: Storm | K412: 3.5 | L412: 6.2 | R412: 1.9 | S412: L | T412: =IF(($AA412="W"),ROUND(($L412*$R412),2),"0.00") -> 0.00 | U412: =-$L412+T412 -> -6.2 | V412: =V411+U412 -> 277.80455 | W412: =W411+L412 -> 2290.5254 | X412: =SUM(V412/W412) -> 0.1212842 | Y412: =V412/100 -> 2.7780455 | Z412: =V412*100 -> 27780.455 | AA412: L
A413: 44696 | B413: David Barrett | D413: =TEXT(A413,"ddd") -> Sun | F413: Australia | G413: NRL | H413: 10 | I413: Roosters | K413: 3.5 | L413: 8 | R413: 1.9 | S413: W | T413: =IF(($AA413="W"),ROUND(($L413*$R413),2),"0.00") -> 15.2 | U413: =-$L413+T413 -> 7.2 | V413: =V412+U413 -> 285.00455 | W413: =W412+L413 -> 2298.5254 | X413: =SUM(V413/W413) -> 0.12399452 | Y413: =V413/100 -> 2.8500455 | Z413: =V413*100 -> 28500.455 | AA413: W
A414: 44696 | B414: David Barrett | D414: =TEXT(A414,"ddd") -> Sun | F414: Australia | G414: NRL | H414: 10 | I414: West Tigers | K414: 8.5 | L414: 2.2 | R414: 1.91 | S414: L | T414: =IF(($AA414="W"),ROUND(($L414*$R414),2),"0.00") -> 0.00 | U414: =-$L414+T414 -> -2.2 | V414: =V413+U414 -> 282.80455 | W414: =W413+L414 -> 2300.7254 | X414: =SUM(V414/W414) -> 0.12291973 | Y414: =V414/100 -> 2.8280455 | Z414: =V414*100 -> 28280.455 | AA414: L
A415: 44701 | B415: David Barrett | D415: =TEXT(A415,"ddd") -> Fri | F415: Australia | G415: NRL | H415: 11 | I415: Sea Eagles | K415: 8.5 | L415: 4.8 | R415: 1.88 | S415: W | T415: =IF(($AA415="W"),ROUND(($L415*$R415),2),"0.00") -> 9.02 | U415: =-$L415+T415 -> 4.22 | V415: =V414+U415 -> 287.02455 | W415: =W414+L415 -> 2305.5254 | X415: =SUM(V415/W415) -> 0.1244942 | Y415: =V415/100 -> 2.8702455 | Z415: =V415*100 -> 28702.455 | AA415: W
A416: 44709 | B416: David Barrett | D416: =TEXT(A416,"ddd") -> Sat | F416: Australia | G416: NRL | H416: 12 | I416: West Tigers | K416: 8.5 | L416: 2.5 | R416: 1.9 | S416: L | T416: =IF(($AA416="W"),ROUND(($L416*$R416),2),"0.00") -> 0.00 | U416: =-$L416+T416 -> -2.5 | V416: =V415+U416 -> 284.52455 | W416: =W415+L416 -> 2308.0254 | X416: =SUM(V416/W416) -> 0.12327618 | Y416: =V416/100 -> 2.8452455 | Z416: =V416*100 -> 28452.455 | AA416: L
A417: 44709 | B417: David Barrett | D417: =TEXT(A417,"ddd") -> Sat | F417: Australia | G417: NRL | H417: 12 | I417: Sharks | K417: -1.5 | L417: 3.8 | R417: 1.9 | S417: L | T417: =IF(($AA417="W"),ROUND(($L417*$R417),2),"0.00") -> 0.00 | U417: =-$L417+T417 -> -3.8 | V417: =V416+U417 -> 280.72455 | W417: =W416+L417 -> 2311.8254 | X417: =SUM(V417/W417) -> 0.12142982 | Y417: =V417/100 -> 2.8072455 | Z417: =V417*100 -> 28072.455 | AA417: L
A418: 44710 | B418: David Barrett | D418: =TEXT(A418,"ddd") -> Sun | F418: Australia | G418: NRL | H418: 12 | I418: Bulldogs | K418: 4.5 | L418: 3.9 | R418: 1.9 | S418: L | T418: =IF(($AA418="W"),ROUND(($L418*$R418),2),"0.00") -> 0.00 | U418: =-$L418+T418 -> -3.9 | V418: =V417+U418 -> 276.82455 | W418: =W417+L418 -> 2315.7254 | X418: =SUM(V418/W418) -> 0.11954118 | Y418: =V418/100 -> 2.7682455 | Z418: =V418*100 -> 27682.455 | AA418: L
A419: 44710 | B419: David Barrett | D419: =TEXT(A419,"ddd") -> Sun | F419: Australia | G419: NRL | H419: 12 | I419: Raiders | K419: 5.5 | L419: 4.4 | R419: 1.91 | S419: L | T419: =IF(($AA419="W"),ROUND(($L419*$R419),2),"0.00") -> 0.00 | U419: =-$L419+T419 -> -4.4 | V419: =V418+U419 -> 272.42455 | W419: =W418+L419 -> 2320.1254 | X419: =SUM(V419/W419) -> 0.11741803 | Y419: =V419/100 -> 2.7242455 | Z419: =V419*100 -> 27242.455 | AA419: L
A420: 44714 | B420: David Barrett | D420: =TEXT(A420,"ddd") -> Thu | F420: Australia | G420: NRL | H420: 13 | I420: Titans | K420: 6.5 | L420: 4.3 | R420: 1.85 | S420: L | T420: =IF(($AA420="W"),ROUND(($L420*$R420),2),"0.00") -> 0.00 | U420: =-$L420+T420 -> -4.3 | V420: =V419+U420 -> 268.12455 | W420: =W419+L420 -> 2324.4254 | X420: =SUM(V420/W420) -> 0.11535089 | Y420: =V420/100 -> 2.6812455 | Z420: =V420*100 -> 26812.455 | AA420: L
A421: 44723 | B421: David Barrett | D421: =TEXT(A421,"ddd") -> Sat | F421: Australia | G421: NRL | H421: 14 | I421: Roosters | K421: 6.5 | L421: 2.3 | R421: 1.9 | S421: L | T421: =IF(($AA421="W"),ROUND(($L421*$R421),2),"0.00") -> 0.00 | U421: =-$L421+T421 -> -2.3 | V421: =V420+U421 -> 265.82455 | W421: =W420+L421 -> 2326.7254 | X421: =SUM(V421/W421) -> 0.11424835 | Y421: =V421/100 -> 2.6582455 | Z421: =V421*100 -> 26582.455 | AA421: L
... A430: 44744 | B430: David Barrett | D430: =TEXT(A430,"ddd") -> Sat | F430: Australia | G430: NRL | H430: 16 | I430: Rabbitohs | K430: 5.5 | L430: 8.8 | R430: 1.9 | S430: W | T430: =IF(($AA430="W"),ROUND(($L430*$R430),2),"0.00") -> 16.72 | U430: =-$L430+T430 -> 7.92 | V430: =V429+U430 -> 287.54455 | W430: =W429+L430 -> 2371.0254 | X430: =SUM(V430/W430) -> 0.12127434 | Y430: =V430/100 -> 2.8754455 | Z430: =V430*100 -> 28754.455 | AA430: W
A431: 44749 | B431: David Barrett | D431: =TEXT(A431,"ddd") -> Thu | F431: Australia | G431: NRL | H431: 17 | I431: Sharks | K431: H2H | L431: 3.2 | R431: 2.1 | S431: W | T431: =IF(($AA431="W"),ROUND(($L431*$R431),2),"0.00") -> 6.72 | U431: =-$L431+T431 -> 3.52 | V431: =V430+U431 -> 291.06455 | W431: =W430+L431 -> 2374.2254 | X431: =SUM(V431/W431) -> 0.12259348 | Y431: =V431/100 -> 2.9106455 | Z431: =V431*100 -> 29106.455 | AA431: W
A432: 44750 | B432: David Barrett | D432: =TEXT(A432,"ddd") -> Fri | F432: Australia | G432: NRL | H432: 17 | I432: Knights | K432: 6.5 | L432: 2.1 | R432: 1.86 | S432: L | T432: =IF(($AA432="W"),ROUND(($L432*$R432),2),"0.00") -> 0.00 | U432: =-$L432+T432 -> -2.1 | V432: =V431+U432 -> 288.96455 | W432: =W431+L432 -> 2376.3254 | X432: =SUM(V432/W432) -> 0.12160142 | Y432: =V432/100 -> 2.8896455 | Z432: =V432*100 -> 28896.455 | AA432: L
...
