Workbook

Sheet DATA INPUT
T1: OFFICIAL RESULTS | AB1: BETFAIR LAY | AD1: RACING ODDS COMPARISON | AK1: SPORTS BEST ODDS AND LINE - EMAIL | AO1: SPORTS CLOSING ODDS AND LINE
A2: DATE | B2: ANALYST | C2: TIME SENT | D2: EVENT DAY | E2: EVENT START | F2: LOCATION | G2: SPORT | H2: ROUND | I2: TEAM | J2: NO. | K2: LINE | L2: UNITS INVESTED | M2: MARKET ADVICE | N2: MARKET TYPE | O2: MARKET LINE / TOTAL | P2: BET LINE / TOTAL | Q2: AGENCY | R2: ODDS | S2: RESULT | T2: UNITS COLLECTED | U2: P/L | V2: CUMULATIVE P/L | W2: CUMULATIVE UNITS INVESTED | X2: POT% | Y2: ROI% | Z2: PROFIT ($100 UNIT) | AA2: BET WIN LOSE | AB2: PRICE | AC2: COMMISION | AD2: EMAIL ODDS | AE2: AVAILABLE ODDS | AF2: BEST FIXED EMAIL SENT | AG2: BEST FIXED CLOSING | AH2: BETFAIR SP | AI2: BOB/BTSP | AJ2: BEST TOTE | AK2: AGENCY | AL2: EMAIL BEST LINE / TOTAL | AM2: EMAIL BEST ODDS | AN2: RESULT | AO2: CLOSING LINE | AP2: CLOSING PINNACLE | AQ2: CLOSING BETFAIR | AR2: RESULT
A3: 42822 | B3: David Barrett | D3: =TEXT(A3,"ddd") -> Tue | F3: Australia | G3: NRL | H3: 5 | I3: Bulldogs | K3: 6 | L3: 8.03 | R3: 1.87 | S3: W | T3: =IF(($AA3="W"),ROUND(($L3*$R3),2),"0.00") -> 15.02 | U3: =-$L3+T3 -> 6.99 | V3: =U3 -> 6.99 | W3: =L3 -> 8.03 | X3: =SUM(V3/W3) -> 0.87048568 | Y3: =V3/100 -> 0.0699 | Z3: =V3*100 -> 699 | AA3: W
A4: 42822 | B4: David Barrett | D4: =TEXT(A4,"ddd") -> Tue | F4: Australia | G4: NRL | H4: 5 | I4: Sea Eagles | K4: 8.5 | L4: 10.74 | R4: =R3 -> 1.87 | S4: W | T4: =IF(($AA4="W"),ROUND(($L4*$R4),2),"0.00") -> 20.08 | U4: =-$L4+T4 -> 9.34 | V4: =V3+U4 -> 16.33 | W4: =W3+L4 -> 18.77 | X4: =SUM(V4/W4) -> 0.87000533 | Y4: =V4/100 -> 0.1633 | Z4: =V4*100 -> 1633 | AA4: W
A5: 42822 | B5: David Barrett | D5: =TEXT(A5,"ddd") -> Tue | F5: Australia | G5: NRL | H5: 5 | I5: Eels | K5: 6 | L5: 2.89 | R5: =R4 -> 1.87 | S5: L | T5: =IF(($AA5="W"),ROUND(($L5*$R5),2),"0.00") -> 0.00 | U5: =-$L5+T5 -> -2.89 | V5: =V4+U5 -> 13.44 | W5: =W4+L5 -> 21.66 | X5: =SUM(V5/W5) -> 0.62049861 | Y5: =V5/100 -> 0.1344 | Z5: =V5*100 -> 1344 | AA5: L
A6: 42822 | B6: David Barrett | D6: =TEXT(A6,"ddd") -> Tue | F6: Australia | G6: NRL | H6: 5 | I6: Tigers | K6: 4.5 | L6: 4.22 | R6: =R5 -> 1.87 | S6: L | T6: =IF(($AA6="W"),ROUND(($L6*$R6),2),"0.00") -> 0.00 | U6: =-$L6+T6 -> -4.22 | V6: =V5+U6 -> 9.22 | W6: =W5+L6 -> 25.88 | X6: =SUM(V6/W6) -> 0.35625966 | Y6: =V6/100 -> 0.0922 | Z6: =V6*100 -> 922 | AA6: L
A7: 42829 | B7: David Barrett | D7: =TEXT(A7,"ddd") -> Tue | F7: Australia | G7: NRL | H7: 6 | I7: Broncos | K7: -2.5 | L7: 2.45 | R7: =R6 -> 1.87 | S7: W | T7: =IF(($AA7="W"),ROUND(($L7*$R7),2),"0.00") -> 4.58 | U7: =-$L7+T7 -> 2.13 | V7: =V6+U7 -> 11.35 | W7: =W6+L7 -> 28.33 | X7: =SUM(V7/W7) -> 0.40063537 | Y7: =V7/100 -> 0.1135 | Z7: =V7*100 -> 1135 | AA7: W
A8: 42829 | B8: David Barrett | D8: =TEXT(A8,"ddd") -> Tue | F8: Australia | G8: NRL | H8: 6 | I8: Knights | K8: 4.5 | L8: 5.87 | R8: =R7 -> 1.87 | S8: L | T8: =IF(($AA8="W"),ROUND(($L8*$R8),2),"0.00") -> 0.00 | U8: =-$L8+T8 -> -5.87 | V8: =V7+U8 -> 5.48 | W8: =W7+L8 -> 34.2 | X8: =SUM(V8/W8) -> 0.16023392 | Y8: =V8/100 -> 0.0548 | Z8: =V8*100 -> 548 | AA8: L
A9: 42829 | B9: David Barrett | D9: =TEXT(A9,"ddd") -> Tue | F9: Australia | G9: NRL | H9: 6 | I9: Panthers | K9: -3.5 | L9: 2.97 | R9: =R8 -> 1.87 | S9: L | T9: =IF(($AA9="W"),ROUND(($L9*$R9),2),"0.00") -> 0.00 | U9: =-$L9+T9 -> -2.97 | V9: =V8+U9 -> 2.51 | W9: =W8+L9 -> 37.17 | X9: =SUM(V9/W9) -> 0.067527576 | Y9: =V9/100 -> 0.0251 | Z9: =V9*100 -> 251 | AA9: L
A10: 42836 | B10: David Barrett | D10: =TEXT(A10,"ddd") -> Tue | F10: Australia | G10: NRL | H10: 7 | I10: Bulldogs | K10: 2.5 | L10: 6.66 | R10: =R9 -> 1.87 | S10: W | T10: =IF(($AA10="W"),ROUND(($L10*$R10),2),"0.00") -> 12.45 | U10: =-$L10+T10 -> 5.79 | V10: =V9+U10 -> 8.3 | W10: =W9+L10 -> 43.83 | X10: =SUM(V10/W10) -> 0.18936801 | Y10: =V10/100 -> 0.083 | Z10: =V10*100 -> 830 | AA10: W
A11: 42836 | B11: David Barrett | D11: =TEXT(A11,"ddd") -> Tue | F11: Australia | G11: NRL | H11: 7 | I11: Sea Eagles | K11: 5.5 | L11: 8.41 | R11: =R10 -> 1.87 | S11: W | T11: =IF(($AA11="W"),ROUND(($L11*$R11),2),"0.00") -> 15.73 | U11: =-$L11+T11 -> 7.32 | V11: =V10+U11 -> 15.62 | W11: =W10+L11 -> 52.24 | X11: =SUM(V11/W11) -> 0.29900459 | Y11: =V11/100 -> 0.1562 | Z11: =V11*100 -> 1562 | AA11: W
A12: 42836 | B12: David Barrett | D12: =TEXT(A12,"ddd") -> Tue | F12: Australia | G12: NRL | H12: 7 | I12: Cowboys | K12: 8.5 | L12: 5.96 | R12: =R11 -> 1.87 | S12: W | T12: =IF(($AA12="W"),ROUND(($L12*$R12),2),"0.00") -> 11.15 | U12: =-$L12+T12 -> 5.19 | V12: =V11+U12 -> 20.81 | W12: =W11+L12 -> 58.2 | X12: =SUM(V12/W12) -> 0.35756014 | Y12: =V12/100 -> 0.2081 | Z12: =V12*100 -> 2081 | AA12: W
A13: 42843 | B13: David Barrett | D13: =TEXT(A13,"ddd") -> Tue | F13: Australia | G13: NRL | H13: 8 | I13: Rabbitohs | K13: 8 | L13: 7.39 | R13: =R12 -> 1.87 | S13: W | T13: =IF(($AA13="W"),ROUND(($L13*$R13),2),"0.00") -> 13.82 | U13: =-$L13+T13 -> 6.43 | V13: =V12+U13 -> 27.24 | W13: =W12+L13 -> 65.59 | X13: =SUM(V13/W13) -> 0.41530721 | Y13: =V13/100 -> 0.2724 | Z13: =V13*100 -> 2724 | AA13: W
A14: 42843 | B14: David Barrett | D14: =TEXT(A14,"ddd") -> Tue | F14: Australia | G14: NRL | H14: 8 | I14: Eels | K14: 2.5 | L14: 3.03 | R14: =R13 -> 1.87 | S14: W | T14: =IF(($AA14="W"),ROUND(($L14*$R14),2),"0.00") -> 5.67 | U14: =-$L14+T14 -> 2.64 | V14: =V13+U14 -> 29.88 | W14: =W13+L14 -> 68.62 | X14: =SUM(V14/W14) -> 0.43544156 | Y14: =V14/100 -> 0.2988 | Z14: =V14*100 -> 2988 | AA14: W
A15: 42843 | B15: David Barrett | D15: =TEXT(A15,"ddd") -> Tue | F15: Australia | G15: NRL | H15: 8 | I15: Tigers | K15: 6 | L15: 7.61 | R15: =R14 -> 1.87 | S15: W | T15: =IF(($AA15="W"),ROUND(($L15*$R15),2),"0.00") -> 14.23 | U15: =-$L15+T15 -> 6.62 | V15: =V14+U15 -> 36.5 | W15: =W14+L15 -> 76.23 | X15: =SUM(V15/W15) -> 0.47881412 | Y15: =V15/100 -> 0.365 | Z15: =V15*100 -> 3650 | AA15: W
... A285: 43739 | B285: David Barrett | D285: =TEXT(A285,"ddd") -> Tue | F285: Australia | G285: NRL | H285: 29 | I285: Raiders | K285: 7.5 | L285: 4.5 | R285: =R284 -> 1.87 | S285: W | T285: =IF(($AA285="W"),ROUND(($L285*$R285),2),"0.00") -> 8.42 | U285: =-$L285+T285 -> 3.92 | V285: =V284+U285 -> 195.78955 | W285: =W284+L285 -> 1600.7404 | X285: =SUM(V285/W285) -> 0.12231187 | Y285: =V285/100 -> 1.9578955 | Z285: =V285*100 -> 19578.955 | AA285: W
A286: 43994 | B286: David Barrett | D286: =TEXT(A286,"ddd") -> Fri | F286: Australia | G286: NRL | H286: 5 | I286: Warriors | K286: 6.5 | L286: 7.733 | R286: 1.9 | S286: W | T286: =IF(($AA286="W"),ROUND(($L286*$R286),2),"0.00") -> 14.69 | U286: =-$L286+T286 -> 6.957 | V286: =V285+U286 -> 202.74655 | W286: =W285+L286 -> 1608.4734 | X286: =SUM(V286/W286) -> 0.12604905 | Y286: =V286/100 -> 2.0274655 | Z286: =V286*100 -> 20274.655 | AA286: W
A287: 43994 | B287: David Barrett | D287: =TEXT(A287,"ddd") -> Fri | F287: Australia | G287: NRL | H287: 5 | I287: Panthers | K287: 6.5 | L287: 3.344 | R287: 1.9 | S287: W | T287: =IF(($AA287="W"),ROUND(($L287*$R287),2),"0.00") -> 6.35 | U287: =-$L287+T287 -> 3.006 | V287: =V286+U287 -> 205.75255 | W287: =W286+L287 -> 1611.8174 | X287: =SUM(V287/W287) -> 0.12765252 | Y287: =V287/100 -> 2.0575255 | Z287: =V287*100 -> 20575.255 | AA287: W
A288: 43995 | B288: David Barrett | D288: =TEXT(A288,"ddd") -> Sat | F288: Australia | G288: NRL | H288: 5 | I288: Knights | K288: 4.5 | L288: 4.52 | R288: 1.9 | S288: L | T288: =IF(($AA288="W"),ROUND(($L288*$R288),2),"0.00") -> 0.00 | U288: =-$L288+T288 -> -4.52 | V288: =V287+U288 -> 201.23255 | W288: =W287+L288 -> 1616.3374 | X288: =SUM(V288/W288) -> 0.1244991 | Y288: =V288/100 -> 2.0123255 | Z288: =V288*100 -> 20123.255 | AA288: L
A289: 43995 | B289: David Barrett | D289: =TEXT(A289,"ddd") -> Sat | F289: Australia | G289: NRL | H289: 5 | I289: West Tigers | K289: 8.5 | L289: 11.266 | R289: 1.9 | S289: W | T289: =IF(($AA289="W"),ROUND(($L289*$R289),2),"0.00") -> 21.41 | U289: =-$L289+T289 -> 10.144 | V289: =V288+U289 -> 211.37655 | W289: =W288+L289 -> 1627.6034 | X289: =SUM(V289/W289) -> 0.12986981 | Y289: =V289/100 -> 2.1137655 | Z289: =V289*100 -> 21137.655 | AA289: W
A290: 43996 | B290: David Barrett | D290: =TEXT(A290,"ddd") -> Sun | F290: Australia | G290: NRL | H290: 5 | I290: Dragons | K290: 6.5 | L290: 7.142 | R290: 1.91 | S290: W | T290: =IF(($AA290="W"),ROUND(($L290*$R290),2),"0.00") -> 13.64 | U290: =-$L290+T290 -> 6.498 | V290: =V289+U290 -> 217.87455 | W290: =W289+L290 -> 1634.7454 | X290: =SUM(V290/W290) -> 0.13327736 | Y290: =V290/100 -> 2.1787455 | Z290: =V290*100 -> 21787.455 | AA290: W
A291: 44001 | B291: David Barrett | D291: =TEXT(A291,"ddd") -> Fri | F291: Australia | G291: NRL | H291: 6 | I291: Warriors | K291: 6.5 | L291: 4.01 | R291: 1.93 | S291: L | T291: =IF(($AA291="W"),ROUND(($L291*$R291),2),"0.00") -> 0.00 | U291: =-$L291+T291 -> -4.01 | V291: =V290+U291 -> 213.86455 | W291: =W290+L291 -> 1638.7554 | X291: =SUM(V291/W291) -> 0.13050425 | Y291: =V291/100 -> 2.1386455 | Z291: =V291*100 -> 21386.455 | AA291: L
A292: 44001 | B292: David Barrett | D292: =TEXT(A292,"ddd") -> Fri | F292: Australia | G292: NRL | H292: 6 | I292: Panthers | K292: 5.5 | L292: 10.05 | R292: 1.96 | S292: W | T292: =IF(($AA292="W"),ROUND(($L292*$R292),2),"0.00") -> 19.7 | U292: =-$L292+T292 -> 9.65 | V292: =V291+U292 -> 223.51455 | W292: =W291+L292 -> 1648.8054 | X292: =SUM(V292/W292) -> 0.13556151 | Y292: =V292/100 -> 2.2351455 | Z292: =V292*100 -> 22351.455 | AA292: W
A293: 44002 | B293: David Barrett | D293: =TEXT(A293,"ddd") -> Sat | F293: Australia | G293: NRL | H293: 6 | I293: Titans | K293: 4 | L293: 2.96 | R293: 1.91 | S293: L | T293: =IF(($AA293="W"),ROUND(($L293*$R293),2),"0.00") -> 0.00 | U293: =-$L293+T293 -> -2.96 | V293: =V292+U293 -> 220.55455 | W293: =W292+L293 -> 1651.7654 | X293: =SUM(V293/W293) -> 0.13352656 | Y293: =V293/100 -> 2.2055455 | Z293: =V293*100 -> 22055.455 | AA293: L
A294: 44002 | B294: David Barrett | D294: =TEXT(A294,"ddd") -> Sat | F294: Australia | G294: NRL | H294: 6 | I294: West Tigers | K294: -1.5 | L294: 5.02 | R294: 1.95 | S294: W | T294: =IF(($AA294="W"),ROUND(($L294*$R294),2),"0.00") -> 9.79 | U294: =-$L294+T294 -> 4.77 | V294: =V293+U294 -> 225.32455 | W294: =W293+L294 -> 1656.7854 | X294: =SUM(V294/W294) -> 0.13600105 | Y294: =V294/100 -> 2.2532455 | Z294: =V294*100 -> 22532.455 | AA294: W
A295: 44003 | B295: David Barrett | D295: =TEXT(A295,"ddd") -> Sun | F295: Australia | G295: NRL | H295: 6 | I295: Raiders | K295: -4 | L295: 2.13 | R295: 1.95 | S295: L | T295: =IF(($AA295="W"),ROUND(($L295*$R295),2),"0.00") -> 0.00 | U295: =-$L295+T295 -> -2.13 | V295: =V294+U295 -> 223.19455 | W295: =W294+L295 -> 1658.9154 | X295: =SUM(V295/W295) -> 0.13454245 | Y295: =V295/100 -> 2.2319455 | Z295: =V295*100 -> 22319.455 | AA295: L
A296: 44007 | B296: David Barrett | D296: =TEXT(A296,"ddd") -> Thu | F296: Australia | G296: NRL | H296: 7 | I296: Panthers | K296: -2 | L296: 2.84 | R296: 1.91 | S296: W | T296: =IF(($AA296="W"),ROUND(($L296*$R296),2),"0.00") -> 5.42 | U296: =-$L296+T296 -> 2.58 | V296: =V295+U296 -> 225.77455 | W296: =W295+L296 -> 1661.7554 | X296: =SUM(V296/W296) -> 0.13586509 | Y296: =V296/100 -> 2.2577455 | Z296: =V296*100 -> 22577.455 | AA296: W
A297: 44009 | B297: David Barrett | D297: =TEXT(A297,"ddd") -> Sat | F297: Australia | G297: NRL | H297: 7 | I297: Cowboys | K297: 8.5 | L297: 7.51 | R297: 1.9 | S297: W | T297: =IF(($AA297="W"),ROUND(($L297*$R297),2),"0.00") -> 14.27 | U297: =-$L297+T297 -> 6.76 | V297: =V296+U297 -> 232.53455 | W297: =W296+L297 -> 1669.2654 | X297: =SUM(V297/W297) -> 0.13930352 | Y297: =V297/100 -> 2.3253455 | Z297: =V297*100 -> 23253.455 | AA297: W
... A312: 44037 | B312: David Barrett | D312: =TEXT(A312,"ddd") -> Sat | F312: Australia | G312: NRL | H312: 11 | I312: Dragons | K312: 1.5 | L312: 2 | R312: 1.95 | S312: L | T312: =IF(($AA312="W"),ROUND(($L312*$R312),2),"0.00") -> 0.00 | U312: =-$L312+T312 -> -2 | V312: =V311+U312 -> 197.21455 | W312: =W311+L312 -> 1768.2154 | X312: =SUM(V312/W312) -> 0.1115331 | Y312: =V312/100 -> 1.9721455 | Z312: =V312*100 -> 19721.455 | AA312: L
A313: 44037 | B313: David Barrett | D313: =TEXT(A313,"ddd") -> Sat | F313: Australia | G313: NRL | H313: 11 | I313: Rabbitohs | K313: 6 | L313: 10.13 | R313: 1.9 | S313: P | T313: 10.13 | U313: =-$L313+T313 -> 0 | V313: =V312+U313 -> 197.21455 | W313: =W312+L313 -> 1778.3454 | X313: =SUM(V313/W313) -> 0.11089778 | Y313: =V313/100 -> 1.9721455 | Z313: =V313*100 -> 19721.455 | AA313: P
A314: 44042 | B314: David Barrett | D314: =TEXT(A314,"ddd") -> Thu | F314: Australia | G314: NRL | H314: 12 | I314: Dragons | K314: 4.5 | L314: 8.13 | R314: 1.9 | S314: L | T314: =IF(($AA314="W"),ROUND(($L314*$R314),2),"0.00") -> 0.00 | U314: =-$L314+T314 -> -8.13 | V314: =V313+U314 -> 189.08455 | W314: =W313+L314 -> 1786.4754 | X314: =SUM(V314/W314) -> 0.10584224 | Y314: =V314/100 -> 1.8908455 | Z314: =V314*100 -> 18908.455 | AA314: L
A315: 44043 | B315: David Barrett | D315: =TEXT(A315,"ddd") -> Fri | F315: Australia | G315: NRL | H315: 12 | I315: Broncos | K315: 3.5 | L315: 5.98 | R315: 1.9 | S315: L | T315: =IF(($AA315="W"),ROUND(($L315*$R315),2),"0.00") -> 0.00 | U315: =-$L315+T315 -> -5.98 | V315: =V314+U315 -> 183.10455 | W315: =W314+L315 -> 1792.4554 | X315: =SUM(V315/W315) -> 0.10215292 | Y315: =V315/100 -> 1.8310455 | Z315: =V315*100 -> 18310.455 | AA315: L
A316: 44044 | B316: David Barrett | D316: =TEXT(A316,"ddd") -> Sat | F316: Australia | G316: NRL | H316: 12 | I316: Cowboys | K316: 8.5 | L316: 14.54 | R316: 1.9 | S316: W | T316: =IF(($AA316="W"),ROUND(($L316*$R316),2),"0.00") -> 27.63 | U316: =-$L316+T316 -> 13.09 | V316: =V315+U316 -> 196.19455 | W316: =W315+L316 -> 1806.9954 | X316: =SUM(V316/W316) -> 0.10857501 | Y316: =V316/100 -> 1.9619455 | Z316: =V316*100 -> 19619.455 | AA316: W
A317: 44044 | B317: David Barrett | D317: =TEXT(A317,"ddd") -> Sat | F317: Australia | G317: NRL | H317: 12 | I317: Panthers | K317: -4.5 | L317: 2.22 | R317: 1.95 | S317: W | T317: =IF(($AA317="W"),ROUND(($L317*$R317),2),"0.00") -> 4.33 | U317: =-$L317+T317 -> 2.11 | V317: =V316+U317 -> 198.30455 | W317: =W316+L317 -> 1809.2154 | X317: =SUM(V317/W317) -> 0.10960804 | Y317: =V317/100 -> 1.9830455 | Z317: =V317*100 -> 19830.455 | AA317: W
A318: 44050 | B318: David Barrett | D318: =TEXT(A318,"ddd") -> Fri | F318: Australia | G318: NRL | H318: 13 | I318: Broncos | K318: 9.5 | L318: 2.34 | R318: 1.9 | S318: L | T318: =IF(($AA318="W"),ROUND(($L318*$R318),2),"0.00") -> 0.00 | U318: =-$L318+T318 -> -2.34 | V318: =V317+U318 -> 195.96455 | W318: =W317+L318 -> 1811.5554 | X318: =SUM(V318/W318) -> 0.10817475 | Y318: =V318/100 -> 1.9596455 | Z318: =V318*100 -> 19596.455 | AA318: L
A319: 44051 | B319: David Barrett | D319: =TEXT(A319,"ddd") -> Sat | F319: Australia | G319: NRL | H319: 13 | I319: Panthers | K319: -4.5 | L319: 6.56 | R319: 1.9 | S319: W | T319: =IF(($AA319="W"),ROUND(($L319*$R319),2),"0.00") -> 12.46 | U319: =-$L319+T319 -> 5.9 | V319: =V318+U319 -> 201.86455 | W319: =W318+L319 -> 1818.1154 | X319: =SUM(V319/W319) -> 0.11102956 | Y319: =V319/100 -> 2.0186455 | Z319: =V319*100 -> 20186.455 | AA319: W
A320: 44052 | B320: David Barrett | D320: =TEXT(A320,"ddd") -> Sun | F320: Australia | G320: NRL | H320: 13 | I320: Sharks | K320: 7.5 | L320: 6.23 | R320: 1.9 | S320: W | T320: =IF(($AA320="W"),ROUND(($L320*$R320),2),"0.00") -> 11.84 | U320: =-$L320+T320 -> 5.61 | V320: =V319+U320 -> 207.47455 | W320: =W319+L320 -> 1824.3454 | X320: =SUM(V320/W320) -> 0.11372548 | Y320: =V320/100 -> 2.0747455 | Z320: =V320*100 -> 20747.455 | AA320: W
A321: 44056 | B321: David Barrett | D321: =TEXT(A321,"ddd") -> Thu | F321: Australia | G321: NRL | H321: 14 | I321: Storm | K321: 8 | L321: 10.93 | R321: 1.91 | S321: W | T321: =IF(($AA321="W"),ROUND(($L321*$R321),2),"0.00") -> 20.88 | U321: =-$L321+T321 -> 9.95 | V321: =V320+U321 -> 217.42455 | W321: =W320+L321 -> 1835.2754 | X321: =SUM(V321/W321) -> 0.11846971 | Y321: =V321/100 -> 2.1742455 | Z321: =V321*100 -> 21742.455 | AA321: W
A322: 44058 | B322: David Barrett | D322: =TEXT(A322,"ddd") -> Sat | F322: Australia | G322: NRL | H322: 14 | I322: Cowboys | K322: 8 | L322: 10 | R322: 1.95 | S322: W | T322: =IF(($AA322="W"),ROUND(($L322*$R322),2),"0.00") -> 19.5 | U322: =-$L322+T322 -> 9.5 | V322: =V321+U322 -> 226.92455 | W322: =W321+L322 -> 1845.2754 | X322: =SUM(V322/W322) -> 0.12297598 | Y322: =V322/100 -> 2.2692455 | Z322: =V322*100 -> 22692.455 | AA322: W
A323: 44059 | B323: David Barrett | D323: =TEXT(A323,"ddd") -> Sun | F323: Australia | G323: NRL | H323: 14 | I323: Bulldogs | K323: 6.5 | L323: 2.24 | R323: 1.9 | S323: W | T323: =IF(($AA323="W"),ROUND(($L323*$R323),2),"0.00") -> 4.26 | U323: =-$L323+T323 -> 2.02 | V323: =V322+U323 -> 228.94455 | W323: =W322+L323 -> 1847.5154 | X323: =SUM(V323/W323) -> 0.12392024 | Y323: =V323/100 -> 2.2894455 | Z323: =V323*100 -> 22894.455 | AA323: W
...
